From mboxrd@z Thu Jan  1 00:00:00 1970
Return-Path: <test-report-bounces@dpdk.org>
Received: from mails.dpdk.org (mails.dpdk.org [217.70.189.124])
	by inbox.dpdk.org (Postfix) with ESMTP id D2AB2431E2
	for <public@inbox.dpdk.org>; Mon, 23 Oct 2023 16:41:04 +0200 (CEST)
Received: from mails.dpdk.org (localhost [127.0.0.1])
	by mails.dpdk.org (Postfix) with ESMTP id CBD3F4027E;
	Mon, 23 Oct 2023 16:41:04 +0200 (CEST)
Received: from mail-pg1-f225.google.com (mail-pg1-f225.google.com
 [209.85.215.225])
 by mails.dpdk.org (Postfix) with ESMTP id A8A2C4027E
 for <test-report@dpdk.org>; Mon, 23 Oct 2023 16:41:03 +0200 (CEST)
Received: by mail-pg1-f225.google.com with SMTP id
 41be03b00d2f7-5a9bc2ec556so1966454a12.0
 for <test-report@dpdk.org>; Mon, 23 Oct 2023 07:41:03 -0700 (PDT)
DKIM-Signature: v=1; a=rsa-sha256; c=relaxed/relaxed;
 d=iol.unh.edu; s=unh-iol; t=1698072063; x=1698676863; darn=dpdk.org;
 h=cc:to:from:subject:message-id:date:from:to:cc:subject:date
 :message-id:reply-to;
 bh=z8vR8pdnfRmjVfHTR67EjErSHGTPFu342Yb3+i7fcZ0=;
 b=herXdHS4ssIas0b0+ZIyNZ1OI4nHOXjbjQ3tZEWbXwly4chj7+s1CVEZVQRU/CLByz
 sW3ASuBZ91YIjv1cFpwG2X3z3sP5Z3E17FCH53f1rS14JBIS1tFsciGHZ1juBJEwtMx/
 uQCr+9GyHSrEsxZLki71hcPqKJNe2yd5BecIE=
X-Google-DKIM-Signature: v=1; a=rsa-sha256; c=relaxed/relaxed;
 d=1e100.net; s=20230601; t=1698072063; x=1698676863;
 h=cc:to:from:subject:message-id:date:x-gm-message-state:from:to:cc
 :subject:date:message-id:reply-to;
 bh=z8vR8pdnfRmjVfHTR67EjErSHGTPFu342Yb3+i7fcZ0=;
 b=smWfK89lmY51tq1bZssF6MeErkgzx19BMGDtZtl02ziqUD6Cg14EfmALKbFVh3086K
 9mT6wzlnyVLWSesInG2QI5sDC59NfLbywoWuRn8M+blMg0DbnL/vjMaZnyB/L8l3xUpg
 k2bndL/uDn82TWK5hJOtbn3xjIbxYCgPZd29qeRRwyNzVrJ/GhnKfLUE/+2CivdUM40o
 FWLElZ4qtZ7qZ/MxuhZ+kuUfT1pXSV3N0Dxd61KlDw3zxNkcUfGXdtnGRStjyVezPGyu
 YtQ9KvWg8Dx32p7jx07egkQBmmQqTO1EZIMl9NnqF4GsjE760TeaSHnEC9vyOTN3foP6
 Fopw==
X-Gm-Message-State: AOJu0YzrNinn6tibGuE0DVaqalYdQbYI6YSJwE30INws7J+5EbqwUSuh
 lupn6Pk47SVYekRd31zclK6XNwTx5MD2OSHtYRLIdpT+Vf3sr55HWS4muPONjGionBjlUbC6Bg=
 =
X-Google-Smtp-Source: AGHT+IHXlnJRnN+P+lfoSJ+dNercRQ+RpNv6l06fz1tCQou38LCnlDoTzN5+Oh3dyfhlzDdHTHN+HjSUmj4Q
X-Received: by 2002:a17:902:f686:b0:1c8:7489:56e2 with SMTP id
 l6-20020a170902f68600b001c8748956e2mr6643517plg.35.1698072062821; 
 Mon, 23 Oct 2023 07:41:02 -0700 (PDT)
Received: from postal.iol.unh.edu (postal.iol.unh.edu.
 [2606:4100:3880:1234::84]) by smtp-relay.gmail.com with ESMTPS id
 jd10-20020a170903260a00b001c4713a7c92sm311882plb.69.2023.10.23.07.41.02
 (version=TLS1_2 cipher=ECDHE-ECDSA-AES128-GCM-SHA256 bits=128/128);
 Mon, 23 Oct 2023 07:41:02 -0700 (PDT)
X-Relaying-Domain: iol.unh.edu
Date: Mon, 23 Oct 2023 07:41:02 -0700 (PDT)
Message-ID: <653685fe.170a0220.36ddb.a1c3SMTPIN_ADDED_MISSING@mx.google.com>
Received: from [172.21.0.2] (unknown [172.18.0.240])
 by postal.iol.unh.edu (Postfix) with ESMTP id 455FC6073BBC;
 Mon, 23 Oct 2023 10:41:02 -0400 (EDT)
Subject: |SUCCESS| pw133174 [PATCH] [v2] eal: support lcore usage ratio
From: dpdklab@iol.unh.edu
To: Test Report <test-report@dpdk.org>
Cc: Chengwen Feng <fengchengwen@huawei.com>
Content-Type: text/plain
X-BeenThere: test-report@dpdk.org
X-Mailman-Version: 2.1.29
Precedence: list
List-Id: automatic DPDK test reports <test-report.dpdk.org>
List-Unsubscribe: <https://mails.dpdk.org/options/test-report>,
 <mailto:test-report-request@dpdk.org?subject=unsubscribe>
List-Archive: <http://mails.dpdk.org/archives/test-report/>
List-Post: <mailto:test-report@dpdk.org>
List-Help: <mailto:test-report-request@dpdk.org?subject=help>
List-Subscribe: <https://mails.dpdk.org/listinfo/test-report>,
 <mailto:test-report-request@dpdk.org?subject=subscribe>
Errors-To: test-report-bounces@dpdk.org

Test-Label: iol-unit-amd64-testing
Test-Status: SUCCESS
http://dpdk.org/patch/133174

_Testing PASS_

Submitter: Chengwen Feng <fengchengwen@huawei.com>
Date: Monday, October 23 2023 12:29:29 
DPDK git baseline: Repo:dpdk
  Branch: master
  CommitID:2cd2cf0cc53a508c4bd951a980ec534a646260de

133174 --> testing pass

Test environment and result as below:

+-----------------+----------------+
|   Environment   | dpdk_unit_test |
+=================+================+
| CentOS Stream 8 | PASS           |
+-----------------+----------------+
| CentOS Stream 9 | PASS           |
+-----------------+----------------+
| Debian Bullseye | PASS           |
+-----------------+----------------+


CentOS Stream 8
	Kernel: 4.18.0-240.10.1.el8_3.x86_64
	Compiler: gcc 8.4.1 20200928

CentOS Stream 9
	Kernel: 4.18.0-240.10.1.el8_3.x86_64
	Compiler: gcc 11.3.1 20220421

Debian Bullseye
	Kernel: 5.4.0-122-generic
	Compiler: gcc 10.2.1-6

To view detailed results, visit:
https://lab.dpdk.org/results/dashboard/patchsets/28040/

UNH-IOL DPDK Community Lab

To manage your email subscriptions, visit: 
https://lab.dpdk.org/results/dashboard/preferences/subscriptions/