From mboxrd@z Thu Jan  1 00:00:00 1970
Return-Path: <test-report-bounces@dpdk.org>
Received: from mails.dpdk.org (mails.dpdk.org [217.70.189.124])
	by inbox.dpdk.org (Postfix) with ESMTP id B33F4431F0
	for <public@inbox.dpdk.org>; Tue, 24 Oct 2023 19:12:18 +0200 (CEST)
Received: from mails.dpdk.org (localhost [127.0.0.1])
	by mails.dpdk.org (Postfix) with ESMTP id ADB4A4021D;
	Tue, 24 Oct 2023 19:12:18 +0200 (CEST)
Received: from mail-yw1-f227.google.com (mail-yw1-f227.google.com
 [209.85.128.227])
 by mails.dpdk.org (Postfix) with ESMTP id 591C44021D
 for <test-report@dpdk.org>; Tue, 24 Oct 2023 19:12:17 +0200 (CEST)
Received: by mail-yw1-f227.google.com with SMTP id
 00721157ae682-5ac376d311aso22253777b3.1
 for <test-report@dpdk.org>; Tue, 24 Oct 2023 10:12:17 -0700 (PDT)
DKIM-Signature: v=1; a=rsa-sha256; c=relaxed/relaxed;
 d=iol.unh.edu; s=unh-iol; t=1698167537; x=1698772337; darn=dpdk.org;
 h=cc:to:from:subject:message-id:date:from:to:cc:subject:date
 :message-id:reply-to;
 bh=89V7ARnKaWLzBAEv+o74++M0eqOsHhMClgwOg5eTfcU=;
 b=CNLTmEZdSf6gUoV6Nple/a+s+4V1fhV19irNZPOsqog3EKQYMRpslA6hEIP0KHMvLe
 1cn9vUXS8lb3SI5NxhDPp0lrVUA3B4aPH/V7ip1wDla6XJ/ZyiqFfGIl9DSBqVklLlwI
 jbd57Zy08U/FjVSD7pBaQdi9Sr/mK6Yp/myBc=
X-Google-DKIM-Signature: v=1; a=rsa-sha256; c=relaxed/relaxed;
 d=1e100.net; s=20230601; t=1698167537; x=1698772337;
 h=cc:to:from:subject:message-id:date:x-gm-message-state:from:to:cc
 :subject:date:message-id:reply-to;
 bh=89V7ARnKaWLzBAEv+o74++M0eqOsHhMClgwOg5eTfcU=;
 b=T7eRIruF0Rw57Tv8qoilSVvlqVhanooaaxsZ/FVv8Y79gq7mWlgt+qutoYBdrOYqVd
 TqAKAAljN+NCT7B/0A6KZOPuOgDLlMqvjcjHfFOPTXRxRBuOGzzPvOMZZh5L3e1Wvnmx
 rmp3HkmHOuqpcGL01wfFcdl3BtVnjEt86IKd4BQBXPyszaiHu1La25wEDgNnqszdSb/s
 bSHFUGTBTSQkChpwR8R3mOf98Vl5uqf5h6uQcBy3IuId/qyvvIT7jXkvUjqg95SjSbjF
 J2FtSMWJTWS8fJLjdvYk0GNExk5laSZVSjdEX3MTCGG/EURqkZmhbJwu3VXCkgbBiQNZ
 OBKw==
X-Gm-Message-State: AOJu0Yw/xcPGpePB8mkkyKVUw7Ndnw7Xw4iZ0FSm1/SKfx5lo6d6anmI
 AN9c4SushUJbGowiiQthfxakarYRVOme6kO+K4sxIEJDz3mvorzuX/9ppHMNAFQoEOYNL07pqQ=
 =
X-Google-Smtp-Source: AGHT+IHxRnI5Tm5J4w79R1Y63wJgoU2rpp71ErTvrxfqx7L2GhGiSQY3FN2VgeUuyzy4sTcy83FKi4eW6g6y
X-Received: by 2002:a81:52d8:0:b0:5a8:7cb2:15d1 with SMTP id
 g207-20020a8152d8000000b005a87cb215d1mr14235819ywb.24.1698167536843; 
 Tue, 24 Oct 2023 10:12:16 -0700 (PDT)
Received: from postal.iol.unh.edu (postal.iol.unh.edu.
 [2606:4100:3880:1234::84]) by smtp-relay.gmail.com with ESMTPS id
 l71-20020a0de24a000000b005a7c92d7745sm1232192ywe.13.2023.10.24.10.12.16
 (version=TLS1_2 cipher=ECDHE-ECDSA-AES128-GCM-SHA256 bits=128/128);
 Tue, 24 Oct 2023 10:12:16 -0700 (PDT)
X-Relaying-Domain: iol.unh.edu
Date: Tue, 24 Oct 2023 10:12:16 -0700 (PDT)
Message-ID: <6537faf0.0d0a0220.e59a9.0824SMTPIN_ADDED_MISSING@mx.google.com>
Received: from [172.21.0.2] (unknown [172.18.0.240])
 by postal.iol.unh.edu (Postfix) with ESMTP id 88B936073BBC;
 Tue, 24 Oct 2023 13:12:16 -0400 (EDT)
Subject: |SUCCESS| pw133267 [PATCH] vhost: make experimental API's stable
From: dpdklab@iol.unh.edu
To: Test Report <test-report@dpdk.org>
Cc: dpdk-test-reports@iol.unh.edu
Content-Type: text/plain
X-BeenThere: test-report@dpdk.org
X-Mailman-Version: 2.1.29
Precedence: list
List-Id: automatic DPDK test reports <test-report.dpdk.org>
List-Unsubscribe: <https://mails.dpdk.org/options/test-report>,
 <mailto:test-report-request@dpdk.org?subject=unsubscribe>
List-Archive: <http://mails.dpdk.org/archives/test-report/>
List-Post: <mailto:test-report@dpdk.org>
List-Help: <mailto:test-report-request@dpdk.org?subject=help>
List-Subscribe: <https://mails.dpdk.org/listinfo/test-report>,
 <mailto:test-report-request@dpdk.org?subject=subscribe>
Errors-To: test-report-bounces@dpdk.org

Test-Label: iol-unit-amd64-testing
Test-Status: SUCCESS
http://dpdk.org/patch/133267

_Testing PASS_

Submitter: Stephen Hemminger <stephen@networkplumber.org>
Date: Tuesday, October 24 2023 16:31:23 
DPDK git baseline: Repo:dpdk
  Branch: master
  CommitID:2a0557d1ea21c3f63a212385348c97c414970e81

133267 --> testing pass

Test environment and result as below:

+---------------------+----------------+
|     Environment     | dpdk_unit_test |
+=====================+================+
| Debian Buster       | PASS           |
+---------------------+----------------+
| CentOS Stream 9     | PASS           |
+---------------------+----------------+
| Debian Bullseye     | PASS           |
+---------------------+----------------+
| CentOS Stream 8     | PASS           |
+---------------------+----------------+
| Windows Server 2019 | PASS           |
+---------------------+----------------+


Debian Buster
	Kernel: 5.4.0-122-generic
	Compiler: gcc 8.3.0-6

CentOS Stream 9
	Kernel: 4.18.0-240.10.1.el8_3.x86_64
	Compiler: gcc 11.3.1 20220421

Debian Bullseye
	Kernel: 5.4.0-122-generic
	Compiler: gcc 10.2.1-6

CentOS Stream 8
	Kernel: 4.18.0-240.10.1.el8_3.x86_64
	Compiler: gcc 8.4.1 20200928

Windows Server 2019
	Kernel: 10.0
	Compiler: clang 14.0 and gcc 8.1.0 (MinGW)

To view detailed results, visit:
https://lab.dpdk.org/results/dashboard/patchsets/28055/

UNH-IOL DPDK Community Lab

To manage your email subscriptions, visit: 
https://lab.dpdk.org/results/dashboard/preferences/subscriptions/