From mboxrd@z Thu Jan  1 00:00:00 1970
Return-Path: <test-report-bounces@dpdk.org>
Received: from mails.dpdk.org (mails.dpdk.org [217.70.189.124])
	by inbox.dpdk.org (Postfix) with ESMTP id 4835F431F0
	for <public@inbox.dpdk.org>; Tue, 24 Oct 2023 19:18:34 +0200 (CEST)
Received: from mails.dpdk.org (localhost [127.0.0.1])
	by mails.dpdk.org (Postfix) with ESMTP id 438444021D;
	Tue, 24 Oct 2023 19:18:34 +0200 (CEST)
Received: from mail-io1-f100.google.com (mail-io1-f100.google.com
 [209.85.166.100])
 by mails.dpdk.org (Postfix) with ESMTP id 6990C4021D
 for <test-report@dpdk.org>; Tue, 24 Oct 2023 19:18:32 +0200 (CEST)
Received: by mail-io1-f100.google.com with SMTP id
 ca18e2360f4ac-7a94c5538aeso89255439f.3
 for <test-report@dpdk.org>; Tue, 24 Oct 2023 10:18:32 -0700 (PDT)
DKIM-Signature: v=1; a=rsa-sha256; c=relaxed/relaxed;
 d=iol.unh.edu; s=unh-iol; t=1698167912; x=1698772712; darn=dpdk.org;
 h=cc:to:from:subject:message-id:date:from:to:cc:subject:date
 :message-id:reply-to;
 bh=Cp3KFMDDJv3gT3klfTfv6MnmXLBupUSZgNh/VKu1cZ8=;
 b=BLNnzvn/p42yZ1BeJc4jVoaKXR1rzrPh4eptcf2wdGNhnhTZOpYWAqpFqH23OZyKqF
 ADEwaS7Zz9AfWeunzL3nPuoM5nFSqN9a1k7etowilwmSmtb+pH+cU4yKKSvuCgCXngXR
 UML9Fxh26BH1WCbrbnsQKISsOH5kGnuZKYDSc=
X-Google-DKIM-Signature: v=1; a=rsa-sha256; c=relaxed/relaxed;
 d=1e100.net; s=20230601; t=1698167912; x=1698772712;
 h=cc:to:from:subject:message-id:date:x-gm-message-state:from:to:cc
 :subject:date:message-id:reply-to;
 bh=Cp3KFMDDJv3gT3klfTfv6MnmXLBupUSZgNh/VKu1cZ8=;
 b=DF6mntMh+S4epevL4OR7SvjC7owhEdswv8JQ63EpAADhbos6gnTCMcTyFwtLZV46wY
 C9GQLXkBfyA2b6OioCOceE6h2IEcoGFF5SDJqq7PnGEjdbrh7fRv4KGmZ1FBvbi+Lmv0
 mfzodO1jkmmjZLIv24eQ9/1MJsFjdMXMg/KLGQeXmW141viURFPJne5geSYk91yvZZ/P
 BQAwNTtvswx7v36GANz1Gv9o15L6Dlq46Ree728KCdAumzYLCrvYMe8AooF9yQt7UXIR
 kvZmE21rqWWPebA6T9GSpfZ9KPOca8MmFWqk5JGJFA79PHIL9VvQA02BktA3bwsHnC9B
 Me0A==
X-Gm-Message-State: AOJu0YyD8QCO7UypuWsCGNVQ0NAhoi8TGki+m7FFJT22+zBWoAW5m+vU
 Czbc+yRD0LZnBcHbK72kXawweCo9NOcW1mSrMNqQKrwDHwLz79KeNZu8bQ==
X-Google-Smtp-Source: AGHT+IGQaitct/GlUu9XqWj2AJMa+hlxABFNJdO5uIzoOKLDvajXsqnsEO6OV5tzJl3Nij7uWfC51BoiaACM
X-Received: by 2002:a05:6602:2b0e:b0:7a6:8299:cc4f with SMTP id
 p14-20020a0566022b0e00b007a68299cc4fmr17174730iov.21.1698167911809; 
 Tue, 24 Oct 2023 10:18:31 -0700 (PDT)
Received: from postal.iol.unh.edu (postal.iol.unh.edu. [132.177.123.84])
 by smtp-relay.gmail.com with ESMTPS id
 k9-20020a02c649000000b0043d30e6c5c7sm510829jan.5.2023.10.24.10.18.31
 (version=TLS1_2 cipher=ECDHE-ECDSA-AES128-GCM-SHA256 bits=128/128);
 Tue, 24 Oct 2023 10:18:31 -0700 (PDT)
X-Relaying-Domain: iol.unh.edu
Date: Tue, 24 Oct 2023 10:18:31 -0700 (PDT)
Message-ID: <6537fc67.020a0220.13055.fb47SMTPIN_ADDED_MISSING@mx.google.com>
Received: from [172.21.0.3] (unknown [172.18.0.240])
 by postal.iol.unh.edu (Postfix) with ESMTP id 585706073BBC;
 Tue, 24 Oct 2023 13:18:31 -0400 (EDT)
Subject: |SUCCESS| pw133267 [PATCH] vhost: make experimental API's stable
From: dpdklab@iol.unh.edu
To: Test Report <test-report@dpdk.org>
Cc: dpdk-test-reports@iol.unh.edu
Content-Type: text/plain
X-BeenThere: test-report@dpdk.org
X-Mailman-Version: 2.1.29
Precedence: list
List-Id: automatic DPDK test reports <test-report.dpdk.org>
List-Unsubscribe: <https://mails.dpdk.org/options/test-report>,
 <mailto:test-report-request@dpdk.org?subject=unsubscribe>
List-Archive: <http://mails.dpdk.org/archives/test-report/>
List-Post: <mailto:test-report@dpdk.org>
List-Help: <mailto:test-report-request@dpdk.org?subject=help>
List-Subscribe: <https://mails.dpdk.org/listinfo/test-report>,
 <mailto:test-report-request@dpdk.org?subject=subscribe>
Errors-To: test-report-bounces@dpdk.org

Test-Label: iol-compile-arm64-testing
Test-Status: SUCCESS
http://dpdk.org/patch/133267

_Testing PASS_

Submitter: Stephen Hemminger <stephen@networkplumber.org>
Date: Tuesday, October 24 2023 16:31:23 
DPDK git baseline: Repo:dpdk
  Branch: master
  CommitID:2a0557d1ea21c3f63a212385348c97c414970e81

133267 --> testing pass

Test environment and result as below:

+----------------------------------------+--------------------+
|              Environment               | dpdk_meson_compile |
+========================================+====================+
| Ubuntu 20.04 ARM SVE                   | PASS               |
+----------------------------------------+--------------------+
| Ubuntu 20.04 ARM GCC Cross Compile     | PASS               |
+----------------------------------------+--------------------+
| Fedora 38 (ARM)                        | PASS               |
+----------------------------------------+--------------------+
| Fedora 37 (ARM)                        | PASS               |
+----------------------------------------+--------------------+
| Ubuntu 20.04 aarch32 GCC Cross Compile | PASS               |
+----------------------------------------+--------------------+
| CentOS Stream 9 (ARM)                  | PASS               |
+----------------------------------------+--------------------+
| Debian 11 (Buster) (ARM)               | PASS               |
+----------------------------------------+--------------------+
| Ubuntu 20.04 (ARM)                     | PASS               |
+----------------------------------------+--------------------+
| Ubuntu 20.04 ARM Clang Cross Compile   | PASS               |
+----------------------------------------+--------------------+


Ubuntu 20.04 ARM SVE
	Kernel: 5.4.0-80-generic
	Compiler: gcc 10.3.0 (Ubuntu 10.3.0-1ubuntu1~20.04)

Ubuntu 20.04 ARM GCC Cross Compile
	Kernel: 5.4.0-72-generic
	Compiler: aarch64-linux-gnu-gcc (Ubuntu 9.3.0-17ubuntu1~20.04) 9.3.0

Fedora 38 (ARM)
	Kernel: Depends on container host
	Compiler: gcc 13.1.1

Fedora 37 (ARM)
	Kernel: Depends on container host
	Compiler: gcc 12.3.1

Ubuntu 20.04 aarch32 GCC Cross Compile
	Kernel: 5.4.0-72-generic
	Compiler: gcc 9.3.0

CentOS Stream 9 (ARM)
	Kernel: Container Host Kernel
	Compiler: gcc 11.3.1

Debian 11 (Buster) (ARM)
	Kernel: Container Host Kernel
	Compiler: gcc 10.2.1

Ubuntu 20.04 (ARM)
	Kernel: Container Host Kernel
	Compiler: gcc 9.4.0

Ubuntu 20.04 ARM Clang Cross Compile
	Kernel: 5.4.0-72-generic
	Compiler: clang version 10.0.0-4ubuntu1

To view detailed results, visit:
https://lab.dpdk.org/results/dashboard/patchsets/28055/

UNH-IOL DPDK Community Lab

To manage your email subscriptions, visit: 
https://lab.dpdk.org/results/dashboard/preferences/subscriptions/