From mboxrd@z Thu Jan 1 00:00:00 1970 Return-Path: Received: from mails.dpdk.org (mails.dpdk.org [217.70.189.124]) by inbox.dpdk.org (Postfix) with ESMTP id C79864316B for ; Mon, 30 Oct 2023 08:36:27 +0100 (CET) Received: from mails.dpdk.org (localhost [127.0.0.1]) by mails.dpdk.org (Postfix) with ESMTP id A1FA040A7D; Mon, 30 Oct 2023 08:36:27 +0100 (CET) Received: from mail-pg1-f226.google.com (mail-pg1-f226.google.com [209.85.215.226]) by mails.dpdk.org (Postfix) with ESMTP id D6068402BC for ; Mon, 30 Oct 2023 08:36:14 +0100 (CET) Received: by mail-pg1-f226.google.com with SMTP id 41be03b00d2f7-5a9bc2ec556so2740099a12.0 for ; Mon, 30 Oct 2023 00:36:14 -0700 (PDT) DKIM-Signature: v=1; a=rsa-sha256; c=relaxed/relaxed; d=iol.unh.edu; s=unh-iol; t=1698651374; x=1699256174; darn=dpdk.org; h=cc:to:from:subject:message-id:date:from:to:cc:subject:date :message-id:reply-to; bh=QM51AbVqF3J5qHP4QRiS1gY1X2AnfvHSmmqfuoVXTSc=; b=d2TLkux7gRV/e4NJgoRygWGWDEHken/eaxuTv2hVwsuIzAPGtPVuRMf20I80wBJ/rN 5OLv1+B8IelyqS5aCct+smd7BrfLEbdenXKjd8TwtguIGG4nja2ssM0B+bZLTHPwVGgu GyRypHETAeN6VOyb4Q9//GCLCIOZhgOLmmhYg= X-Google-DKIM-Signature: v=1; a=rsa-sha256; c=relaxed/relaxed; d=1e100.net; s=20230601; t=1698651374; x=1699256174; h=cc:to:from:subject:message-id:date:x-gm-message-state:from:to:cc :subject:date:message-id:reply-to; bh=QM51AbVqF3J5qHP4QRiS1gY1X2AnfvHSmmqfuoVXTSc=; b=g4VI0S1NVaOjDvHtL7ABp7sh9/iP5HVHiB5NgsaGrTXOBusEpjjmATVSy4QxXi4qV3 PV/GRwQgHlUG2f96hhbuW2sNDePNbeonC/5unf6EZ8C2rhkNHkwwnMEpf3fBxjks0y5a 6PJaXHUm2ACboxmXRTYArVfb40Eztf6LOZ7aVgQkh30oOyKuvW3rubA29W8ju5Pq77T7 g6P94KccsX6hB7IpA1/7Qe2yHxSTn8tabIj+rEetA7eH4miiOEGKukjyIt9zb7YUTf+6 yVOyj6qgD6HT5BybJIVI7kbeyEWEnvKlVllfcHOvLEMe1wQVVzn8oIEqKendNhOhNCh7 IWpw== X-Gm-Message-State: AOJu0YyF8trRG1hSMcfe8T1etohggFJafOjb1OvYXtUACZojerO6iVCK BG0/19fI8XSH2epkZhIyqL1057wo3bvUwEv/opE5q+5gadR7Dq/K3l+CyjVC/sCwQ3jQ4p/i4w= = X-Google-Smtp-Source: AGHT+IHMs3LH+qJHAKrUuhwErc96zAn0EsShpNp2cPXSl/k6eCRoWuACqK90+CoPwaM5dJ15D7a7d5vsFuvC X-Received: by 2002:a05:6a20:2447:b0:16b:d853:90be with SMTP id t7-20020a056a20244700b0016bd85390bemr7498948pzc.25.1698651374099; Mon, 30 Oct 2023 00:36:14 -0700 (PDT) Received: from postal.iol.unh.edu (postal.iol.unh.edu. [2606:4100:3880:1234::84]) by smtp-relay.gmail.com with ESMTPS id e12-20020a170902b78c00b001c60a47ccfesm597296pls.101.2023.10.30.00.36.13 (version=TLS1_2 cipher=ECDHE-ECDSA-AES128-GCM-SHA256 bits=128/128); Mon, 30 Oct 2023 00:36:14 -0700 (PDT) X-Relaying-Domain: iol.unh.edu Date: Mon, 30 Oct 2023 00:36:14 -0700 (PDT) Message-ID: <653f5cee.170a0220.94764.f234SMTPIN_ADDED_MISSING@mx.google.com> Received: from [172.21.0.2] (unknown [172.18.0.240]) by postal.iol.unh.edu (Postfix) with ESMTP id 4DEAB6051827; Mon, 30 Oct 2023 03:36:13 -0400 (EDT) Subject: |SUCCESS| pw133623 [PATCH] test/crypto: fix mbuf port in Rx inject From: dpdklab@iol.unh.edu To: Test Report Cc: dpdk-test-reports@iol.unh.edu Content-Type: text/plain X-BeenThere: test-report@dpdk.org X-Mailman-Version: 2.1.29 Precedence: list List-Id: automatic DPDK test reports List-Unsubscribe: , List-Archive: List-Post: List-Help: List-Subscribe: , Errors-To: test-report-bounces@dpdk.org Test-Label: iol-compile-amd64-testing Test-Status: SUCCESS http://dpdk.org/patch/133623 _Testing PASS_ Submitter: Rahul Bhansali Date: Monday, October 30 2023 06:45:42 DPDK git baseline: Repo:dpdk Branch: master CommitID:8fa22e1f79aae7dfc7a9eb77034e555e155e5e2a 133623 --> testing pass Test environment and result as below: +---------------------+--------------------+----------------------+ | Environment | dpdk_meson_compile | dpdk_mingw64_compile | +=====================+====================+======================+ | FreeBSD 13 | PASS | SKIPPED | +---------------------+--------------------+----------------------+ | Fedora 37 | PASS | SKIPPED | +---------------------+--------------------+----------------------+ | CentOS Stream 9 | PASS | SKIPPED | +---------------------+--------------------+----------------------+ | Windows Server 2019 | PASS | PASS | +---------------------+--------------------+----------------------+ | Fedora 38 | PASS | SKIPPED | +---------------------+--------------------+----------------------+ | Ubuntu 22.04 | PASS | SKIPPED | +---------------------+--------------------+----------------------+ | Alpine | PASS | SKIPPED | +---------------------+--------------------+----------------------+ | CentOS Stream 8 | PASS | SKIPPED | +---------------------+--------------------+----------------------+ | Debian Bullseye | PASS | SKIPPED | +---------------------+--------------------+----------------------+ | Ubuntu 20.04 | PASS | SKIPPED | +---------------------+--------------------+----------------------+ FreeBSD 13 Kernel: 13.0 Compiler: clang 11.0.1 Fedora 37 Kernel: Depends on container host system Compiler: gcc 12.3.1 CentOS Stream 9 Kernel: 4.18.0-240.10.1.el8_3.x86_64 Compiler: gcc 11.3.1 20220421 Windows Server 2019 Kernel: 10.0 Compiler: clang 14.0 and gcc 8.1.0 (MinGW) Fedora 38 Kernel: Depends on container host Compiler: gcc 13.1.1 Ubuntu 22.04 Kernel: 4.18.0-240.10.1.el8_3.x86_64 Compiler: gcc 11.3.0 Alpine Kernel: 5.4.0-73-generic Compiler: gcc (Alpine 10.3.1_git20210424) 10.3.1 20210424 CentOS Stream 8 Kernel: 4.18.0-240.10.1.el8_3.x86_64 Compiler: gcc 8.4.1 20200928 Debian Bullseye Kernel: 5.4.0-122-generic Compiler: gcc 10.2.1-6 Ubuntu 20.04 Kernel: 5.4.0-153-generic Compiler: gcc 9.4.0-1ubuntu1~20.04.1 To view detailed results, visit: https://lab.dpdk.org/results/dashboard/patchsets/28140/ UNH-IOL DPDK Community Lab To manage your email subscriptions, visit: https://lab.dpdk.org/results/dashboard/preferences/subscriptions/