From mboxrd@z Thu Jan 1 00:00:00 1970 Return-Path: Received: from mails.dpdk.org (mails.dpdk.org [217.70.189.124]) by inbox.dpdk.org (Postfix) with ESMTP id DA4084316B for ; Mon, 30 Oct 2023 08:37:39 +0100 (CET) Received: from mails.dpdk.org (localhost [127.0.0.1]) by mails.dpdk.org (Postfix) with ESMTP id D378B40285; Mon, 30 Oct 2023 08:37:39 +0100 (CET) Received: from mail-oo1-f99.google.com (mail-oo1-f99.google.com [209.85.161.99]) by mails.dpdk.org (Postfix) with ESMTP id 84440402BC for ; Mon, 30 Oct 2023 08:36:26 +0100 (CET) Received: by mail-oo1-f99.google.com with SMTP id 006d021491bc7-581b6b93bd1so2467162eaf.1 for ; Mon, 30 Oct 2023 00:36:26 -0700 (PDT) DKIM-Signature: v=1; a=rsa-sha256; c=relaxed/relaxed; d=iol.unh.edu; s=unh-iol; t=1698651386; x=1699256186; darn=dpdk.org; h=cc:to:from:subject:message-id:date:from:to:cc:subject:date :message-id:reply-to; bh=V8c3FizZGXU2f2gTiUQS3iZ740hNI33PZU3RoxI5Cys=; b=HbMofifUGdIrmrP3hbLQgzSpbrg4nIy0X0JW0k1NEFx3H/l2Pln52DyIghFl5nPeE0 p0yKYwcGn7lp7juuEhZOH71Y3IkvWJLlC2R2hzO6qqNkTKkMLggdiq+cBBMzHB2Y1kTJ yUt9vD76+FDj9+q/yF2daE0A/t2j3uHEYiiws= X-Google-DKIM-Signature: v=1; a=rsa-sha256; c=relaxed/relaxed; d=1e100.net; s=20230601; t=1698651386; x=1699256186; h=cc:to:from:subject:message-id:date:x-gm-message-state:from:to:cc :subject:date:message-id:reply-to; bh=V8c3FizZGXU2f2gTiUQS3iZ740hNI33PZU3RoxI5Cys=; b=odg6R2Mk3EG+LNzmVV5RwGPk3w7rjZpJqIJjAR8S6qqllq/FxOvURRQIJYlqDV/rVe gbqCFsr9+7do0vboUt06QIUbjD4hbawBvno667wNkkUe1fMobrELg/ewEHozBWta4juf g2ipXyKMDUADKOZWO64Yl5ojPGT/OHaUJRWqEqGUo1vRkZRyhpQxYs6KswApy1wnYh7B HX/9PFFYfvUNStq+uLwtnLfIvyu6MXqzFfSzz19/CkT4KVSS4fUmogBX5VK6DVxfabVD JwYmRlss5sf/v8VWJjFAAuq77RmbXG9cTwpeQ1FLC3ZkHnCmKSQoncVDEzTfyovQscPz 40qQ== X-Gm-Message-State: AOJu0YxxZKv8ebAqbELaJ0wd4V3ZDijUDXLiJVLImSU8jsLu/SdiZh2k DkhCKCH2Cj9MyP4GMhhzVPzA+xeFvXN/BOyHcxNINFbFzWb4v1xWHmhsgA== X-Google-Smtp-Source: AGHT+IG15XGhBRD+7ytUyQdtruxHCL/96hWdNNPwmMz1zhWxzZez9HZA/cJSUsWk/aHcyDLZ4B08WXmtFDyF X-Received: by 2002:a4a:e1c6:0:b0:57b:3b48:6f11 with SMTP id n6-20020a4ae1c6000000b0057b3b486f11mr9209531oot.4.1698651385810; Mon, 30 Oct 2023 00:36:25 -0700 (PDT) Received: from postal.iol.unh.edu (postal.iol.unh.edu. [132.177.123.84]) by smtp-relay.gmail.com with ESMTPS id u127-20020a4a5785000000b00583822f6a25sm984209ooa.25.2023.10.30.00.36.25 (version=TLS1_2 cipher=ECDHE-ECDSA-AES128-GCM-SHA256 bits=128/128); Mon, 30 Oct 2023 00:36:25 -0700 (PDT) X-Relaying-Domain: iol.unh.edu Date: Mon, 30 Oct 2023 00:36:25 -0700 (PDT) Message-ID: <653f5cf9.4a0a0220.1b9d8.ae2aSMTPIN_ADDED_MISSING@mx.google.com> Received: from [172.21.0.2] (unknown [172.18.0.240]) by postal.iol.unh.edu (Postfix) with ESMTP id 051386051827; Mon, 30 Oct 2023 03:36:25 -0400 (EDT) Subject: |SUCCESS| pw133623 [PATCH] test/crypto: fix mbuf port in Rx inject From: dpdklab@iol.unh.edu To: Test Report Cc: dpdk-test-reports@iol.unh.edu Content-Type: text/plain X-BeenThere: test-report@dpdk.org X-Mailman-Version: 2.1.29 Precedence: list List-Id: automatic DPDK test reports List-Unsubscribe: , List-Archive: List-Post: List-Help: List-Subscribe: , Errors-To: test-report-bounces@dpdk.org Test-Label: iol-compile-arm64-testing Test-Status: SUCCESS http://dpdk.org/patch/133623 _Testing PASS_ Submitter: Rahul Bhansali Date: Monday, October 30 2023 06:45:42 DPDK git baseline: Repo:dpdk Branch: master CommitID:8fa22e1f79aae7dfc7a9eb77034e555e155e5e2a 133623 --> testing pass Test environment and result as below: +--------------------------------------+--------------------+ | Environment | dpdk_meson_compile | +======================================+====================+ | Ubuntu 20.04 ARM SVE | PASS | +--------------------------------------+--------------------+ | Fedora 38 (ARM) | PASS | +--------------------------------------+--------------------+ | Debian 11 (Buster) (ARM) | PASS | +--------------------------------------+--------------------+ | Ubuntu 20.04 (ARM) | PASS | +--------------------------------------+--------------------+ | Fedora 37 (ARM) | PASS | +--------------------------------------+--------------------+ | CentOS Stream 9 (ARM) | PASS | +--------------------------------------+--------------------+ | Ubuntu 20.04 ARM Clang Cross Compile | PASS | +--------------------------------------+--------------------+ Ubuntu 20.04 ARM SVE Kernel: 5.4.0-80-generic Compiler: gcc 10.3.0 (Ubuntu 10.3.0-1ubuntu1~20.04) Fedora 38 (ARM) Kernel: Depends on container host Compiler: gcc 13.1.1 Debian 11 (Buster) (ARM) Kernel: Container Host Kernel Compiler: gcc 10.2.1 Ubuntu 20.04 (ARM) Kernel: Container Host Kernel Compiler: gcc 9.4.0 Fedora 37 (ARM) Kernel: Depends on container host Compiler: gcc 12.3.1 CentOS Stream 9 (ARM) Kernel: Container Host Kernel Compiler: gcc 11.3.1 Ubuntu 20.04 ARM Clang Cross Compile Kernel: 5.4.0-72-generic Compiler: clang version 10.0.0-4ubuntu1 To view detailed results, visit: https://lab.dpdk.org/results/dashboard/patchsets/28140/ UNH-IOL DPDK Community Lab To manage your email subscriptions, visit: https://lab.dpdk.org/results/dashboard/preferences/subscriptions/