From mboxrd@z Thu Jan 1 00:00:00 1970 Return-Path: Received: from mails.dpdk.org (mails.dpdk.org [217.70.189.124]) by inbox.dpdk.org (Postfix) with ESMTP id F3A424316B for ; Mon, 30 Oct 2023 08:37:39 +0100 (CET) Received: from mails.dpdk.org (localhost [127.0.0.1]) by mails.dpdk.org (Postfix) with ESMTP id EFC0440A7F; Mon, 30 Oct 2023 08:37:39 +0100 (CET) Received: from mail-yw1-f228.google.com (mail-yw1-f228.google.com [209.85.128.228]) by mails.dpdk.org (Postfix) with ESMTP id AB62140285 for ; Mon, 30 Oct 2023 08:37:31 +0100 (CET) Received: by mail-yw1-f228.google.com with SMTP id 00721157ae682-5a7c011e113so39497367b3.1 for ; Mon, 30 Oct 2023 00:37:31 -0700 (PDT) DKIM-Signature: v=1; a=rsa-sha256; c=relaxed/relaxed; d=iol.unh.edu; s=unh-iol; t=1698651451; x=1699256251; darn=dpdk.org; h=cc:to:from:subject:message-id:date:from:to:cc:subject:date :message-id:reply-to; bh=hLAyRC3iOSlCuNpUIWsvBZF9DPctz5h+9JIm+49u5Kw=; b=QoFFSPNXIwOo8pJONtnzOxcbBC0FHzovKuNjngeF+h7L1sbtG7HbvFGf1GwTa8AbPW +iHVYJsQlueBsOQfBT+uwMVTcra9hjwrPyauFYnMLH//m+y2fwfH8dxl+Aypunp2xy66 zZSsmWF/cpytpOKfZza/1cyyK1JgXsKnc/XW8= X-Google-DKIM-Signature: v=1; a=rsa-sha256; c=relaxed/relaxed; d=1e100.net; s=20230601; t=1698651451; x=1699256251; h=cc:to:from:subject:message-id:date:x-gm-message-state:from:to:cc :subject:date:message-id:reply-to; bh=hLAyRC3iOSlCuNpUIWsvBZF9DPctz5h+9JIm+49u5Kw=; b=p90i46uNVDeC2b0AHMlNxHXxstH6jHTD2AZ6/40UkpjH3s0xneUJD16k5slIeUdVbw ExyyhFz645k/iC0QvSqi+MOM/qTq1w2mXNg1wE/Ko3u9TTlgFtM5RGxcmfhnlLxwZLa2 SKc7abLrT4z/W/lwqtF3eB3qFdwMr4rBw2eJVdxkyn06Y4pQggSSufngJQPppzjpCTX8 F/cai5rKl+1hElOGEEPlstGJMnvA+qjEM9XKRFoLtHoAS/bWlhNm98wLwsJANxgPFvfT dZM2t8rQTovpM4f9Gv+98qHZmpkbHTC2QUeSW99qGWxodHYVVC8ti0l576xs6m5cT77b /ceg== X-Gm-Message-State: AOJu0YwoPi0KXDJ745VZAcj1NCKQTHLF5/MJlYOFQAhpwXHZ1I0tox4C 1RXoC8mWYb8wdvWrmwN43gIEgYxGYHisef6KfSgYQyWxxMRSql7tEKw/jA== X-Google-Smtp-Source: AGHT+IFt/8HGpBaHuRFjTr56XLrKgsFA3lfbWZy8qi+geuJhTLlgw4C6WBKKvP7NUBxjybCRGU1ZraIyt7MV X-Received: by 2002:a81:c102:0:b0:5af:73cd:ba30 with SMTP id f2-20020a81c102000000b005af73cdba30mr8378668ywi.39.1698651451096; Mon, 30 Oct 2023 00:37:31 -0700 (PDT) Received: from postal.iol.unh.edu (postal.iol.unh.edu. [132.177.123.84]) by smtp-relay.gmail.com with ESMTPS id v3-20020a814803000000b005a8d713a929sm1144927ywa.61.2023.10.30.00.37.31 (version=TLS1_2 cipher=ECDHE-ECDSA-AES128-GCM-SHA256 bits=128/128); Mon, 30 Oct 2023 00:37:31 -0700 (PDT) X-Relaying-Domain: iol.unh.edu Date: Mon, 30 Oct 2023 00:37:31 -0700 (PDT) Message-ID: <653f5d3b.810a0220.10c51.1e41SMTPIN_ADDED_MISSING@mx.google.com> Received: from [172.21.0.2] (unknown [172.18.0.240]) by postal.iol.unh.edu (Postfix) with ESMTP id BCD6C6051827; Mon, 30 Oct 2023 03:37:30 -0400 (EDT) Subject: |SUCCESS| pw133623 [PATCH] test/crypto: fix mbuf port in Rx inject From: dpdklab@iol.unh.edu To: Test Report Cc: dpdk-test-reports@iol.unh.edu Content-Type: text/plain X-BeenThere: test-report@dpdk.org X-Mailman-Version: 2.1.29 Precedence: list List-Id: automatic DPDK test reports List-Unsubscribe: , List-Archive: List-Post: List-Help: List-Subscribe: , Errors-To: test-report-bounces@dpdk.org Test-Label: iol-unit-arm64-testing Test-Status: SUCCESS http://dpdk.org/patch/133623 _Testing PASS_ Submitter: Rahul Bhansali Date: Monday, October 30 2023 06:45:42 DPDK git baseline: Repo:dpdk Branch: master CommitID:8fa22e1f79aae7dfc7a9eb77034e555e155e5e2a 133623 --> testing pass Test environment and result as below: +--------------------------+------------------------------+---------------------------+----------------+ | Environment | cryptodev_sw_snow3g_autotest | cryptodev_sw_zuc_autotest | dpdk_unit_test | +==========================+==============================+===========================+================+ | Debian 11 (arm) | PASS | PASS | SKIPPED | +--------------------------+------------------------------+---------------------------+----------------+ | CentOS Stream 9 (ARM) | SKIPPED | SKIPPED | PASS | +--------------------------+------------------------------+---------------------------+----------------+ | Debian 11 (Buster) (ARM) | SKIPPED | SKIPPED | PASS | +--------------------------+------------------------------+---------------------------+----------------+ | Fedora 37 (ARM) | SKIPPED | SKIPPED | PASS | +--------------------------+------------------------------+---------------------------+----------------+ | Fedora 38 (ARM) | SKIPPED | SKIPPED | PASS | +--------------------------+------------------------------+---------------------------+----------------+ | Ubuntu 20.04 (ARM) | SKIPPED | SKIPPED | PASS | +--------------------------+------------------------------+---------------------------+----------------+ Debian 11 (arm) Kernel: Container Host Kernel Compiler: gcc 10.2.1 CentOS Stream 9 (ARM) Kernel: Container Host Kernel Compiler: gcc 11.3.1 Debian 11 (Buster) (ARM) Kernel: Container Host Kernel Compiler: gcc 10.2.1 Fedora 37 (ARM) Kernel: Depends on container host Compiler: gcc 12.3.1 Fedora 38 (ARM) Kernel: Depends on container host Compiler: gcc 13.1.1 Ubuntu 20.04 (ARM) Kernel: Container Host Kernel Compiler: gcc 9.4.0 To view detailed results, visit: https://lab.dpdk.org/results/dashboard/patchsets/28140/ UNH-IOL DPDK Community Lab To manage your email subscriptions, visit: https://lab.dpdk.org/results/dashboard/preferences/subscriptions/