From mboxrd@z Thu Jan  1 00:00:00 1970
Return-Path: <test-report-bounces@dpdk.org>
Received: from mails.dpdk.org (mails.dpdk.org [217.70.189.124])
	by inbox.dpdk.org (Postfix) with ESMTP id A67144316B
	for <public@inbox.dpdk.org>; Mon, 30 Oct 2023 08:58:58 +0100 (CET)
Received: from mails.dpdk.org (localhost [127.0.0.1])
	by mails.dpdk.org (Postfix) with ESMTP id A19FB40285;
	Mon, 30 Oct 2023 08:58:58 +0100 (CET)
Received: from mail-pl1-f227.google.com (mail-pl1-f227.google.com
 [209.85.214.227])
 by mails.dpdk.org (Postfix) with ESMTP id 67F0440285
 for <test-report@dpdk.org>; Mon, 30 Oct 2023 08:58:57 +0100 (CET)
Received: by mail-pl1-f227.google.com with SMTP id
 d9443c01a7336-1cacde97002so27429095ad.2
 for <test-report@dpdk.org>; Mon, 30 Oct 2023 00:58:57 -0700 (PDT)
DKIM-Signature: v=1; a=rsa-sha256; c=relaxed/relaxed;
 d=iol.unh.edu; s=unh-iol; t=1698652736; x=1699257536; darn=dpdk.org;
 h=cc:to:from:subject:message-id:date:from:to:cc:subject:date
 :message-id:reply-to;
 bh=v9S68YlutSzeonuB4Uap57ufycMV3+kf+6ueUdymh14=;
 b=M/QAatzkdrYHVTgoHuCzYbQK5DikTiX3NzxqtsqlZhBdiCWdFAFLnjrl02EqkZJt55
 aq2hrpVz5nUJXxTiFEtrr0bpX/4jEl52p6gwn+rV6MDGE09jT+xHMhNiZqZuG3QySDRS
 OWeFxGg0RrnG4JSkMgcp9Ac5WRFl5Tm/z2UE4=
X-Google-DKIM-Signature: v=1; a=rsa-sha256; c=relaxed/relaxed;
 d=1e100.net; s=20230601; t=1698652736; x=1699257536;
 h=cc:to:from:subject:message-id:date:x-gm-message-state:from:to:cc
 :subject:date:message-id:reply-to;
 bh=v9S68YlutSzeonuB4Uap57ufycMV3+kf+6ueUdymh14=;
 b=Kg93FeeUKLxfj/Ft1wp2ThG01zsbMNRcddyQbD5PUl1agbO/BHG6xo30mpC75Agu42
 /DYZsqHy36VU18oDSEk8TsIo39hL93BvBRBB/bTWdWp7QqaIVCwwEkYt9jw5o4thRURM
 8fHe75o/5uhBl1ftSvD17eaVjj/NA9uwE0mO3fVH+I8heGMOGZ/B3beXjjXFk1n37p23
 eYE+yi0ciG6K8unH0k9msS4tFEGAqUhQVA+KKpPDtNahOmUNmv6OpR8quduxne+I3zdo
 3P6WcPG10fjc4e8NdQdQfI0tQqdvQrnzuMrUI+OFNQsZ6MMh7rWkz+MTPp2WKtaFk+XB
 HBaQ==
X-Gm-Message-State: AOJu0YwjhHGm9m5LQYo3fk8WLYk4rbtzsx02pe7T2pPJEy5W1uJqr6cp
 LbisVqjBpl47vnbKZ+aERqCOl1qy2sAoAR4xeagaYofGmtyjAKPcRVQEp+YRMEhW5gbld5DtAQ=
 =
X-Google-Smtp-Source: AGHT+IERUicNzLp5T3Qpoz4CsxF+pyIvOB5d0Z+Xovo2jGUcuA5ZNgIg2lkS0Wg4oH5hA6u7sQ2h8Tg4Xb/J
X-Received: by 2002:a17:903:191:b0:1c9:ec11:3e8 with SMTP id
 z17-20020a170903019100b001c9ec1103e8mr8412273plg.0.1698652736659; 
 Mon, 30 Oct 2023 00:58:56 -0700 (PDT)
Received: from postal.iol.unh.edu (postal.iol.unh.edu.
 [2606:4100:3880:1234::84]) by smtp-relay.gmail.com with ESMTPS id
 d8-20020a170902654800b001c08d7e5286sm220045pln.41.2023.10.30.00.58.56
 (version=TLS1_2 cipher=ECDHE-ECDSA-AES128-GCM-SHA256 bits=128/128);
 Mon, 30 Oct 2023 00:58:56 -0700 (PDT)
X-Relaying-Domain: iol.unh.edu
Date: Mon, 30 Oct 2023 00:58:56 -0700 (PDT)
Message-ID: <653f6240.170a0220.92463.6ce2SMTPIN_ADDED_MISSING@mx.google.com>
Received: from [172.21.0.2] (unknown [172.18.0.240])
 by postal.iol.unh.edu (Postfix) with ESMTP id E450860524E7;
 Mon, 30 Oct 2023 03:58:55 -0400 (EDT)
Subject: |SUCCESS| pw133623 [PATCH] test/crypto: fix mbuf port in Rx inject
From: dpdklab@iol.unh.edu
To: Test Report <test-report@dpdk.org>
Cc: dpdk-test-reports@iol.unh.edu
Content-Type: text/plain
X-BeenThere: test-report@dpdk.org
X-Mailman-Version: 2.1.29
Precedence: list
List-Id: automatic DPDK test reports <test-report.dpdk.org>
List-Unsubscribe: <https://mails.dpdk.org/options/test-report>,
 <mailto:test-report-request@dpdk.org?subject=unsubscribe>
List-Archive: <http://mails.dpdk.org/archives/test-report/>
List-Post: <mailto:test-report@dpdk.org>
List-Help: <mailto:test-report-request@dpdk.org?subject=help>
List-Subscribe: <https://mails.dpdk.org/listinfo/test-report>,
 <mailto:test-report-request@dpdk.org?subject=subscribe>
Errors-To: test-report-bounces@dpdk.org

Test-Label: iol-unit-amd64-testing
Test-Status: SUCCESS
http://dpdk.org/patch/133623

_Testing PASS_

Submitter: Rahul Bhansali <rbhansali@marvell.com>
Date: Monday, October 30 2023 06:45:42 
DPDK git baseline: Repo:dpdk
  Branch: master
  CommitID:8fa22e1f79aae7dfc7a9eb77034e555e155e5e2a

133623 --> testing pass

Test environment and result as below:

+---------------------+----------------+
|     Environment     | dpdk_unit_test |
+=====================+================+
| Windows Server 2019 | PASS           |
+---------------------+----------------+
| CentOS Stream 8     | PASS           |
+---------------------+----------------+
| Debian Buster       | PASS           |
+---------------------+----------------+
| Debian Bullseye     | PASS           |
+---------------------+----------------+
| CentOS Stream 9     | PASS           |
+---------------------+----------------+
| Fedora 37           | PASS           |
+---------------------+----------------+
| openSUSE Leap 15    | PASS           |
+---------------------+----------------+


Windows Server 2019
	Kernel: 10.0
	Compiler: clang 14.0 and gcc 8.1.0 (MinGW)

CentOS Stream 8
	Kernel: 4.18.0-240.10.1.el8_3.x86_64
	Compiler: gcc 8.4.1 20200928

Debian Buster
	Kernel: 5.4.0-122-generic
	Compiler: gcc 8.3.0-6

Debian Bullseye
	Kernel: 5.4.0-122-generic
	Compiler: gcc 10.2.1-6

CentOS Stream 9
	Kernel: 4.18.0-240.10.1.el8_3.x86_64
	Compiler: gcc 11.3.1 20220421

Fedora 37
	Kernel: Depends on container host system
	Compiler: gcc 12.3.1

openSUSE Leap 15
	Kernel: 4.18.0-240.10.1.el8_3.x86_64
	Compiler: gcc 7.5.0

To view detailed results, visit:
https://lab.dpdk.org/results/dashboard/patchsets/28140/

UNH-IOL DPDK Community Lab

To manage your email subscriptions, visit: 
https://lab.dpdk.org/results/dashboard/preferences/subscriptions/