From mboxrd@z Thu Jan  1 00:00:00 1970
Return-Path: <test-report-bounces@dpdk.org>
Received: from mails.dpdk.org (mails.dpdk.org [217.70.189.124])
	by inbox.dpdk.org (Postfix) with ESMTP id 37CC843258
	for <public@inbox.dpdk.org>; Wed,  1 Nov 2023 00:38:21 +0100 (CET)
Received: from mails.dpdk.org (localhost [127.0.0.1])
	by mails.dpdk.org (Postfix) with ESMTP id 329824027F;
	Wed,  1 Nov 2023 00:38:21 +0100 (CET)
Received: from mail-yw1-f227.google.com (mail-yw1-f227.google.com
 [209.85.128.227])
 by mails.dpdk.org (Postfix) with ESMTP id 6677F4027F
 for <test-report@dpdk.org>; Wed,  1 Nov 2023 00:38:20 +0100 (CET)
Received: by mail-yw1-f227.google.com with SMTP id
 00721157ae682-5b31c5143a0so16456787b3.3
 for <test-report@dpdk.org>; Tue, 31 Oct 2023 16:38:20 -0700 (PDT)
DKIM-Signature: v=1; a=rsa-sha256; c=relaxed/relaxed;
 d=iol.unh.edu; s=unh-iol; t=1698795500; x=1699400300; darn=dpdk.org;
 h=cc:to:from:subject:message-id:date:from:to:cc:subject:date
 :message-id:reply-to;
 bh=cJ7qFHUS+P8CGgd6s2ZLvZu7Y0tFJENjU3eecxF6Obo=;
 b=PaaJLy8px8PmOijnynOYkgO76ronUzqqliPMNtaVfv5YMP7snR8Rw+YCr8pEjXFHox
 Z9bXzqEp2DjokbmXQOj8iGLKM4LdYi0E0C8dpaixSAeQ/zuycSrNxxnW6L73DqLl9DDn
 cmTit0fdk5Ou0kfzO0D4Gn5gdVeuP72DhKNnM=
X-Google-DKIM-Signature: v=1; a=rsa-sha256; c=relaxed/relaxed;
 d=1e100.net; s=20230601; t=1698795500; x=1699400300;
 h=cc:to:from:subject:message-id:date:x-gm-message-state:from:to:cc
 :subject:date:message-id:reply-to;
 bh=cJ7qFHUS+P8CGgd6s2ZLvZu7Y0tFJENjU3eecxF6Obo=;
 b=As861Ao1RFcUYHjmQSd9nAGQJ9rNzjA12cqbIX8FP6C3TYpc8fHp8Lw6zEzSo5AYtH
 Q9SdNJZPkX+l0awICnDTYg51Dx8HGwn58O8TUblQgcI36L3a4eAlLa8l+YdOjILLb/3z
 ZVjN52iidwkBL+/pYtVXeFvdVhNgg717/LdCKLaCPFRgLc5gYtylNNKqS/WcJGwJm3us
 NwZNMql8532Dgd6XpVRQgsa4hBIK1UA6SwF+kv86mYBom0nL/pjdGbJQ389n9sEHvEfZ
 7KZPaWL74l926mI+QJbx9c1NHKy3IGdfCTLxjJmiApOON2mQu1IVQS8Rq0MCmRrzK24F
 KhMQ==
X-Gm-Message-State: AOJu0YwYjFsPJsFh8eynoTacnNNjsa6sOany8VLzCVNnavUga7y7sPsQ
 YSV73/acxR6J4nE3jgoZYC+5hMBJT2IfI/7Vz3k67y3qzA7WPN/DjKgDPw==
X-Google-Smtp-Source: AGHT+IEeGV4O9do3SJqLbRNKz0b00QmTKKPJviyJHqLe5F99ixdludyzpxcjHqZuJTjUUm/ADy4/qob+oBP+
X-Received: by 2002:a81:4c55:0:b0:59b:1f6d:1958 with SMTP id
 z82-20020a814c55000000b0059b1f6d1958mr13783719ywa.46.1698795499857; 
 Tue, 31 Oct 2023 16:38:19 -0700 (PDT)
Received: from postal.iol.unh.edu (postal.iol.unh.edu. [132.177.123.84])
 by smtp-relay.gmail.com with ESMTPS id
 a194-20020a0dd8cb000000b0057a531a4d9fsm645946ywe.57.2023.10.31.16.38.19
 (version=TLS1_2 cipher=ECDHE-ECDSA-AES128-GCM-SHA256 bits=128/128);
 Tue, 31 Oct 2023 16:38:19 -0700 (PDT)
X-Relaying-Domain: iol.unh.edu
Date: Tue, 31 Oct 2023 16:38:19 -0700 (PDT)
Message-ID: <65418feb.0d0a0220.3aabc.a053SMTPIN_ADDED_MISSING@mx.google.com>
Received: from [172.21.0.2] (unknown [172.18.0.240])
 by postal.iol.unh.edu (Postfix) with ESMTP id 8372C6050A61;
 Tue, 31 Oct 2023 19:38:19 -0400 (EDT)
Subject: |SUCCESS| pw133682 [PATCH] [v2] crypto/qat: add sm2 ecdsa
From: dpdklab@iol.unh.edu
To: Test Report <test-report@dpdk.org>
Cc: dpdk-test-reports@iol.unh.edu
Content-Type: text/plain
X-BeenThere: test-report@dpdk.org
X-Mailman-Version: 2.1.29
Precedence: list
List-Id: automatic DPDK test reports <test-report.dpdk.org>
List-Unsubscribe: <https://mails.dpdk.org/options/test-report>,
 <mailto:test-report-request@dpdk.org?subject=unsubscribe>
List-Archive: <http://mails.dpdk.org/archives/test-report/>
List-Post: <mailto:test-report@dpdk.org>
List-Help: <mailto:test-report-request@dpdk.org?subject=help>
List-Subscribe: <https://mails.dpdk.org/listinfo/test-report>,
 <mailto:test-report-request@dpdk.org?subject=subscribe>
Errors-To: test-report-bounces@dpdk.org

Test-Label: iol-compile-amd64-testing
Test-Status: SUCCESS
http://dpdk.org/patch/133682

_Testing PASS_

Submitter: Arkadiusz Kusztal <arkadiuszx.kusztal@intel.com>
Date: Tuesday, October 31 2023 21:26:32 
DPDK git baseline: Repo:dpdk
  Branch: master
  CommitID:32faaf30732cb4006cd1e45997403427029ef5fe

133682 --> testing pass

Test environment and result as below:

+---------------------+--------------------+----------------------+
|     Environment     | dpdk_meson_compile | dpdk_mingw64_compile |
+=====================+====================+======================+
| CentOS Stream 9     | PASS               | SKIPPED              |
+---------------------+--------------------+----------------------+
| Debian Bullseye     | PASS               | SKIPPED              |
+---------------------+--------------------+----------------------+
| Fedora 37           | PASS               | SKIPPED              |
+---------------------+--------------------+----------------------+
| CentOS Stream 8     | PASS               | SKIPPED              |
+---------------------+--------------------+----------------------+
| Fedora 38           | PASS               | SKIPPED              |
+---------------------+--------------------+----------------------+
| RHEL8               | PASS               | SKIPPED              |
+---------------------+--------------------+----------------------+
| FreeBSD 13          | PASS               | SKIPPED              |
+---------------------+--------------------+----------------------+
| Ubuntu 22.04        | PASS               | SKIPPED              |
+---------------------+--------------------+----------------------+
| Ubuntu 20.04        | PASS               | SKIPPED              |
+---------------------+--------------------+----------------------+
| Windows Server 2019 | PASS               | PASS                 |
+---------------------+--------------------+----------------------+
| openSUSE Leap 15    | PASS               | SKIPPED              |
+---------------------+--------------------+----------------------+


CentOS Stream 9
	Kernel: 4.18.0-240.10.1.el8_3.x86_64
	Compiler: gcc 11.3.1 20220421

Debian Bullseye
	Kernel: 5.4.0-122-generic
	Compiler: gcc 10.2.1-6

Fedora 37
	Kernel: Depends on container host system
	Compiler: gcc 12.3.1

CentOS Stream 8
	Kernel: 4.18.0-240.10.1.el8_3.x86_64
	Compiler: gcc 8.4.1 20200928

Fedora 38
	Kernel: Depends on container host
	Compiler: gcc 13.1.1

RHEL8
	Kernel: 4.18.0-240.10.1.el8_3.x86_64
	Compiler: gcc 8.3.1 20191121 (Red Hat 8.3.1-5)

FreeBSD 13
	Kernel: 13.0
	Compiler: clang 11.0.1

Ubuntu 22.04
	Kernel: 4.18.0-240.10.1.el8_3.x86_64
	Compiler: gcc 11.3.0

Ubuntu 20.04
	Kernel: 5.4.0-153-generic
	Compiler: gcc 9.4.0-1ubuntu1~20.04.1

Windows Server 2019
	Kernel: 10.0
	Compiler: clang 14.0 and gcc 8.1.0 (MinGW)

openSUSE Leap 15
	Kernel: 4.18.0-240.10.1.el8_3.x86_64
	Compiler: gcc 7.5.0

To view detailed results, visit:
https://lab.dpdk.org/results/dashboard/patchsets/28165/

UNH-IOL DPDK Community Lab

To manage your email subscriptions, visit: 
https://lab.dpdk.org/results/dashboard/preferences/subscriptions/