From mboxrd@z Thu Jan  1 00:00:00 1970
Return-Path: <test-report-bounces@dpdk.org>
Received: from mails.dpdk.org (mails.dpdk.org [217.70.189.124])
	by inbox.dpdk.org (Postfix) with ESMTP id BA71843258
	for <public@inbox.dpdk.org>; Wed,  1 Nov 2023 00:43:59 +0100 (CET)
Received: from mails.dpdk.org (localhost [127.0.0.1])
	by mails.dpdk.org (Postfix) with ESMTP id ABE2F4027F;
	Wed,  1 Nov 2023 00:43:59 +0100 (CET)
Received: from mail-pf1-f226.google.com (mail-pf1-f226.google.com
 [209.85.210.226])
 by mails.dpdk.org (Postfix) with ESMTP id C166A4027F
 for <test-report@dpdk.org>; Wed,  1 Nov 2023 00:43:58 +0100 (CET)
Received: by mail-pf1-f226.google.com with SMTP id
 d2e1a72fcca58-6be1bc5aa1cso6342818b3a.3
 for <test-report@dpdk.org>; Tue, 31 Oct 2023 16:43:58 -0700 (PDT)
DKIM-Signature: v=1; a=rsa-sha256; c=relaxed/relaxed;
 d=iol.unh.edu; s=unh-iol; t=1698795838; x=1699400638; darn=dpdk.org;
 h=cc:to:from:subject:message-id:date:from:to:cc:subject:date
 :message-id:reply-to;
 bh=TMx0RqCp1pd4SN+hUMQyCT/ocZQRl51gEVqqIdT9URc=;
 b=UNyCJ2YCNybbbH32Yu8YtZxcDr6g5qAWnl0h5u0IsLOhKR8vOCwoSEoyaNK+oNcFUI
 fnRRlxokreacqC5+NMmyUHhl1HT0HqqqCINb2/KXnJwh5lrs1XldOmXpiZ9t36wCgYvW
 NPBFpCPSUlGgyf+1bHt+YwGlhLlnHGH2yAb0I=
X-Google-DKIM-Signature: v=1; a=rsa-sha256; c=relaxed/relaxed;
 d=1e100.net; s=20230601; t=1698795838; x=1699400638;
 h=cc:to:from:subject:message-id:date:x-gm-message-state:from:to:cc
 :subject:date:message-id:reply-to;
 bh=TMx0RqCp1pd4SN+hUMQyCT/ocZQRl51gEVqqIdT9URc=;
 b=GkLb1xE0YBUN3sbMcKG89Vfq7ZeLImMW0aAh4AfHsrSIe5MUejj1DaEYb3GRaadSO7
 Cr49eL2ULwUdf+QTR1fLqHmeFlD5AdRVrraeQf4fP2DDSEgX0gGnTe11TnjrpFmSYACl
 kc/tP9LanAT6JCTz5tZYAAUsBXIfwHPlEuaG1uSoMA50Zenfc8YYD8/3n3uhBtMReowp
 6JnK0F6o2T6is6bjv+P4FY2ZmgZrlb0OGJmULnkVs62t6S2vzEO1acBv6D2cO3kRI0ky
 wJ2MutiPfWX/o7rpgkNXEFq72Iu7Ivs08vAmpT5gpbWTisdtHD5H1v3QYz5+HHS7FF/1
 aoGA==
X-Gm-Message-State: AOJu0YwQkcB4BwlYGCUMomKtbt7JQAWuzNGsF7MmicuxpCNtK6IK9Mgh
 pe+/oBuTukH++OFr1bnq4W+HEWaQ9Pgj6EPzTgFg45nFAXz8uOoRhI7kasptatlaDZfjdasetw=
 =
X-Google-Smtp-Source: AGHT+IFrUEio53Vt2GQroDv9uTt1aWEUGbuKqlxr2kaGFTjT8FMWARhFfmM9seH1Qyz04HHbArwKjMUs9qCc
X-Received: by 2002:a05:6a20:1587:b0:15d:b243:6131 with SMTP id
 h7-20020a056a20158700b0015db2436131mr17649389pzj.44.1698795838035; 
 Tue, 31 Oct 2023 16:43:58 -0700 (PDT)
Received: from postal.iol.unh.edu (postal.iol.unh.edu.
 [2606:4100:3880:1234::84]) by smtp-relay.gmail.com with ESMTPS id
 ng16-20020a17090b1a9000b00276e9eb0601sm502724pjb.15.2023.10.31.16.43.57
 (version=TLS1_2 cipher=ECDHE-ECDSA-AES128-GCM-SHA256 bits=128/128);
 Tue, 31 Oct 2023 16:43:58 -0700 (PDT)
X-Relaying-Domain: iol.unh.edu
Date: Tue, 31 Oct 2023 16:43:58 -0700 (PDT)
Message-ID: <6541913e.170a0220.55699.631bSMTPIN_ADDED_MISSING@mx.google.com>
Received: from [172.21.0.3] (unknown [172.18.0.240])
 by postal.iol.unh.edu (Postfix) with ESMTP id 2E7F26050A61;
 Tue, 31 Oct 2023 19:43:57 -0400 (EDT)
Subject: |SUCCESS| pw133682 [PATCH] [v2] crypto/qat: add sm2 ecdsa
From: dpdklab@iol.unh.edu
To: Test Report <test-report@dpdk.org>
Cc: dpdk-test-reports@iol.unh.edu
Content-Type: text/plain
X-BeenThere: test-report@dpdk.org
X-Mailman-Version: 2.1.29
Precedence: list
List-Id: automatic DPDK test reports <test-report.dpdk.org>
List-Unsubscribe: <https://mails.dpdk.org/options/test-report>,
 <mailto:test-report-request@dpdk.org?subject=unsubscribe>
List-Archive: <http://mails.dpdk.org/archives/test-report/>
List-Post: <mailto:test-report@dpdk.org>
List-Help: <mailto:test-report-request@dpdk.org?subject=help>
List-Subscribe: <https://mails.dpdk.org/listinfo/test-report>,
 <mailto:test-report-request@dpdk.org?subject=subscribe>
Errors-To: test-report-bounces@dpdk.org

Test-Label: iol-unit-amd64-testing
Test-Status: SUCCESS
http://dpdk.org/patch/133682

_Testing PASS_

Submitter: Arkadiusz Kusztal <arkadiuszx.kusztal@intel.com>
Date: Tuesday, October 31 2023 21:26:32 
DPDK git baseline: Repo:dpdk
  Branch: master
  CommitID:32faaf30732cb4006cd1e45997403427029ef5fe

133682 --> testing pass

Test environment and result as below:

+---------------------+----------------+
|     Environment     | dpdk_unit_test |
+=====================+================+
| Debian Buster       | PASS           |
+---------------------+----------------+
| Debian Bullseye     | PASS           |
+---------------------+----------------+
| CentOS Stream 9     | PASS           |
+---------------------+----------------+
| CentOS Stream 8     | PASS           |
+---------------------+----------------+
| Windows Server 2019 | PASS           |
+---------------------+----------------+
| Fedora 37           | PASS           |
+---------------------+----------------+


Debian Buster
	Kernel: 5.4.0-122-generic
	Compiler: gcc 8.3.0-6

Debian Bullseye
	Kernel: 5.4.0-122-generic
	Compiler: gcc 10.2.1-6

CentOS Stream 9
	Kernel: 4.18.0-240.10.1.el8_3.x86_64
	Compiler: gcc 11.3.1 20220421

CentOS Stream 8
	Kernel: 4.18.0-240.10.1.el8_3.x86_64
	Compiler: gcc 8.4.1 20200928

Windows Server 2019
	Kernel: 10.0
	Compiler: clang 14.0 and gcc 8.1.0 (MinGW)

Fedora 37
	Kernel: Depends on container host system
	Compiler: gcc 12.3.1

To view detailed results, visit:
https://lab.dpdk.org/results/dashboard/patchsets/28165/

UNH-IOL DPDK Community Lab

To manage your email subscriptions, visit: 
https://lab.dpdk.org/results/dashboard/preferences/subscriptions/