From mboxrd@z Thu Jan 1 00:00:00 1970 Return-Path: Received: from mails.dpdk.org (mails.dpdk.org [217.70.189.124]) by inbox.dpdk.org (Postfix) with ESMTP id 7F92443258 for ; Wed, 1 Nov 2023 00:45:41 +0100 (CET) Received: from mails.dpdk.org (localhost [127.0.0.1]) by mails.dpdk.org (Postfix) with ESMTP id 7AB054027F; Wed, 1 Nov 2023 00:45:41 +0100 (CET) Received: from mail-ot1-f97.google.com (mail-ot1-f97.google.com [209.85.210.97]) by mails.dpdk.org (Postfix) with ESMTP id 51FA14027F for ; Wed, 1 Nov 2023 00:45:40 +0100 (CET) Received: by mail-ot1-f97.google.com with SMTP id 46e09a7af769-6ce2bcb131fso4196981a34.1 for ; Tue, 31 Oct 2023 16:45:40 -0700 (PDT) DKIM-Signature: v=1; a=rsa-sha256; c=relaxed/relaxed; d=iol.unh.edu; s=unh-iol; t=1698795939; x=1699400739; darn=dpdk.org; h=cc:to:from:subject:message-id:date:from:to:cc:subject:date :message-id:reply-to; bh=TMx0RqCp1pd4SN+hUMQyCT/ocZQRl51gEVqqIdT9URc=; b=RjOnSjNkJELw2xR9CZBuYQAVMtmY8SsBSAXuBWu5nw7I3IeMSn6F8unP35F9WhYuKf tVe0yd5ZgA8Ag3alMAFEUCdquIGmPBOH7cFACb947bB3654I7W8usxrjiBx/FJtt/VLh tXDApfOp4wwuMXQzX2LkyVDjWBsaPRjN6soqw= X-Google-DKIM-Signature: v=1; a=rsa-sha256; c=relaxed/relaxed; d=1e100.net; s=20230601; t=1698795939; x=1699400739; h=cc:to:from:subject:message-id:date:x-gm-message-state:from:to:cc :subject:date:message-id:reply-to; bh=TMx0RqCp1pd4SN+hUMQyCT/ocZQRl51gEVqqIdT9URc=; b=ldiBgDZFDDqJK/G7T/SsJk6H+3RlGhNTEiiF2CHo0A1mo/KmDIBEs6H+0hIaQlPsBy VLLYKzbJrqiN0G9gZjmVikIUVZ1qA72xhZzH5vKQCPmgpLcrGYULKx5Rv3e1smKn4zNj yaWA0VoCkfC8MhXJhmJFOe3EH+oPHsWbZPQ9drLw3GIqlG7UuaqedxP5gblXMWz7bIJf UkbD0KM1ok2W9jPrYHxvCIuJdyTf99uNu37GIibg/J9pyLjjwJ8VSfaAbEYkzdxuL13g PuUZcOCPpDH5OzjoDPhTnbr/92/msQ5ssfRt5W+++VwmsNmPcr0ypNtZmTNhHql+0a59 J0BQ== X-Gm-Message-State: AOJu0YzdYWA+spfucP+mdBHXXklzdf9r/cDWeS+zUXpwspve9ydVAAIx v50bIQDLxD/zS8aa6B8yWraoWiwa3rY0v79N29mTpjK3Xrjpb7Ag+BfSLo/n9xxrlzVo3AEDag= = X-Google-Smtp-Source: AGHT+IEXQCguz5Mw4SB4px4QXgus0oJQH7120bABTvcT3u0VvYv4YltMMfUwBv7NjKtYvsqM5TYwYllkNjA1 X-Received: by 2002:a05:6870:bd44:b0:1dc:33a:40d8 with SMTP id og4-20020a056870bd4400b001dc033a40d8mr16704043oab.4.1698795939717; Tue, 31 Oct 2023 16:45:39 -0700 (PDT) Received: from postal.iol.unh.edu (postal.iol.unh.edu. [2606:4100:3880:1234::84]) by smtp-relay.gmail.com with ESMTPS id ug2-20020a0568714d0200b001d58fc1da71sm55590oab.32.2023.10.31.16.45.39 (version=TLS1_2 cipher=ECDHE-ECDSA-AES128-GCM-SHA256 bits=128/128); Tue, 31 Oct 2023 16:45:39 -0700 (PDT) X-Relaying-Domain: iol.unh.edu Date: Tue, 31 Oct 2023 16:45:39 -0700 (PDT) Message-ID: <654191a3.050a0220.7237c.0dcbSMTPIN_ADDED_MISSING@mx.google.com> Received: from [172.21.0.4] (unknown [172.18.0.240]) by postal.iol.unh.edu (Postfix) with ESMTP id 364596050A61; Tue, 31 Oct 2023 19:45:39 -0400 (EDT) Subject: |SUCCESS| pw133682 [PATCH] [v2] crypto/qat: add sm2 ecdsa From: dpdklab@iol.unh.edu To: Test Report Cc: dpdk-test-reports@iol.unh.edu Content-Type: text/plain X-BeenThere: test-report@dpdk.org X-Mailman-Version: 2.1.29 Precedence: list List-Id: automatic DPDK test reports List-Unsubscribe: , List-Archive: List-Post: List-Help: List-Subscribe: , Errors-To: test-report-bounces@dpdk.org Test-Label: iol-unit-amd64-testing Test-Status: SUCCESS http://dpdk.org/patch/133682 _Testing PASS_ Submitter: Arkadiusz Kusztal Date: Tuesday, October 31 2023 21:26:32 DPDK git baseline: Repo:dpdk Branch: master CommitID:32faaf30732cb4006cd1e45997403427029ef5fe 133682 --> testing pass Test environment and result as below: +---------------------+----------------+ | Environment | dpdk_unit_test | +=====================+================+ | Debian Buster | PASS | +---------------------+----------------+ | Debian Bullseye | PASS | +---------------------+----------------+ | CentOS Stream 9 | PASS | +---------------------+----------------+ | CentOS Stream 8 | PASS | +---------------------+----------------+ | Windows Server 2019 | PASS | +---------------------+----------------+ | Fedora 37 | PASS | +---------------------+----------------+ Debian Buster Kernel: 5.4.0-122-generic Compiler: gcc 8.3.0-6 Debian Bullseye Kernel: 5.4.0-122-generic Compiler: gcc 10.2.1-6 CentOS Stream 9 Kernel: 4.18.0-240.10.1.el8_3.x86_64 Compiler: gcc 11.3.1 20220421 CentOS Stream 8 Kernel: 4.18.0-240.10.1.el8_3.x86_64 Compiler: gcc 8.4.1 20200928 Windows Server 2019 Kernel: 10.0 Compiler: clang 14.0 and gcc 8.1.0 (MinGW) Fedora 37 Kernel: Depends on container host system Compiler: gcc 12.3.1 To view detailed results, visit: https://lab.dpdk.org/results/dashboard/patchsets/28165/ UNH-IOL DPDK Community Lab To manage your email subscriptions, visit: https://lab.dpdk.org/results/dashboard/preferences/subscriptions/