From mboxrd@z Thu Jan  1 00:00:00 1970
Return-Path: <test-report-bounces@dpdk.org>
Received: from mails.dpdk.org (mails.dpdk.org [217.70.189.124])
	by inbox.dpdk.org (Postfix) with ESMTP id A9EC843258
	for <public@inbox.dpdk.org>; Wed,  1 Nov 2023 01:47:27 +0100 (CET)
Received: from mails.dpdk.org (localhost [127.0.0.1])
	by mails.dpdk.org (Postfix) with ESMTP id 8C5F14027F;
	Wed,  1 Nov 2023 01:47:27 +0100 (CET)
Received: from mail-il1-f227.google.com (mail-il1-f227.google.com
 [209.85.166.227])
 by mails.dpdk.org (Postfix) with ESMTP id DC4F94027F
 for <test-report@dpdk.org>; Wed,  1 Nov 2023 01:47:25 +0100 (CET)
Received: by mail-il1-f227.google.com with SMTP id
 e9e14a558f8ab-35931064a3bso5534245ab.3
 for <test-report@dpdk.org>; Tue, 31 Oct 2023 17:47:25 -0700 (PDT)
DKIM-Signature: v=1; a=rsa-sha256; c=relaxed/relaxed;
 d=iol.unh.edu; s=unh-iol; t=1698799645; x=1699404445; darn=dpdk.org;
 h=cc:to:from:subject:message-id:date:from:to:cc:subject:date
 :message-id:reply-to;
 bh=9S07Ju7UdbxNvC+/Mejs/bJ+qFS4FnGpRyoGJp1XHZI=;
 b=iwd1lALDPIUpIfS/+awNCjSc9aLAa2HRNbXMmD1usf+ftu8IoSOYyNaC2VXYbGCnKL
 j0ik+THCWVHKwnfHSSsuEAcHRB2Ms5HApwjr3VFFYyhhlrTOyYw1dec8f4dnDBpCVW9l
 +R/6hTvNgmq7YQsEEwN94f+hc9zJPaDsCqkZM=
X-Google-DKIM-Signature: v=1; a=rsa-sha256; c=relaxed/relaxed;
 d=1e100.net; s=20230601; t=1698799645; x=1699404445;
 h=cc:to:from:subject:message-id:date:x-gm-message-state:from:to:cc
 :subject:date:message-id:reply-to;
 bh=9S07Ju7UdbxNvC+/Mejs/bJ+qFS4FnGpRyoGJp1XHZI=;
 b=cvOiEsK3dD9cTkQW6vyD5aRllw8TtVwpiJDz7EkHEmLKshOm3DCHdlJy+3XOcRAAd7
 6IMBsUsyTNoTsaEzKMwL9jgc5xlwjIC8qqp+azRZSCBCENT8Pf5rduLLiTI24bLod+/u
 0krzToCLdo5O7wxKyRrCxqCW++bfbr9dJcAJGDqQOp7g5L0kOdwqXUfrV77CAQxTRZg3
 YieYWlaEppwpo7xH8jjtWX1Df0hGvxUULKoTjZxkz/lzwBtonHbC97Nuk+eHm/eDwgSm
 PYGrZgCoAO5OqGyaIaD20otGtKrzY+AlG/xnxDa8VKa7fRSegpm5TGQwkkiworZpOAoX
 A1nQ==
X-Gm-Message-State: AOJu0Yylt03kHi4iK6NQdCxjqQT+Ds4Z1E4h89CKg73SM4zfEdODLLNm
 G9OGKU9UANxDC5l4eOHdTZa+sWNWNGvkT/yVh2wexJHfsqUWZG+OwwlFKA==
X-Google-Smtp-Source: AGHT+IGv2L1Nx+MbU6xZpTx6zREatzRIpkzqau1rx7aS+VTJtCZOYpxO4rLeyc82P4025UleW+ovd/8XVNKr
X-Received: by 2002:a05:6e02:1846:b0:352:609f:e4af with SMTP id
 b6-20020a056e02184600b00352609fe4afmr21095390ilv.24.1698799645249; 
 Tue, 31 Oct 2023 17:47:25 -0700 (PDT)
Received: from postal.iol.unh.edu (postal.iol.unh.edu. [132.177.123.84])
 by smtp-relay.gmail.com with ESMTPS id
 b17-20020a92dcd1000000b003574a053858sm80809ilr.53.2023.10.31.17.47.25
 (version=TLS1_2 cipher=ECDHE-ECDSA-AES128-GCM-SHA256 bits=128/128);
 Tue, 31 Oct 2023 17:47:25 -0700 (PDT)
X-Relaying-Domain: iol.unh.edu
Date: Tue, 31 Oct 2023 17:47:25 -0700 (PDT)
Message-ID: <6541a01d.920a0220.98b8f.139cSMTPIN_ADDED_MISSING@mx.google.com>
Received: from [172.21.0.2] (unknown [172.18.0.240])
 by postal.iol.unh.edu (Postfix) with ESMTP id B4B876050A61;
 Tue, 31 Oct 2023 20:47:24 -0400 (EDT)
Subject: |SUCCESS| pw133682 [PATCH] [v2] crypto/qat: add sm2 ecdsa
From: dpdklab@iol.unh.edu
To: Test Report <test-report@dpdk.org>
Cc: dpdk-test-reports@iol.unh.edu
Content-Type: text/plain
X-BeenThere: test-report@dpdk.org
X-Mailman-Version: 2.1.29
Precedence: list
List-Id: automatic DPDK test reports <test-report.dpdk.org>
List-Unsubscribe: <https://mails.dpdk.org/options/test-report>,
 <mailto:test-report-request@dpdk.org?subject=unsubscribe>
List-Archive: <http://mails.dpdk.org/archives/test-report/>
List-Post: <mailto:test-report@dpdk.org>
List-Help: <mailto:test-report-request@dpdk.org?subject=help>
List-Subscribe: <https://mails.dpdk.org/listinfo/test-report>,
 <mailto:test-report-request@dpdk.org?subject=subscribe>
Errors-To: test-report-bounces@dpdk.org

Test-Label: iol-unit-arm64-testing
Test-Status: SUCCESS
http://dpdk.org/patch/133682

_Testing PASS_

Submitter: Arkadiusz Kusztal <arkadiuszx.kusztal@intel.com>
Date: Tuesday, October 31 2023 21:26:32 
DPDK git baseline: Repo:dpdk
  Branch: master
  CommitID:32faaf30732cb4006cd1e45997403427029ef5fe

133682 --> testing pass

Test environment and result as below:

+--------------------------+--------------+------------------------------+---------------------------+----------------+
|       Environment        | lpm_autotest | cryptodev_sw_snow3g_autotest | cryptodev_sw_zuc_autotest | dpdk_unit_test |
+==========================+==============+==============================+===========================+================+
| Ubuntu 20.04 ARM SVE     | PASS         | SKIPPED                      | SKIPPED                   | SKIPPED        |
+--------------------------+--------------+------------------------------+---------------------------+----------------+
| Debian 11 (arm)          | SKIPPED      | PASS                         | PASS                      | SKIPPED        |
+--------------------------+--------------+------------------------------+---------------------------+----------------+
| Debian 11 (Buster) (ARM) | SKIPPED      | SKIPPED                      | SKIPPED                   | PASS           |
+--------------------------+--------------+------------------------------+---------------------------+----------------+
| CentOS Stream 9 (ARM)    | SKIPPED      | SKIPPED                      | SKIPPED                   | PASS           |
+--------------------------+--------------+------------------------------+---------------------------+----------------+


Ubuntu 20.04 ARM SVE
	Kernel: 5.4.0-80-generic
	Compiler: gcc 10.3.0 (Ubuntu 10.3.0-1ubuntu1~20.04)

Debian 11 (arm)
	Kernel: Container Host Kernel
	Compiler: gcc 10.2.1

Debian 11 (Buster) (ARM)
	Kernel: Container Host Kernel
	Compiler: gcc 10.2.1

CentOS Stream 9 (ARM)
	Kernel: Container Host Kernel
	Compiler: gcc 11.3.1

To view detailed results, visit:
https://lab.dpdk.org/results/dashboard/patchsets/28165/

UNH-IOL DPDK Community Lab

To manage your email subscriptions, visit: 
https://lab.dpdk.org/results/dashboard/preferences/subscriptions/