From mboxrd@z Thu Jan  1 00:00:00 1970
Return-Path: <test-report-bounces@dpdk.org>
Received: from mails.dpdk.org (mails.dpdk.org [217.70.189.124])
	by inbox.dpdk.org (Postfix) with ESMTP id 86FF943258
	for <public@inbox.dpdk.org>; Wed,  1 Nov 2023 02:16:24 +0100 (CET)
Received: from mails.dpdk.org (localhost [127.0.0.1])
	by mails.dpdk.org (Postfix) with ESMTP id 8242240647;
	Wed,  1 Nov 2023 02:16:24 +0100 (CET)
Received: from mail-pf1-f226.google.com (mail-pf1-f226.google.com
 [209.85.210.226])
 by mails.dpdk.org (Postfix) with ESMTP id B0EFB41151
 for <test-report@dpdk.org>; Wed,  1 Nov 2023 02:16:22 +0100 (CET)
Received: by mail-pf1-f226.google.com with SMTP id
 d2e1a72fcca58-6b3c2607d9bso5634892b3a.1
 for <test-report@dpdk.org>; Tue, 31 Oct 2023 18:16:22 -0700 (PDT)
DKIM-Signature: v=1; a=rsa-sha256; c=relaxed/relaxed;
 d=iol.unh.edu; s=unh-iol; t=1698801382; x=1699406182; darn=dpdk.org;
 h=cc:to:from:subject:message-id:date:from:to:cc:subject:date
 :message-id:reply-to;
 bh=js96sKgJX70rU8vJQ5wr7a7U5VDj1vN7fC6AK7Uqm2c=;
 b=gaktdQ3TJi+Vcz7PoVSzu/ObOa7xBJeKFizBRqx/lwN+Of5PIXhPJpvVw6PC5j7642
 49e2DXY/f2RG8mrv7YzDuhU4U8by5jW8XF02GqHkqrrFil2Hbu8zLVSqTdGdR5gdl0iY
 LsLnPz1IVhDZDU38uK2HZzAEKay03PlYyqgBQ=
X-Google-DKIM-Signature: v=1; a=rsa-sha256; c=relaxed/relaxed;
 d=1e100.net; s=20230601; t=1698801382; x=1699406182;
 h=cc:to:from:subject:message-id:date:x-gm-message-state:from:to:cc
 :subject:date:message-id:reply-to;
 bh=js96sKgJX70rU8vJQ5wr7a7U5VDj1vN7fC6AK7Uqm2c=;
 b=cx5c3svzJkPwxq7aYVI8T3C1gTaa3mKbKvhTwPPgYrEGfGsIIZTbBxVGKgxv9HFbiK
 kkZVhixCXJYDfCoTgtZwVnc1y1RUw0Pfm0mo4hC/tD4IX/dB6E/RAydFWl0YPpHcRN0E
 qGewcpKNe9PzVuueZAcd7nCReRrbuxgVED5ehc+qg/F7F7OQBOz0qi8Q1F59zHlppJhG
 bsH52pTUldpnwvmLPukfVI6Vrr9GyAPgE0tjgnRGm5ATBnGBSIgiiZng7iKGHIRerskt
 uJGcFgmGB+XzLMIWvgPKYKzkX7g7hnrh1uhYI5LBVrCqY0rNJgtq4CtHowJqDBQfrOqO
 kuRg==
X-Gm-Message-State: AOJu0YzgXPoUAnWpNEOVcX/ez6JJVmcmznBkUB4ztRH24LWQMvLeZvLp
 OpfpQFY7b3zLk09TaIznkiiyAK9R6tRW2R09u3o8Li3te4t3v6P2WLeAmIdk8+6do9v040Pizg=
 =
X-Google-Smtp-Source: AGHT+IH03ixR8McOsydhbig7xzg1sP7MrIc+6gx71feqFqRpPXwZYLFTwbeVfDWhZclg7T3so9hPk/t0P0+a
X-Received: by 2002:a05:6a00:2401:b0:6b8:69fa:8ff with SMTP id
 z1-20020a056a00240100b006b869fa08ffmr6880951pfh.17.1698801382000; 
 Tue, 31 Oct 2023 18:16:22 -0700 (PDT)
Received: from postal.iol.unh.edu (postal.iol.unh.edu.
 [2606:4100:3880:1234::84]) by smtp-relay.gmail.com with ESMTPS id
 k3-20020aa788c3000000b006b220e3c1b3sm111481pff.24.2023.10.31.18.16.21
 (version=TLS1_2 cipher=ECDHE-ECDSA-AES128-GCM-SHA256 bits=128/128);
 Tue, 31 Oct 2023 18:16:21 -0700 (PDT)
X-Relaying-Domain: iol.unh.edu
Date: Tue, 31 Oct 2023 18:16:21 -0700 (PDT)
Message-ID: <6541a6e5.a70a0220.97318.1afaSMTPIN_ADDED_MISSING@mx.google.com>
Received: from [172.21.0.2] (unknown [172.18.0.240])
 by postal.iol.unh.edu (Postfix) with ESMTP id 3B9826050A61;
 Tue, 31 Oct 2023 21:16:21 -0400 (EDT)
Subject: |SUCCESS| pw133682 [PATCH] [v2] crypto/qat: add sm2 ecdsa
From: dpdklab@iol.unh.edu
To: Test Report <test-report@dpdk.org>
Cc: dpdk-test-reports@iol.unh.edu
Content-Type: text/plain
X-BeenThere: test-report@dpdk.org
X-Mailman-Version: 2.1.29
Precedence: list
List-Id: automatic DPDK test reports <test-report.dpdk.org>
List-Unsubscribe: <https://mails.dpdk.org/options/test-report>,
 <mailto:test-report-request@dpdk.org?subject=unsubscribe>
List-Archive: <http://mails.dpdk.org/archives/test-report/>
List-Post: <mailto:test-report@dpdk.org>
List-Help: <mailto:test-report-request@dpdk.org?subject=help>
List-Subscribe: <https://mails.dpdk.org/listinfo/test-report>,
 <mailto:test-report-request@dpdk.org?subject=subscribe>
Errors-To: test-report-bounces@dpdk.org

Test-Label: iol-unit-arm64-testing
Test-Status: SUCCESS
http://dpdk.org/patch/133682

_Testing PASS_

Submitter: Arkadiusz Kusztal <arkadiuszx.kusztal@intel.com>
Date: Tuesday, October 31 2023 21:26:32 
DPDK git baseline: Repo:dpdk
  Branch: master
  CommitID:32faaf30732cb4006cd1e45997403427029ef5fe

133682 --> testing pass

Test environment and result as below:

+--------------------------+--------------+------------------------------+---------------------------+----------------+
|       Environment        | lpm_autotest | cryptodev_sw_snow3g_autotest | cryptodev_sw_zuc_autotest | dpdk_unit_test |
+==========================+==============+==============================+===========================+================+
| Ubuntu 20.04 ARM SVE     | PASS         | SKIPPED                      | SKIPPED                   | SKIPPED        |
+--------------------------+--------------+------------------------------+---------------------------+----------------+
| Debian 11 (arm)          | SKIPPED      | PASS                         | PASS                      | SKIPPED        |
+--------------------------+--------------+------------------------------+---------------------------+----------------+
| Debian 11 (Buster) (ARM) | SKIPPED      | SKIPPED                      | SKIPPED                   | PASS           |
+--------------------------+--------------+------------------------------+---------------------------+----------------+
| CentOS Stream 9 (ARM)    | SKIPPED      | SKIPPED                      | SKIPPED                   | PASS           |
+--------------------------+--------------+------------------------------+---------------------------+----------------+
| Fedora 38 (ARM)          | SKIPPED      | SKIPPED                      | SKIPPED                   | PASS           |
+--------------------------+--------------+------------------------------+---------------------------+----------------+
| Fedora 38 (ARM Clang)    | SKIPPED      | SKIPPED                      | SKIPPED                   | PASS           |
+--------------------------+--------------+------------------------------+---------------------------+----------------+


Ubuntu 20.04 ARM SVE
	Kernel: 5.4.0-80-generic
	Compiler: gcc 10.3.0 (Ubuntu 10.3.0-1ubuntu1~20.04)

Debian 11 (arm)
	Kernel: Container Host Kernel
	Compiler: gcc 10.2.1

Debian 11 (Buster) (ARM)
	Kernel: Container Host Kernel
	Compiler: gcc 10.2.1

CentOS Stream 9 (ARM)
	Kernel: Container Host Kernel
	Compiler: gcc 11.3.1

Fedora 38 (ARM)
	Kernel: Depends on container host
	Compiler: gcc 13.1.1

Fedora 38 (ARM Clang)
	Kernel: Depends on container host
	Compiler: clang 16.0.3

To view detailed results, visit:
https://lab.dpdk.org/results/dashboard/patchsets/28165/

UNH-IOL DPDK Community Lab

To manage your email subscriptions, visit: 
https://lab.dpdk.org/results/dashboard/preferences/subscriptions/