From mboxrd@z Thu Jan 1 00:00:00 1970 Return-Path: Received: from mails.dpdk.org (mails.dpdk.org [217.70.189.124]) by inbox.dpdk.org (Postfix) with ESMTP id EFB6843263 for ; Wed, 1 Nov 2023 18:43:21 +0100 (CET) Received: from mails.dpdk.org (localhost [127.0.0.1]) by mails.dpdk.org (Postfix) with ESMTP id E9D96400EF; Wed, 1 Nov 2023 18:43:21 +0100 (CET) Received: from mail-pj1-f98.google.com (mail-pj1-f98.google.com [209.85.216.98]) by mails.dpdk.org (Postfix) with ESMTP id 514BE40DCE for ; Wed, 1 Nov 2023 18:43:19 +0100 (CET) Received: by mail-pj1-f98.google.com with SMTP id 98e67ed59e1d1-27e0c1222d1so105517a91.0 for ; Wed, 01 Nov 2023 10:43:19 -0700 (PDT) DKIM-Signature: v=1; a=rsa-sha256; c=relaxed/relaxed; d=iol.unh.edu; s=unh-iol; t=1698860598; x=1699465398; darn=dpdk.org; h=cc:to:from:subject:message-id:date:from:to:cc:subject:date :message-id:reply-to; bh=TsMSTtOi1ODPG+0Z02LFtPsaKYvqHT5bJ3HjzFatWA8=; b=R9C85FkEQZ6+WX3oefiHHJiKgNPuI3YLeO12ydj/lbOrmmxzHTTo2NZA00JBnvnKq+ KObyH4yRw3FBjJ1W91g3VVHBaeZxTvA3R/x5F+PH+RJm2tsMRLL9aUOngL9ePoDQT3+D uYh804/OCncAWPD197TaHsip40xDbnPHCWExM= X-Google-DKIM-Signature: v=1; a=rsa-sha256; c=relaxed/relaxed; d=1e100.net; s=20230601; t=1698860598; x=1699465398; h=cc:to:from:subject:message-id:date:x-gm-message-state:from:to:cc :subject:date:message-id:reply-to; bh=TsMSTtOi1ODPG+0Z02LFtPsaKYvqHT5bJ3HjzFatWA8=; b=kJvPe9NFWUv0FYPAG9dp86k1KuGokkxo3/M6JitU9Fo1uj5MUp0ZdnUlW2kj4IunVx +eq+SFkDu6j1ksYoGf+oCB/omN2wpBy7gB4PaQZRx6E+lsxhlXbR4E/nmiuvrxydXmT7 SjMXQN6e3P7oZyGDCNTDzE60TCbpQ/b+R3dBmKNyqiILJ+tkR+Za0S24jADxTRpU04a0 40C2hlfpcKS6EUHDsw9hQsjZmJF1RsrkPpRSnT6v/J6nIu0L8eJao52qzF16VSvfq13Z AwH7dtJMXVZ1whe8p9KjYsjGtvm6lrmmD6+/3xFktd94yRwZYu2Mxc2boqbGjsKmFxM6 ZT5w== X-Gm-Message-State: AOJu0YwzmDXkKz3QkK811wo/+/l2mQ/789NMCsTFZ3CI9eXGzPPjqfCS MvcxsZH2Wr0p23k+102mkR6He5qRzBjUrzRpyLf4VXm3IRe3elN4fopF/XR/JZMdPxU7/RyGKg= = X-Google-Smtp-Source: AGHT+IFSLako3Icrx6Ye67yNLXsa9cK08uUl2AMKLs9knpl/+lZbH3ZY1uql/rneyHz553ipiJFiBXKfqjYK X-Received: by 2002:a17:90b:617:b0:27d:58a8:fa7f with SMTP id gb23-20020a17090b061700b0027d58a8fa7fmr14286328pjb.37.1698860598694; Wed, 01 Nov 2023 10:43:18 -0700 (PDT) Received: from postal.iol.unh.edu (postal.iol.unh.edu. [2606:4100:3880:1234::84]) by smtp-relay.gmail.com with ESMTPS id co1-20020a17090afe8100b0027d3a5d4185sm273278pjb.12.2023.11.01.10.43.18 (version=TLS1_2 cipher=ECDHE-ECDSA-AES128-GCM-SHA256 bits=128/128); Wed, 01 Nov 2023 10:43:18 -0700 (PDT) X-Relaying-Domain: iol.unh.edu Date: Wed, 01 Nov 2023 10:43:18 -0700 (PDT) Message-ID: <65428e36.170a0220.95714.4ed5SMTPIN_ADDED_MISSING@mx.google.com> Received: from [172.21.0.2] (unknown [172.18.0.240]) by postal.iol.unh.edu (Postfix) with ESMTP id E49E76050A61; Wed, 1 Nov 2023 13:43:17 -0400 (EDT) Subject: |SUCCESS| pw133710 [PATCH] ethdev: fix 32-bit build with GCC-13 From: dpdklab@iol.unh.edu To: Test Report Cc: dpdk-test-reports@iol.unh.edu Content-Type: text/plain X-BeenThere: test-report@dpdk.org X-Mailman-Version: 2.1.29 Precedence: list List-Id: automatic DPDK test reports List-Unsubscribe: , List-Archive: List-Post: List-Help: List-Subscribe: , Errors-To: test-report-bounces@dpdk.org Test-Label: iol-compile-amd64-testing Test-Status: SUCCESS http://dpdk.org/patch/133710 _Testing PASS_ Submitter: Ruifeng Wang Date: Wednesday, November 01 2023 07:15:54 DPDK git baseline: Repo:dpdk Branch: master CommitID:1025bd1c24b1be70e028c7ba0595782bce75fcc6 133710 --> testing pass Test environment and result as below: +---------------------+--------------------+----------------------+ | Environment | dpdk_meson_compile | dpdk_mingw64_compile | +=====================+====================+======================+ | CentOS Stream 8 | PASS | SKIPPED | +---------------------+--------------------+----------------------+ | CentOS Stream 9 | PASS | SKIPPED | +---------------------+--------------------+----------------------+ | Debian Bullseye | PASS | SKIPPED | +---------------------+--------------------+----------------------+ | Debian Buster | PASS | SKIPPED | +---------------------+--------------------+----------------------+ | Fedora 37 | PASS | SKIPPED | +---------------------+--------------------+----------------------+ | Fedora 38 | PASS | SKIPPED | +---------------------+--------------------+----------------------+ | RHEL8 | PASS | SKIPPED | +---------------------+--------------------+----------------------+ | Windows Server 2019 | PASS | PASS | +---------------------+--------------------+----------------------+ | Ubuntu 22.04 | PASS | SKIPPED | +---------------------+--------------------+----------------------+ | Ubuntu 20.04 | PASS | SKIPPED | +---------------------+--------------------+----------------------+ | FreeBSD 13 | PASS | SKIPPED | +---------------------+--------------------+----------------------+ | Alpine | PASS | SKIPPED | +---------------------+--------------------+----------------------+ | openSUSE Leap 15 | PASS | SKIPPED | +---------------------+--------------------+----------------------+ CentOS Stream 8 Kernel: 4.18.0-240.10.1.el8_3.x86_64 Compiler: gcc 8.4.1 20200928 CentOS Stream 9 Kernel: 4.18.0-240.10.1.el8_3.x86_64 Compiler: gcc 11.3.1 20220421 Debian Bullseye Kernel: 5.4.0-122-generic Compiler: gcc 10.2.1-6 Debian Buster Kernel: 5.4.0-122-generic Compiler: gcc 8.3.0-6 Fedora 37 Kernel: Depends on container host system Compiler: gcc 12.3.1 Fedora 38 Kernel: Depends on container host Compiler: gcc 13.1.1 RHEL8 Kernel: 4.18.0-240.10.1.el8_3.x86_64 Compiler: gcc 8.3.1 20191121 (Red Hat 8.3.1-5) Windows Server 2019 Kernel: 10.0 Compiler: clang 14.0 and gcc 8.1.0 (MinGW) Ubuntu 22.04 Kernel: 4.18.0-240.10.1.el8_3.x86_64 Compiler: gcc 11.3.0 Ubuntu 20.04 Kernel: 5.4.0-153-generic Compiler: gcc 9.4.0-1ubuntu1~20.04.1 FreeBSD 13 Kernel: 13.0 Compiler: clang 11.0.1 Alpine Kernel: 5.4.0-73-generic Compiler: gcc (Alpine 10.3.1_git20210424) 10.3.1 20210424 openSUSE Leap 15 Kernel: 4.18.0-240.10.1.el8_3.x86_64 Compiler: gcc 7.5.0 To view detailed results, visit: https://lab.dpdk.org/results/dashboard/patchsets/28174/ UNH-IOL DPDK Community Lab To manage your email subscriptions, visit: https://lab.dpdk.org/results/dashboard/preferences/subscriptions/