From mboxrd@z Thu Jan  1 00:00:00 1970
Return-Path: <test-report-bounces@dpdk.org>
Received: from mails.dpdk.org (mails.dpdk.org [217.70.189.124])
	by inbox.dpdk.org (Postfix) with ESMTP id 365BE43263
	for <public@inbox.dpdk.org>; Wed,  1 Nov 2023 18:44:46 +0100 (CET)
Received: from mails.dpdk.org (localhost [127.0.0.1])
	by mails.dpdk.org (Postfix) with ESMTP id 2FBE8400EF;
	Wed,  1 Nov 2023 18:44:46 +0100 (CET)
Received: from mail-pl1-f226.google.com (mail-pl1-f226.google.com
 [209.85.214.226])
 by mails.dpdk.org (Postfix) with ESMTP id 9EB43402DF
 for <test-report@dpdk.org>; Wed,  1 Nov 2023 18:44:44 +0100 (CET)
Received: by mail-pl1-f226.google.com with SMTP id
 d9443c01a7336-1cc329ce84cso41733055ad.2
 for <test-report@dpdk.org>; Wed, 01 Nov 2023 10:44:44 -0700 (PDT)
DKIM-Signature: v=1; a=rsa-sha256; c=relaxed/relaxed;
 d=iol.unh.edu; s=unh-iol; t=1698860684; x=1699465484; darn=dpdk.org;
 h=cc:to:from:subject:message-id:date:from:to:cc:subject:date
 :message-id:reply-to;
 bh=TsMSTtOi1ODPG+0Z02LFtPsaKYvqHT5bJ3HjzFatWA8=;
 b=VQS1GRLSgQkhetUKMGdJHrbs/fgMuNZSwTzpKTk3bshDVhVY6tbF8xTXCZOfKCVX2m
 DeLqHY8mqb0JCRz0hRrKyAXxHHE1muRhosT/niWszi9jXqu+2ltWzV6wV848lbHrxWFm
 cfXpfdGjJbTHceLgQqBc70cqjpAjiseSPmcEE=
X-Google-DKIM-Signature: v=1; a=rsa-sha256; c=relaxed/relaxed;
 d=1e100.net; s=20230601; t=1698860684; x=1699465484;
 h=cc:to:from:subject:message-id:date:x-gm-message-state:from:to:cc
 :subject:date:message-id:reply-to;
 bh=TsMSTtOi1ODPG+0Z02LFtPsaKYvqHT5bJ3HjzFatWA8=;
 b=GtDj1xFG/6Cu/OU9fh1zHJjKIitgtL4q2tmW/vhi8gSsnuS0jKeiLhiTueEUX9w3LS
 5g6OsiI5uEdX+XMZNqb6TbP6UgonzTXxCTMSMCvp7jN6af9Cnz5C4uqpte2+hLZtUp0V
 LZdChFL2nlMKRK8Skvj4ZPBOybs5dUvUqgPa8hrg8Acjl6IyoArCcUGJXKhv3WIvZxhF
 tfyXAdYb0/bQgvhWc+uayUzi0l+Jt+VxifPr0Kjgh+N/YSXRd7CQiRTEBp3bVqKtHGPP
 sm+zT6beRwZzosav8h5FJcqVHDTIaWzu4kDb6i7doceTwOCmdkvsYXZQRwpalcBmU7Cu
 mBSA==
X-Gm-Message-State: AOJu0Yyyfz7wcf+6g3/BcZJMPSm5wLrokfhRUCzIEc0IjjZctCYIMsSw
 /i/rufyaGQjV9CoiHVLKpoe3sgSmlJkn6/C1fNlaoULRiodpgSlA1gnHdA==
X-Google-Smtp-Source: AGHT+IEB2Dzh7A1pQynFwRTleldXuGjYGhWvrYA29QJIWvsRB5DV6oFmMACDOSBkjAuOLY/NMmUt0wPBBJus
X-Received: by 2002:a17:903:1246:b0:1c5:b855:38f with SMTP id
 u6-20020a170903124600b001c5b855038fmr18549054plh.24.1698860683849; 
 Wed, 01 Nov 2023 10:44:43 -0700 (PDT)
Received: from postal.iol.unh.edu (postal.iol.unh.edu. [132.177.123.84])
 by smtp-relay.gmail.com with ESMTPS id
 jl14-20020a170903134e00b001cc4a6430cfsm655797plb.125.2023.11.01.10.44.43
 (version=TLS1_2 cipher=ECDHE-ECDSA-AES128-GCM-SHA256 bits=128/128);
 Wed, 01 Nov 2023 10:44:43 -0700 (PDT)
X-Relaying-Domain: iol.unh.edu
Date: Wed, 01 Nov 2023 10:44:43 -0700 (PDT)
Message-ID: <65428e8b.170a0220.f3b82.a092SMTPIN_ADDED_MISSING@mx.google.com>
Received: from [172.17.0.4] (unknown [172.18.0.215])
 by postal.iol.unh.edu (Postfix) with ESMTP id 11CED6050A61;
 Wed,  1 Nov 2023 13:44:43 -0400 (EDT)
Subject: |SUCCESS| pw133710 [PATCH] ethdev: fix 32-bit build with GCC-13
From: dpdklab@iol.unh.edu
To: Test Report <test-report@dpdk.org>
Cc: dpdk-test-reports@iol.unh.edu
Content-Type: text/plain
X-BeenThere: test-report@dpdk.org
X-Mailman-Version: 2.1.29
Precedence: list
List-Id: automatic DPDK test reports <test-report.dpdk.org>
List-Unsubscribe: <https://mails.dpdk.org/options/test-report>,
 <mailto:test-report-request@dpdk.org?subject=unsubscribe>
List-Archive: <http://mails.dpdk.org/archives/test-report/>
List-Post: <mailto:test-report@dpdk.org>
List-Help: <mailto:test-report-request@dpdk.org?subject=help>
List-Subscribe: <https://mails.dpdk.org/listinfo/test-report>,
 <mailto:test-report-request@dpdk.org?subject=subscribe>
Errors-To: test-report-bounces@dpdk.org

Test-Label: iol-compile-amd64-testing
Test-Status: SUCCESS
http://dpdk.org/patch/133710

_Testing PASS_

Submitter: Ruifeng Wang <ruifeng.wang@arm.com>
Date: Wednesday, November 01 2023 07:15:54 
DPDK git baseline: Repo:dpdk
  Branch: master
  CommitID:1025bd1c24b1be70e028c7ba0595782bce75fcc6

133710 --> testing pass

Test environment and result as below:

+---------------------+--------------------+----------------------+
|     Environment     | dpdk_meson_compile | dpdk_mingw64_compile |
+=====================+====================+======================+
| CentOS Stream 8     | PASS               | SKIPPED              |
+---------------------+--------------------+----------------------+
| CentOS Stream 9     | PASS               | SKIPPED              |
+---------------------+--------------------+----------------------+
| Debian Bullseye     | PASS               | SKIPPED              |
+---------------------+--------------------+----------------------+
| Debian Buster       | PASS               | SKIPPED              |
+---------------------+--------------------+----------------------+
| Fedora 37           | PASS               | SKIPPED              |
+---------------------+--------------------+----------------------+
| Fedora 38           | PASS               | SKIPPED              |
+---------------------+--------------------+----------------------+
| RHEL8               | PASS               | SKIPPED              |
+---------------------+--------------------+----------------------+
| Windows Server 2019 | PASS               | PASS                 |
+---------------------+--------------------+----------------------+
| Ubuntu 22.04        | PASS               | SKIPPED              |
+---------------------+--------------------+----------------------+
| Ubuntu 20.04        | PASS               | SKIPPED              |
+---------------------+--------------------+----------------------+
| FreeBSD 13          | PASS               | SKIPPED              |
+---------------------+--------------------+----------------------+
| Alpine              | PASS               | SKIPPED              |
+---------------------+--------------------+----------------------+
| openSUSE Leap 15    | PASS               | SKIPPED              |
+---------------------+--------------------+----------------------+


CentOS Stream 8
	Kernel: 4.18.0-240.10.1.el8_3.x86_64
	Compiler: gcc 8.4.1 20200928

CentOS Stream 9
	Kernel: 4.18.0-240.10.1.el8_3.x86_64
	Compiler: gcc 11.3.1 20220421

Debian Bullseye
	Kernel: 5.4.0-122-generic
	Compiler: gcc 10.2.1-6

Debian Buster
	Kernel: 5.4.0-122-generic
	Compiler: gcc 8.3.0-6

Fedora 37
	Kernel: Depends on container host system
	Compiler: gcc 12.3.1

Fedora 38
	Kernel: Depends on container host
	Compiler: gcc 13.1.1

RHEL8
	Kernel: 4.18.0-240.10.1.el8_3.x86_64
	Compiler: gcc 8.3.1 20191121 (Red Hat 8.3.1-5)

Windows Server 2019
	Kernel: 10.0
	Compiler: clang 14.0 and gcc 8.1.0 (MinGW)

Ubuntu 22.04
	Kernel: 4.18.0-240.10.1.el8_3.x86_64
	Compiler: gcc 11.3.0

Ubuntu 20.04
	Kernel: 5.4.0-153-generic
	Compiler: gcc 9.4.0-1ubuntu1~20.04.1

FreeBSD 13
	Kernel: 13.0
	Compiler: clang 11.0.1

Alpine
	Kernel: 5.4.0-73-generic
	Compiler: gcc (Alpine 10.3.1_git20210424) 10.3.1 20210424

openSUSE Leap 15
	Kernel: 4.18.0-240.10.1.el8_3.x86_64
	Compiler: gcc 7.5.0

To view detailed results, visit:
https://lab.dpdk.org/results/dashboard/patchsets/28174/

UNH-IOL DPDK Community Lab

To manage your email subscriptions, visit: 
https://lab.dpdk.org/results/dashboard/preferences/subscriptions/