From mboxrd@z Thu Jan 1 00:00:00 1970 Return-Path: Received: from mails.dpdk.org (mails.dpdk.org [217.70.189.124]) by inbox.dpdk.org (Postfix) with ESMTP id E080543264 for ; Wed, 1 Nov 2023 21:27:18 +0100 (CET) Received: from mails.dpdk.org (localhost [127.0.0.1]) by mails.dpdk.org (Postfix) with ESMTP id DAD8040298; Wed, 1 Nov 2023 21:27:18 +0100 (CET) Received: from mail-il1-f225.google.com (mail-il1-f225.google.com [209.85.166.225]) by mails.dpdk.org (Postfix) with ESMTP id 79D0440298 for ; Wed, 1 Nov 2023 21:27:17 +0100 (CET) Received: by mail-il1-f225.google.com with SMTP id e9e14a558f8ab-35942cb9ef4so1110225ab.3 for ; Wed, 01 Nov 2023 13:27:17 -0700 (PDT) DKIM-Signature: v=1; a=rsa-sha256; c=relaxed/relaxed; d=iol.unh.edu; s=unh-iol; t=1698870437; x=1699475237; darn=dpdk.org; h=cc:to:from:subject:message-id:date:from:to:cc:subject:date :message-id:reply-to; bh=ecUjsDWWQsopiNnLxY/ZH69qx90rb/hThgy+zYjS9S0=; b=DsvWj9IZ3Aa9PnFN7Fk20o5hstgyw8b4LxhOPkpLF2Q9Fb2YcXah+HihEZgK+roxZw nX9NDg2zSDtSdhwrW1Sj+R7FSSnW8VveUgFJyzwerTe4x8Iyx4xQ9C/Jrq8yy8vzv+ar S14YIUeb6OIxekwu7hoSWNOihE77NtGxBCtPk= X-Google-DKIM-Signature: v=1; a=rsa-sha256; c=relaxed/relaxed; d=1e100.net; s=20230601; t=1698870437; x=1699475237; h=cc:to:from:subject:message-id:date:x-gm-message-state:from:to:cc :subject:date:message-id:reply-to; bh=ecUjsDWWQsopiNnLxY/ZH69qx90rb/hThgy+zYjS9S0=; b=QWgxXNAuXn4d/aBsgpTuGsLqmXE9YmL3Xk2Ch+3Lcnp+laoRaaB3jGVcNITR/6DXkS EneYJL/7jUG1iz3pSSffbyCvaT3W8v5FLc99WOb2tNhuG8jKRDbYt+sZD7yGy+wGMR+r ZES0t9W76+Z5M7PFKIohTIeUb4GEd4Q8/K4U7dvW+J8vI0z7Vte1gUusHk+5KdTk6e54 bx5tlI97KKad6shlJCX5TG6oNz5ljt3/QkPcWxbGs5aPo6SeOPAyoY+jOfJsL3TCBX4Q CJBOPLNQC6P+j0PcD6t9RUEvY7eR52rw2wVzhJkV0eJjEjdSJyacv7/sJwMoUTDsY21M MDrQ== X-Gm-Message-State: AOJu0YzrHhixQjBzSQuxMBo1pJpiP87IktsC3XolkwMdF2kVp0wBWMn2 4IdtlFk5OQEbUdEBRweykrWTnIpB2wIQ4yiJHwZ6grUos919iBRmPDabzSDrEeTVz340L8lx1A= = X-Google-Smtp-Source: AGHT+IGBoI8eas3vmBCVKXxwS41TegsElqXVLWqcDv6JX7Fir6wvHtdmbToAHishOMSwvnKvOTejDjz6wC9+ X-Received: by 2002:a05:6e02:1cab:b0:357:ccad:95dd with SMTP id x11-20020a056e021cab00b00357ccad95ddmr21467198ill.1.1698870436944; Wed, 01 Nov 2023 13:27:16 -0700 (PDT) Received: from postal.iol.unh.edu (postal.iol.unh.edu. [2606:4100:3880:1234::84]) by smtp-relay.gmail.com with ESMTPS id v14-20020a92d24e000000b003512515dd22sm416279ilg.56.2023.11.01.13.27.16 (version=TLS1_2 cipher=ECDHE-ECDSA-AES128-GCM-SHA256 bits=128/128); Wed, 01 Nov 2023 13:27:16 -0700 (PDT) X-Relaying-Domain: iol.unh.edu Date: Wed, 01 Nov 2023 13:27:16 -0700 (PDT) Message-ID: <6542b4a4.920a0220.958fa.6ad7SMTPIN_ADDED_MISSING@mx.google.com> Received: from [172.21.0.2] (unknown [172.18.0.240]) by postal.iol.unh.edu (Postfix) with ESMTP id 79E336050A61; Wed, 1 Nov 2023 16:27:16 -0400 (EDT) Subject: |SUCCESS| pw133710 [PATCH] ethdev: fix 32-bit build with GCC-13 From: dpdklab@iol.unh.edu To: Test Report Cc: dpdk-test-reports@iol.unh.edu Content-Type: text/plain X-BeenThere: test-report@dpdk.org X-Mailman-Version: 2.1.29 Precedence: list List-Id: automatic DPDK test reports List-Unsubscribe: , List-Archive: List-Post: List-Help: List-Subscribe: , Errors-To: test-report-bounces@dpdk.org Test-Label: iol-unit-amd64-testing Test-Status: SUCCESS http://dpdk.org/patch/133710 _Testing PASS_ Submitter: Ruifeng Wang Date: Wednesday, November 01 2023 07:15:54 DPDK git baseline: Repo:dpdk Branch: master CommitID:1025bd1c24b1be70e028c7ba0595782bce75fcc6 133710 --> testing pass Test environment and result as below: +---------------------+----------------+ | Environment | dpdk_unit_test | +=====================+================+ | CentOS Stream 9 | PASS | +---------------------+----------------+ | CentOS Stream 8 | PASS | +---------------------+----------------+ | Debian Buster | PASS | +---------------------+----------------+ | Debian Bullseye | PASS | +---------------------+----------------+ | Fedora 37 | PASS | +---------------------+----------------+ | Fedora 38 | PASS | +---------------------+----------------+ | openSUSE Leap 15 | PASS | +---------------------+----------------+ | RHEL8 | PASS | +---------------------+----------------+ | Ubuntu 22.04 | PASS | +---------------------+----------------+ | Ubuntu 20.04 | PASS | +---------------------+----------------+ | Windows Server 2019 | PASS | +---------------------+----------------+ CentOS Stream 9 Kernel: 4.18.0-240.10.1.el8_3.x86_64 Compiler: gcc 11.3.1 20220421 CentOS Stream 8 Kernel: 4.18.0-240.10.1.el8_3.x86_64 Compiler: gcc 8.4.1 20200928 Debian Buster Kernel: 5.4.0-122-generic Compiler: gcc 8.3.0-6 Debian Bullseye Kernel: 5.4.0-122-generic Compiler: gcc 10.2.1-6 Fedora 37 Kernel: Depends on container host system Compiler: gcc 12.3.1 Fedora 38 Kernel: Depends on container host Compiler: gcc 13.1.1 openSUSE Leap 15 Kernel: 4.18.0-240.10.1.el8_3.x86_64 Compiler: gcc 7.5.0 RHEL8 Kernel: 4.18.0-240.10.1.el8_3.x86_64 Compiler: gcc 8.3.1 20191121 (Red Hat 8.3.1-5) Ubuntu 22.04 Kernel: 4.18.0-240.10.1.el8_3.x86_64 Compiler: gcc 11.3.0 Ubuntu 20.04 Kernel: 5.4.0-153-generic Compiler: gcc 9.4.0-1ubuntu1~20.04.1 Windows Server 2019 Kernel: 10.0 Compiler: clang 14.0 and gcc 8.1.0 (MinGW) To view detailed results, visit: https://lab.dpdk.org/results/dashboard/patchsets/28174/ UNH-IOL DPDK Community Lab To manage your email subscriptions, visit: https://lab.dpdk.org/results/dashboard/preferences/subscriptions/