From mboxrd@z Thu Jan 1 00:00:00 1970 Return-Path: Received: from mails.dpdk.org (mails.dpdk.org [217.70.189.124]) by inbox.dpdk.org (Postfix) with ESMTP id EF72843265 for ; Wed, 1 Nov 2023 23:12:37 +0100 (CET) Received: from mails.dpdk.org (localhost [127.0.0.1]) by mails.dpdk.org (Postfix) with ESMTP id E8D3040298; Wed, 1 Nov 2023 23:12:37 +0100 (CET) Received: from mail-pl1-f228.google.com (mail-pl1-f228.google.com [209.85.214.228]) by mails.dpdk.org (Postfix) with ESMTP id 317B540298 for ; Wed, 1 Nov 2023 23:12:36 +0100 (CET) Received: by mail-pl1-f228.google.com with SMTP id d9443c01a7336-1cbf47fa563so2223085ad.2 for ; Wed, 01 Nov 2023 15:12:36 -0700 (PDT) DKIM-Signature: v=1; a=rsa-sha256; c=relaxed/relaxed; d=iol.unh.edu; s=unh-iol; t=1698876755; x=1699481555; darn=dpdk.org; h=cc:to:from:subject:message-id:date:from:to:cc:subject:date :message-id:reply-to; bh=yoICzWC3ogFNzvv6SoQZi7+TFG0Az/PuQo/Shg4nbYw=; b=L8iF8eulu77u9fYOqnqsc3KLY2n38WjJ6NBb1JMEpwQGORQCeiFCwDGyW3Zq9H4tWO NhUer/hwGBUJzEzV/VZJOhA7lKd+LbNNMkEHwYKjS3UroXJBJYMFr2UX+4Z1MCbRG0qN HAPrpdNKTKlyOSvWi/1cmkQJ2VET5oVLipfYc= X-Google-DKIM-Signature: v=1; a=rsa-sha256; c=relaxed/relaxed; d=1e100.net; s=20230601; t=1698876755; x=1699481555; h=cc:to:from:subject:message-id:date:x-gm-message-state:from:to:cc :subject:date:message-id:reply-to; bh=yoICzWC3ogFNzvv6SoQZi7+TFG0Az/PuQo/Shg4nbYw=; b=DqyCk7eNtD4kPpNTo41cw3U6ns3G6Vm2eHkrxs+tVreArGBoP3Ze9TO8+Tab8Pxss4 j0dyFzHsL5OyvYIU7EL5mg0IgXERcjVqJwCGddMTXImtXur740K7Ig1iNCObvfO1Qgjr jfhXTFkq4+w6yrlmxg3izmYtfxfF1vf7K9SUa6wvQLsEFAKYuYGF8x6siFPgAgy/FXuz d4szJh1+c1UM20whzGYRoeRs6YAj1l7B2qFzRk7HGsQCfqrIO1j1D3N5bqF94p3tFJUe ontqAGH208HZmRpVB+98rTUNzJgWu7OJSmDUm96iOBc65iSHbcTHPYlEm2XMs3kQk7MT LYWQ== X-Gm-Message-State: AOJu0Yy8Y11LjIfe1FJPXMMKK3aR8jOyCgkYzmitfM62QtpWcvudR0vq Sp1qARIeOTTbYUgL8+6RQnSuN82wcIDUT9itH2BLfu8Ty17OqwC0B6OSjFaf4Cym6JxP9/+Ncg= = X-Google-Smtp-Source: AGHT+IGFnjE2Btb6XqS0ZtIBUiAMWdLLdsopIWZ4+FoPo/284ExBPd0rowB9+g3HxNT6edwAugyDUD9EL/wZ X-Received: by 2002:a17:902:6b48:b0:1c5:8401:356c with SMTP id g8-20020a1709026b4800b001c58401356cmr13332912plt.62.1698876755396; Wed, 01 Nov 2023 15:12:35 -0700 (PDT) Received: from postal.iol.unh.edu (postal.iol.unh.edu. [2606:4100:3880:1234::84]) by smtp-relay.gmail.com with ESMTPS id d14-20020a170902aa8e00b001cc5001f7afsm721749plr.67.2023.11.01.15.12.35 (version=TLS1_2 cipher=ECDHE-ECDSA-AES128-GCM-SHA256 bits=128/128); Wed, 01 Nov 2023 15:12:35 -0700 (PDT) X-Relaying-Domain: iol.unh.edu Date: Wed, 01 Nov 2023 15:12:35 -0700 (PDT) Message-ID: <6542cd53.170a0220.b088.acd6SMTPIN_ADDED_MISSING@mx.google.com> Received: from [172.21.0.2] (unknown [172.18.0.240]) by postal.iol.unh.edu (Postfix) with ESMTP id 95C466050A61; Wed, 1 Nov 2023 18:12:34 -0400 (EDT) Subject: |SUCCESS| pw133731 [PATCH] maintainers: update for mempool library From: dpdklab@iol.unh.edu To: Test Report Cc: dpdk-test-reports@iol.unh.edu Content-Type: text/plain X-BeenThere: test-report@dpdk.org X-Mailman-Version: 2.1.29 Precedence: list List-Id: automatic DPDK test reports List-Unsubscribe: , List-Archive: List-Post: List-Help: List-Subscribe: , Errors-To: test-report-bounces@dpdk.org Test-Label: iol-unit-amd64-testing Test-Status: SUCCESS http://dpdk.org/patch/133731 _Testing PASS_ Submitter: Morten Brorup Date: Wednesday, November 01 2023 16:20:18 DPDK git baseline: Repo:dpdk Branch: master CommitID:1025bd1c24b1be70e028c7ba0595782bce75fcc6 133731 --> testing pass Test environment and result as below: +------------------+----------------+ | Environment | dpdk_unit_test | +==================+================+ | CentOS Stream 8 | PASS | +------------------+----------------+ | CentOS Stream 9 | PASS | +------------------+----------------+ | Debian Buster | PASS | +------------------+----------------+ | Debian Bullseye | PASS | +------------------+----------------+ | Fedora 38 | PASS | +------------------+----------------+ | Fedora 37 | PASS | +------------------+----------------+ | openSUSE Leap 15 | PASS | +------------------+----------------+ | RHEL8 | PASS | +------------------+----------------+ | Ubuntu 20.04 | PASS | +------------------+----------------+ | Ubuntu 22.04 | PASS | +------------------+----------------+ CentOS Stream 8 Kernel: 4.18.0-240.10.1.el8_3.x86_64 Compiler: gcc 8.4.1 20200928 CentOS Stream 9 Kernel: 4.18.0-240.10.1.el8_3.x86_64 Compiler: gcc 11.3.1 20220421 Debian Buster Kernel: 5.4.0-122-generic Compiler: gcc 8.3.0-6 Debian Bullseye Kernel: 5.4.0-122-generic Compiler: gcc 10.2.1-6 Fedora 38 Kernel: Depends on container host Compiler: gcc 13.1.1 Fedora 37 Kernel: Depends on container host system Compiler: gcc 12.3.1 openSUSE Leap 15 Kernel: 4.18.0-240.10.1.el8_3.x86_64 Compiler: gcc 7.5.0 RHEL8 Kernel: 4.18.0-240.10.1.el8_3.x86_64 Compiler: gcc 8.3.1 20191121 (Red Hat 8.3.1-5) Ubuntu 20.04 Kernel: 5.4.0-153-generic Compiler: gcc 9.4.0-1ubuntu1~20.04.1 Ubuntu 22.04 Kernel: 4.18.0-240.10.1.el8_3.x86_64 Compiler: gcc 11.3.0 To view detailed results, visit: https://lab.dpdk.org/results/dashboard/patchsets/28183/ UNH-IOL DPDK Community Lab To manage your email subscriptions, visit: https://lab.dpdk.org/results/dashboard/preferences/subscriptions/