From mboxrd@z Thu Jan  1 00:00:00 1970
Return-Path: <test-report-bounces@dpdk.org>
Received: from mails.dpdk.org (mails.dpdk.org [217.70.189.124])
	by inbox.dpdk.org (Postfix) with ESMTP id 657E543265
	for <public@inbox.dpdk.org>; Wed,  1 Nov 2023 23:19:47 +0100 (CET)
Received: from mails.dpdk.org (localhost [127.0.0.1])
	by mails.dpdk.org (Postfix) with ESMTP id 604A940298;
	Wed,  1 Nov 2023 23:19:47 +0100 (CET)
Received: from mail-pl1-f228.google.com (mail-pl1-f228.google.com
 [209.85.214.228])
 by mails.dpdk.org (Postfix) with ESMTP id B4C0D40298
 for <test-report@dpdk.org>; Wed,  1 Nov 2023 23:19:46 +0100 (CET)
Received: by mail-pl1-f228.google.com with SMTP id
 d9443c01a7336-1cc3bb32b5dso2193855ad.3
 for <test-report@dpdk.org>; Wed, 01 Nov 2023 15:19:46 -0700 (PDT)
DKIM-Signature: v=1; a=rsa-sha256; c=relaxed/relaxed;
 d=iol.unh.edu; s=unh-iol; t=1698877186; x=1699481986; darn=dpdk.org;
 h=cc:to:from:subject:message-id:date:from:to:cc:subject:date
 :message-id:reply-to;
 bh=ZGEsfxpPtIx9mEhzhY57BDcipiyj7g6L10lTcuwqTrM=;
 b=Ff+B3VqFHyOg2SXNJ/zvv/Q4JiNHSJVDtyum2MOyvNkO4EiOPdZXWnGqIXWZjEfpCo
 +OLi6G2PnxEUkTr92baPY11TOlmoMAWzpr5p4iCdZTt4E8VnInl0Sj5szhjrrEnqZop9
 9UateVMe6TfMZHNp6jWupzrGH5HMBsMMZTA0g=
X-Google-DKIM-Signature: v=1; a=rsa-sha256; c=relaxed/relaxed;
 d=1e100.net; s=20230601; t=1698877186; x=1699481986;
 h=cc:to:from:subject:message-id:date:x-gm-message-state:from:to:cc
 :subject:date:message-id:reply-to;
 bh=ZGEsfxpPtIx9mEhzhY57BDcipiyj7g6L10lTcuwqTrM=;
 b=TDT7ok7w71dNDf/Tx82KgYiKqfqZnnC9ZgWQYOb/P1J9KQhIQ8e1hJnPrjqmLobwJp
 QpEn+BVfVxy3Nz/E5vB4JnDljm12mZOOao2LYVhSrDMgc5WFqsa3Kf3jCcXF2hBlgtSs
 dQrRT3uIKe36Z70glm36eep/6ZKKVWnVky0E/jSAn7zwQTqcng/gYEGBfqsvLeEiu2zN
 pzwNW21Y5tXrB3UFVMqZ1LbI0B7KWk1rkFK4iChh+GMa8umkZcqZuhti9zUfRU/pXonT
 Mc7W7zj1G7XpSZtxB2fkE+8Y1qFQU9iK+DpTcGH9cPP/RR8RpwOL8WJ3CVnm8DhDceJg
 6xjg==
X-Gm-Message-State: AOJu0YzY/Pr4pM6Xer7N9tWtNeLQi1hRf+pD9bfok3bOMXszWG2kkyLd
 e/izqvmxVpJSRNZotW6ovqgEribYMOkl5vqqrnnJ14t4gRn5Mcv1oRnNtA==
X-Google-Smtp-Source: AGHT+IGaIrmdvacs7VPJC/JF75B01N41llvnmDF5oIiVIG29oS9eQ9BL/A99s0iQktLnAqBBxQW5i5JCPIfi
X-Received: by 2002:a17:902:f94b:b0:1cc:3fcb:8d2b with SMTP id
 kx11-20020a170902f94b00b001cc3fcb8d2bmr9952296plb.21.1698877185957; 
 Wed, 01 Nov 2023 15:19:45 -0700 (PDT)
Received: from postal.iol.unh.edu (postal.iol.unh.edu. [132.177.123.84])
 by smtp-relay.gmail.com with ESMTPS id
 f18-20020a170902e99200b001cc0e3a85eesm717226plb.112.2023.11.01.15.19.45
 (version=TLS1_2 cipher=ECDHE-ECDSA-AES128-GCM-SHA256 bits=128/128);
 Wed, 01 Nov 2023 15:19:45 -0700 (PDT)
X-Relaying-Domain: iol.unh.edu
Date: Wed, 01 Nov 2023 15:19:45 -0700 (PDT)
Message-ID: <6542cf01.170a0220.52f2.ae07SMTPIN_ADDED_MISSING@mx.google.com>
Received: from [172.21.0.2] (unknown [172.18.0.240])
 by postal.iol.unh.edu (Postfix) with ESMTP id 2B0806050A61;
 Wed,  1 Nov 2023 18:19:45 -0400 (EDT)
Subject: |SUCCESS| pw133731 [PATCH] maintainers: update for mempool library
From: dpdklab@iol.unh.edu
To: Test Report <test-report@dpdk.org>
Cc: dpdk-test-reports@iol.unh.edu
Content-Type: text/plain
X-BeenThere: test-report@dpdk.org
X-Mailman-Version: 2.1.29
Precedence: list
List-Id: automatic DPDK test reports <test-report.dpdk.org>
List-Unsubscribe: <https://mails.dpdk.org/options/test-report>,
 <mailto:test-report-request@dpdk.org?subject=unsubscribe>
List-Archive: <http://mails.dpdk.org/archives/test-report/>
List-Post: <mailto:test-report@dpdk.org>
List-Help: <mailto:test-report-request@dpdk.org?subject=help>
List-Subscribe: <https://mails.dpdk.org/listinfo/test-report>,
 <mailto:test-report-request@dpdk.org?subject=subscribe>
Errors-To: test-report-bounces@dpdk.org

Test-Label: iol-unit-arm64-testing
Test-Status: SUCCESS
http://dpdk.org/patch/133731

_Testing PASS_

Submitter: Morten Brorup <mb@smartsharesystems.com>
Date: Wednesday, November 01 2023 16:20:18 
DPDK git baseline: Repo:dpdk
  Branch: master
  CommitID:1025bd1c24b1be70e028c7ba0595782bce75fcc6

133731 --> testing pass

Test environment and result as below:

+--------------------------+----------------+---------------------------+------------------------------+--------------+
|       Environment        | dpdk_unit_test | cryptodev_sw_zuc_autotest | cryptodev_sw_snow3g_autotest | lpm_autotest |
+==========================+================+===========================+==============================+==============+
| CentOS Stream 9 (ARM)    | PASS           | SKIPPED                   | SKIPPED                      | SKIPPED      |
+--------------------------+----------------+---------------------------+------------------------------+--------------+
| Debian 11 (Buster) (ARM) | PASS           | SKIPPED                   | SKIPPED                      | SKIPPED      |
+--------------------------+----------------+---------------------------+------------------------------+--------------+
| Fedora 37 (ARM)          | PASS           | SKIPPED                   | SKIPPED                      | SKIPPED      |
+--------------------------+----------------+---------------------------+------------------------------+--------------+
| Fedora 38 (ARM)          | PASS           | SKIPPED                   | SKIPPED                      | SKIPPED      |
+--------------------------+----------------+---------------------------+------------------------------+--------------+
| Ubuntu 20.04 (ARM)       | PASS           | SKIPPED                   | SKIPPED                      | SKIPPED      |
+--------------------------+----------------+---------------------------+------------------------------+--------------+
| Debian 11 (arm)          | SKIPPED        | PASS                      | PASS                         | SKIPPED      |
+--------------------------+----------------+---------------------------+------------------------------+--------------+
| Ubuntu 20.04 ARM SVE     | SKIPPED        | SKIPPED                   | SKIPPED                      | PASS         |
+--------------------------+----------------+---------------------------+------------------------------+--------------+


CentOS Stream 9 (ARM)
	Kernel: Container Host Kernel
	Compiler: gcc 11.3.1

Debian 11 (Buster) (ARM)
	Kernel: Container Host Kernel
	Compiler: gcc 10.2.1

Fedora 37 (ARM)
	Kernel: Depends on container host
	Compiler: gcc 12.3.1

Fedora 38 (ARM)
	Kernel: Depends on container host
	Compiler: gcc 13.1.1

Ubuntu 20.04 (ARM)
	Kernel: Container Host Kernel
	Compiler: gcc 9.4.0

Debian 11 (arm)
	Kernel: Container Host Kernel
	Compiler: gcc 10.2.1

Ubuntu 20.04 ARM SVE
	Kernel: 5.4.0-80-generic
	Compiler: gcc 10.3.0 (Ubuntu 10.3.0-1ubuntu1~20.04)

To view detailed results, visit:
https://lab.dpdk.org/results/dashboard/patchsets/28183/

UNH-IOL DPDK Community Lab

To manage your email subscriptions, visit: 
https://lab.dpdk.org/results/dashboard/preferences/subscriptions/