From mboxrd@z Thu Jan  1 00:00:00 1970
Return-Path: <test-report-bounces@dpdk.org>
Received: from mails.dpdk.org (mails.dpdk.org [217.70.189.124])
	by inbox.dpdk.org (Postfix) with ESMTP id 070ED43265
	for <public@inbox.dpdk.org>; Wed,  1 Nov 2023 23:22:52 +0100 (CET)
Received: from mails.dpdk.org (localhost [127.0.0.1])
	by mails.dpdk.org (Postfix) with ESMTP id 01BE440298;
	Wed,  1 Nov 2023 23:22:52 +0100 (CET)
Received: from mail-il1-f226.google.com (mail-il1-f226.google.com
 [209.85.166.226])
 by mails.dpdk.org (Postfix) with ESMTP id E2E3C40298
 for <test-report@dpdk.org>; Wed,  1 Nov 2023 23:22:50 +0100 (CET)
Received: by mail-il1-f226.google.com with SMTP id
 e9e14a558f8ab-35930447ae9so1326205ab.2
 for <test-report@dpdk.org>; Wed, 01 Nov 2023 15:22:50 -0700 (PDT)
DKIM-Signature: v=1; a=rsa-sha256; c=relaxed/relaxed;
 d=iol.unh.edu; s=unh-iol; t=1698877370; x=1699482170; darn=dpdk.org;
 h=cc:to:from:subject:message-id:date:from:to:cc:subject:date
 :message-id:reply-to;
 bh=yoICzWC3ogFNzvv6SoQZi7+TFG0Az/PuQo/Shg4nbYw=;
 b=WDCc/mx5IzwAOgaprDdKe43O0gHFQ74n8r+ZvFbsToBfagkQ2t6OmdstL7NJdMZfuR
 Mb4ezYxkHjPwRseFJPApSYq5b9YRvMzkkqSnYV3Jvi5rnQmbb7+apsilqmvh+GxrEQfJ
 8c7X64+DEblWLMzszXGDEleFMnBO6KMsZjcdU=
X-Google-DKIM-Signature: v=1; a=rsa-sha256; c=relaxed/relaxed;
 d=1e100.net; s=20230601; t=1698877370; x=1699482170;
 h=cc:to:from:subject:message-id:date:x-gm-message-state:from:to:cc
 :subject:date:message-id:reply-to;
 bh=yoICzWC3ogFNzvv6SoQZi7+TFG0Az/PuQo/Shg4nbYw=;
 b=DIdRlmHV8Dg73sT6stVwbCQnFM2EyFiw3YcB+qzONMGNjlXfbHdcGjRBDO4e5UCc7V
 mQRN4z+RGFxNZ6QR4DBxtnXSWQDLmZeLq8MYtRpcMpOCa8AN6FGw+r8kckTQuM1qAEzo
 ImokhDBtmKZCRQOUs9AjGcQePZEWAhKxUrIVn2w+y7ULrS65v/2zNuXFU3XZg3OvLn6y
 mGNr+BvSvWo+cmPHJycRsDcBfTWbnfxPxaqOhABzweMDT5h5hA32KP6+l174ERCiVlBx
 1tokKtcyTPxwq9fmzhFZqBQkale0dyxQVuUkT2xhWQ4eDkGchQfMc/jbVsFxcNQAnLtO
 L2Pw==
X-Gm-Message-State: AOJu0YxQKsKYRof/gFSD4QXEDv5/qPspU5bSwCcNBK5OzEtxAaAmYzhu
 eCcwhhlAUHU0z1uz9zEzxhipgo4mFxAaHdjTsjhAo+lW6CxZ89ACQ/PkCHTvfTlV0UozDAwWvA=
 =
X-Google-Smtp-Source: AGHT+IHlfbl04II8wE/MxSZFaLaCyFrsGlzFh6WMo4WPg0hkqUMfmZPimUCBFCJWdx2s5+JgQrD1KixqcUNp
X-Received: by 2002:a05:6e02:d08:b0:359:4726:9017 with SMTP id
 g8-20020a056e020d0800b0035947269017mr2345107ilj.15.1698877370405; 
 Wed, 01 Nov 2023 15:22:50 -0700 (PDT)
Received: from postal.iol.unh.edu (postal.iol.unh.edu.
 [2606:4100:3880:1234::84]) by smtp-relay.gmail.com with ESMTPS id
 o4-20020a927304000000b00351484336dfsm458777ilc.16.2023.11.01.15.22.50
 (version=TLS1_2 cipher=ECDHE-ECDSA-AES128-GCM-SHA256 bits=128/128);
 Wed, 01 Nov 2023 15:22:50 -0700 (PDT)
X-Relaying-Domain: iol.unh.edu
Date: Wed, 01 Nov 2023 15:22:50 -0700 (PDT)
Message-ID: <6542cfba.920a0220.defe5.844cSMTPIN_ADDED_MISSING@mx.google.com>
Received: from [172.21.0.2] (unknown [172.18.0.240])
 by postal.iol.unh.edu (Postfix) with ESMTP id 13F696050A61;
 Wed,  1 Nov 2023 18:22:50 -0400 (EDT)
Subject: |SUCCESS| pw133731 [PATCH] maintainers: update for mempool library
From: dpdklab@iol.unh.edu
To: Test Report <test-report@dpdk.org>
Cc: dpdk-test-reports@iol.unh.edu
Content-Type: text/plain
X-BeenThere: test-report@dpdk.org
X-Mailman-Version: 2.1.29
Precedence: list
List-Id: automatic DPDK test reports <test-report.dpdk.org>
List-Unsubscribe: <https://mails.dpdk.org/options/test-report>,
 <mailto:test-report-request@dpdk.org?subject=unsubscribe>
List-Archive: <http://mails.dpdk.org/archives/test-report/>
List-Post: <mailto:test-report@dpdk.org>
List-Help: <mailto:test-report-request@dpdk.org?subject=help>
List-Subscribe: <https://mails.dpdk.org/listinfo/test-report>,
 <mailto:test-report-request@dpdk.org?subject=subscribe>
Errors-To: test-report-bounces@dpdk.org

Test-Label: iol-unit-amd64-testing
Test-Status: SUCCESS
http://dpdk.org/patch/133731

_Testing PASS_

Submitter: Morten Brorup <mb@smartsharesystems.com>
Date: Wednesday, November 01 2023 16:20:18 
DPDK git baseline: Repo:dpdk
  Branch: master
  CommitID:1025bd1c24b1be70e028c7ba0595782bce75fcc6

133731 --> testing pass

Test environment and result as below:

+------------------+----------------+
|   Environment    | dpdk_unit_test |
+==================+================+
| CentOS Stream 8  | PASS           |
+------------------+----------------+
| CentOS Stream 9  | PASS           |
+------------------+----------------+
| Debian Buster    | PASS           |
+------------------+----------------+
| Debian Bullseye  | PASS           |
+------------------+----------------+
| Fedora 38        | PASS           |
+------------------+----------------+
| Fedora 37        | PASS           |
+------------------+----------------+
| openSUSE Leap 15 | PASS           |
+------------------+----------------+
| RHEL8            | PASS           |
+------------------+----------------+
| Ubuntu 20.04     | PASS           |
+------------------+----------------+
| Ubuntu 22.04     | PASS           |
+------------------+----------------+


CentOS Stream 8
	Kernel: 4.18.0-240.10.1.el8_3.x86_64
	Compiler: gcc 8.4.1 20200928

CentOS Stream 9
	Kernel: 4.18.0-240.10.1.el8_3.x86_64
	Compiler: gcc 11.3.1 20220421

Debian Buster
	Kernel: 5.4.0-122-generic
	Compiler: gcc 8.3.0-6

Debian Bullseye
	Kernel: 5.4.0-122-generic
	Compiler: gcc 10.2.1-6

Fedora 38
	Kernel: Depends on container host
	Compiler: gcc 13.1.1

Fedora 37
	Kernel: Depends on container host system
	Compiler: gcc 12.3.1

openSUSE Leap 15
	Kernel: 4.18.0-240.10.1.el8_3.x86_64
	Compiler: gcc 7.5.0

RHEL8
	Kernel: 4.18.0-240.10.1.el8_3.x86_64
	Compiler: gcc 8.3.1 20191121 (Red Hat 8.3.1-5)

Ubuntu 20.04
	Kernel: 5.4.0-153-generic
	Compiler: gcc 9.4.0-1ubuntu1~20.04.1

Ubuntu 22.04
	Kernel: 4.18.0-240.10.1.el8_3.x86_64
	Compiler: gcc 11.3.0

To view detailed results, visit:
https://lab.dpdk.org/results/dashboard/patchsets/28183/

UNH-IOL DPDK Community Lab

To manage your email subscriptions, visit: 
https://lab.dpdk.org/results/dashboard/preferences/subscriptions/