From mboxrd@z Thu Jan  1 00:00:00 1970
Return-Path: <test-report-bounces@dpdk.org>
Received: from mails.dpdk.org (mails.dpdk.org [217.70.189.124])
	by inbox.dpdk.org (Postfix) with ESMTP id 4F88643270
	for <public@inbox.dpdk.org>; Thu,  2 Nov 2023 18:35:44 +0100 (CET)
Received: from mails.dpdk.org (localhost [127.0.0.1])
	by mails.dpdk.org (Postfix) with ESMTP id 493B940144;
	Thu,  2 Nov 2023 18:35:44 +0100 (CET)
Received: from mail-qv1-f98.google.com (mail-qv1-f98.google.com
 [209.85.219.98]) by mails.dpdk.org (Postfix) with ESMTP id 9F56240144
 for <test-report@dpdk.org>; Thu,  2 Nov 2023 18:35:43 +0100 (CET)
Received: by mail-qv1-f98.google.com with SMTP id
 6a1803df08f44-66d0ea3e5b8so7308786d6.0
 for <test-report@dpdk.org>; Thu, 02 Nov 2023 10:35:43 -0700 (PDT)
DKIM-Signature: v=1; a=rsa-sha256; c=relaxed/relaxed;
 d=iol.unh.edu; s=unh-iol; t=1698946543; x=1699551343; darn=dpdk.org;
 h=cc:to:from:subject:message-id:date:from:to:cc:subject:date
 :message-id:reply-to;
 bh=dYCDLNjW5k09qh50lCeJXWMM9D9fcRlEVC3NC0u9wtA=;
 b=jW+L5dJsjYDFQH7rqrpte3K4HPDCvA91ASAb7jvEzINEIJfU+nUoyBAFTRAo4g7iBf
 s2JpTwG7YBHa9RGAdDmiqCjK2WhwPI6KeULK6UE+XnR+xYWD80OyluyUxzTQ2+1w8AW1
 LKiRxvRz6fVJ90JmQEVk7R3+RKRnuX0J/B8Mk=
X-Google-DKIM-Signature: v=1; a=rsa-sha256; c=relaxed/relaxed;
 d=1e100.net; s=20230601; t=1698946543; x=1699551343;
 h=cc:to:from:subject:message-id:date:x-gm-message-state:from:to:cc
 :subject:date:message-id:reply-to;
 bh=dYCDLNjW5k09qh50lCeJXWMM9D9fcRlEVC3NC0u9wtA=;
 b=Rr2YBdBL0KpApd6i2BJGuQZd4F9WDeuMpjPzJO4WXPKUGEdc8M5A2o17B/Md6JlI7i
 /VvuNnQR1CUfJxUeyF0MGrzeMmgpFM4HLx9XYH/rybUl7ENpptOxJXKoVgjdGbT3f96+
 EmKc7Mb/nclGWnfG+7HqtyQU3GiYVAjW8HKkWhiYA61X8T+4A+dPmNdXz9H9Zc7Q55ac
 2ljPxyQ3Z36oG5EYc2JE6sOScixOFx2/oRd4H9NjtYTYLy3l/DmBr/iIVe56GWf4eBJP
 u7KXenmKA1DLcusPlfNI7FOzUn9OF0Y6w61G75Wt9F2qbcTKB86Sk85B2nYSJoqHxD5z
 jlQA==
X-Gm-Message-State: AOJu0Yx/zkNuj04VQOyE3ngdYY6pjDhk0fUkUkU3FcnWKmB6/HoJ9n3C
 SjTM5czCU7bqEcMHTueYw0l3ZjvQXjT5FxAB6YexAusaeeMNrkJN5XRX3Q==
X-Google-Smtp-Source: AGHT+IHOEQwWb/Y9QXLOOaRHpb5QALD3CXFl2/6qG7whmTmm4oGHI/ZevlN5GJPdWJdBq8+3hdroToqvq6Gy
X-Received: by 2002:a05:6214:d4f:b0:66d:4d2c:b0d3 with SMTP id
 15-20020a0562140d4f00b0066d4d2cb0d3mr24649868qvr.4.1698946543132; 
 Thu, 02 Nov 2023 10:35:43 -0700 (PDT)
Received: from postal.iol.unh.edu (postal.iol.unh.edu. [132.177.123.84])
 by smtp-relay.gmail.com with ESMTPS id
 a20-20020a0ce354000000b0066db7c7c299sm25274qvm.16.2023.11.02.10.35.43
 (version=TLS1_2 cipher=ECDHE-ECDSA-AES128-GCM-SHA256 bits=128/128);
 Thu, 02 Nov 2023 10:35:43 -0700 (PDT)
X-Relaying-Domain: iol.unh.edu
Date: Thu, 02 Nov 2023 10:35:43 -0700 (PDT)
Message-ID: <6543ddef.0c0a0220.674b4.09d0SMTPIN_ADDED_MISSING@mx.google.com>
Received: from [172.21.0.2] (unknown [172.18.0.240])
 by postal.iol.unh.edu (Postfix) with ESMTP id D5C716050A61;
 Thu,  2 Nov 2023 13:35:42 -0400 (EDT)
Subject: |SUCCESS| pw133779 [PATCH] [v4] net/cpfl: support action prog
From: dpdklab@iol.unh.edu
To: Test Report <test-report@dpdk.org>
Cc: dpdk-test-reports@iol.unh.edu, Qi Zhang <qi.z.zhang@intel.com>
Content-Type: text/plain
X-BeenThere: test-report@dpdk.org
X-Mailman-Version: 2.1.29
Precedence: list
List-Id: automatic DPDK test reports <test-report.dpdk.org>
List-Unsubscribe: <https://mails.dpdk.org/options/test-report>,
 <mailto:test-report-request@dpdk.org?subject=unsubscribe>
List-Archive: <http://mails.dpdk.org/archives/test-report/>
List-Post: <mailto:test-report@dpdk.org>
List-Help: <mailto:test-report-request@dpdk.org?subject=help>
List-Subscribe: <https://mails.dpdk.org/listinfo/test-report>,
 <mailto:test-report-request@dpdk.org?subject=subscribe>
Errors-To: test-report-bounces@dpdk.org

Test-Label: iol-compile-amd64-testing
Test-Status: SUCCESS
http://dpdk.org/patch/133779

_Testing PASS_

Submitter: Wenjing Qiao <wenjing.qiao@intel.com>
Date: Thursday, November 02 2023 08:50:42 
DPDK git baseline: Repo:dpdk-next-net-intel
  Branch: master
  CommitID:2be5719debe0b2d1bf60468283d39b6304b71448

133779 --> testing pass

Test environment and result as below:

+---------------------+--------------------+----------------------+
|     Environment     | dpdk_meson_compile | dpdk_mingw64_compile |
+=====================+====================+======================+
| Debian Bullseye     | PASS               | SKIPPED              |
+---------------------+--------------------+----------------------+
| FreeBSD 13          | PASS               | SKIPPED              |
+---------------------+--------------------+----------------------+
| Fedora 38           | PASS               | SKIPPED              |
+---------------------+--------------------+----------------------+
| Fedora 37           | PASS               | SKIPPED              |
+---------------------+--------------------+----------------------+
| Debian Buster       | PASS               | SKIPPED              |
+---------------------+--------------------+----------------------+
| RHEL8               | PASS               | SKIPPED              |
+---------------------+--------------------+----------------------+
| CentOS Stream 8     | PASS               | SKIPPED              |
+---------------------+--------------------+----------------------+
| CentOS Stream 9     | PASS               | SKIPPED              |
+---------------------+--------------------+----------------------+
| openSUSE Leap 15    | PASS               | SKIPPED              |
+---------------------+--------------------+----------------------+
| Ubuntu 22.04        | PASS               | SKIPPED              |
+---------------------+--------------------+----------------------+
| Ubuntu 20.04        | PASS               | SKIPPED              |
+---------------------+--------------------+----------------------+
| Alpine              | PASS               | SKIPPED              |
+---------------------+--------------------+----------------------+
| Windows Server 2019 | PASS               | PASS                 |
+---------------------+--------------------+----------------------+


Debian Bullseye
	Kernel: 5.4.0-122-generic
	Compiler: gcc 10.2.1-6

FreeBSD 13
	Kernel: 13.0
	Compiler: clang 11.0.1

Fedora 38
	Kernel: Depends on container host
	Compiler: gcc 13.1.1

Fedora 37
	Kernel: Depends on container host system
	Compiler: gcc 12.3.1

Debian Buster
	Kernel: 5.4.0-122-generic
	Compiler: gcc 8.3.0-6

RHEL8
	Kernel: 4.18.0-240.10.1.el8_3.x86_64
	Compiler: gcc 8.3.1 20191121 (Red Hat 8.3.1-5)

CentOS Stream 8
	Kernel: 4.18.0-240.10.1.el8_3.x86_64
	Compiler: gcc 8.4.1 20200928

CentOS Stream 9
	Kernel: 4.18.0-240.10.1.el8_3.x86_64
	Compiler: gcc 11.3.1 20220421

openSUSE Leap 15
	Kernel: 4.18.0-240.10.1.el8_3.x86_64
	Compiler: gcc 7.5.0

Ubuntu 22.04
	Kernel: 4.18.0-240.10.1.el8_3.x86_64
	Compiler: gcc 11.3.0

Ubuntu 20.04
	Kernel: 5.4.0-153-generic
	Compiler: gcc 9.4.0-1ubuntu1~20.04.1

Alpine
	Kernel: 5.4.0-73-generic
	Compiler: gcc (Alpine 10.3.1_git20210424) 10.3.1 20210424

Windows Server 2019
	Kernel: 10.0
	Compiler: clang 14.0 and gcc 8.1.0 (MinGW)

To view detailed results, visit:
https://lab.dpdk.org/results/dashboard/patchsets/28199/

UNH-IOL DPDK Community Lab

To manage your email subscriptions, visit: 
https://lab.dpdk.org/results/dashboard/preferences/subscriptions/