From mboxrd@z Thu Jan  1 00:00:00 1970
Return-Path: <test-report-bounces@dpdk.org>
Received: from mails.dpdk.org (mails.dpdk.org [217.70.189.124])
	by inbox.dpdk.org (Postfix) with ESMTP id E3DCF43270
	for <public@inbox.dpdk.org>; Thu,  2 Nov 2023 19:38:16 +0100 (CET)
Received: from mails.dpdk.org (localhost [127.0.0.1])
	by mails.dpdk.org (Postfix) with ESMTP id DE63D40144;
	Thu,  2 Nov 2023 19:38:16 +0100 (CET)
Received: from mail-yb1-f225.google.com (mail-yb1-f225.google.com
 [209.85.219.225])
 by mails.dpdk.org (Postfix) with ESMTP id 3F63A40144
 for <test-report@dpdk.org>; Thu,  2 Nov 2023 19:38:16 +0100 (CET)
Received: by mail-yb1-f225.google.com with SMTP id
 3f1490d57ef6-d9c66e70ebdso1280279276.2
 for <test-report@dpdk.org>; Thu, 02 Nov 2023 11:38:16 -0700 (PDT)
DKIM-Signature: v=1; a=rsa-sha256; c=relaxed/relaxed;
 d=iol.unh.edu; s=unh-iol; t=1698950295; x=1699555095; darn=dpdk.org;
 h=cc:to:from:subject:message-id:date:from:to:cc:subject:date
 :message-id:reply-to;
 bh=JLT0/vTb1C2JlAt8WZME8KAcqYVWh32hBVX+F30nDjo=;
 b=RVplKI79Q07OOInWbGrVDhGOHDu6KuI0lyICYmznkhynd1GfIZtffLUVWj3hfX9VD7
 V1QSgr268W4AbM0d4Bruiih55s/2qxmE4/G37cEHoYwuHhwBF2aLO4t4KHsMKcN60rn8
 ugX/qKYcNAQ+JiZLA+wjj/Ls1TRHliqUBc42w=
X-Google-DKIM-Signature: v=1; a=rsa-sha256; c=relaxed/relaxed;
 d=1e100.net; s=20230601; t=1698950295; x=1699555095;
 h=cc:to:from:subject:message-id:date:x-gm-message-state:from:to:cc
 :subject:date:message-id:reply-to;
 bh=JLT0/vTb1C2JlAt8WZME8KAcqYVWh32hBVX+F30nDjo=;
 b=X4SCl98snSIfSZVC4smq3CD0KIVyhN9jxhyr16eD+n9Ym3ugYy7ZjljgAvpjlP2GxR
 DIPSpQG4k30uin3hPjtPGDLU6ntT8ejc1yHsP05qIAUYYDz7S8LJQm1RExC/Dxnla6zS
 Tlo5VZqdjWCfOu3cdfxUGvqyVzpmNDpYLP97cNwgBZBROKpjNhTFvNob53cJ5zN/EVRV
 odLQbWZnM6v18iMULyZS+8SKBnKHl418SxLQwf6sMzHaOwDd6+scngSI9HPFBzk6BccR
 dJaOnCWLo/hjvN+4Ery4LC8kjTMO9vAJYbZgSdSd9VNbzwdzhA8QgbxjuD6r2J4QDOBW
 A0cg==
X-Gm-Message-State: AOJu0YyYpJAjUvF0jS+zwMKSzvQNVWqX2GyGvXBGVGlJ5SLJno7bbZZt
 HU8xTOG26MjT7dcbXFDwBdAsIBwaByOCkXnwFz8M0+FNv4NIu5KGts5T23J0TqF5rtGd50iQoQ=
 =
X-Google-Smtp-Source: AGHT+IEoVZxJ+ULGbt5tgNIHE8o/kP0zNYOE5QjVEBvF8vk8Vt/t1+fktSFDHrxEqht6Dl74vUtVL/eUGGvW
X-Received: by 2002:a25:9805:0:b0:da0:c5eb:a6c6 with SMTP id
 a5-20020a259805000000b00da0c5eba6c6mr16980000ybo.32.1698950295312; 
 Thu, 02 Nov 2023 11:38:15 -0700 (PDT)
Received: from postal.iol.unh.edu (postal.iol.unh.edu.
 [2606:4100:3880:1234::84]) by smtp-relay.gmail.com with ESMTPS id
 l15-20020ad44bcf000000b00671d3a13a07sm28815qvw.48.2023.11.02.11.38.15
 (version=TLS1_2 cipher=ECDHE-ECDSA-AES128-GCM-SHA256 bits=128/128);
 Thu, 02 Nov 2023 11:38:15 -0700 (PDT)
X-Relaying-Domain: iol.unh.edu
Date: Thu, 02 Nov 2023 11:38:15 -0700 (PDT)
Message-ID: <6543ec97.d40a0220.a9a21.0a60SMTPIN_ADDED_MISSING@mx.google.com>
Received: from [172.21.0.2] (unknown [172.18.0.240])
 by postal.iol.unh.edu (Postfix) with ESMTP id 02F376050A61;
 Thu,  2 Nov 2023 14:38:15 -0400 (EDT)
Subject: |SUCCESS| pw133779 [PATCH] [v4] net/cpfl: support action prog
From: dpdklab@iol.unh.edu
To: Test Report <test-report@dpdk.org>
Cc: dpdk-test-reports@iol.unh.edu, Qi Zhang <qi.z.zhang@intel.com>
Content-Type: text/plain
X-BeenThere: test-report@dpdk.org
X-Mailman-Version: 2.1.29
Precedence: list
List-Id: automatic DPDK test reports <test-report.dpdk.org>
List-Unsubscribe: <https://mails.dpdk.org/options/test-report>,
 <mailto:test-report-request@dpdk.org?subject=unsubscribe>
List-Archive: <http://mails.dpdk.org/archives/test-report/>
List-Post: <mailto:test-report@dpdk.org>
List-Help: <mailto:test-report-request@dpdk.org?subject=help>
List-Subscribe: <https://mails.dpdk.org/listinfo/test-report>,
 <mailto:test-report-request@dpdk.org?subject=subscribe>
Errors-To: test-report-bounces@dpdk.org

Test-Label: iol-unit-arm64-testing
Test-Status: SUCCESS
http://dpdk.org/patch/133779

_Testing PASS_

Submitter: Wenjing Qiao <wenjing.qiao@intel.com>
Date: Thursday, November 02 2023 08:50:42 
DPDK git baseline: Repo:dpdk-next-net-intel
  Branch: master
  CommitID:2be5719debe0b2d1bf60468283d39b6304b71448

133779 --> testing pass

Test environment and result as below:

+--------------------------+------------------------------+---------------------------+--------------+----------------+
|       Environment        | cryptodev_sw_snow3g_autotest | cryptodev_sw_zuc_autotest | lpm_autotest | dpdk_unit_test |
+==========================+==============================+===========================+==============+================+
| Debian 11 (arm)          | PASS                         | PASS                      | SKIPPED      | SKIPPED        |
+--------------------------+------------------------------+---------------------------+--------------+----------------+
| Ubuntu 20.04 ARM SVE     | SKIPPED                      | SKIPPED                   | PASS         | SKIPPED        |
+--------------------------+------------------------------+---------------------------+--------------+----------------+
| CentOS Stream 9 (ARM)    | SKIPPED                      | SKIPPED                   | SKIPPED      | PASS           |
+--------------------------+------------------------------+---------------------------+--------------+----------------+
| Fedora 38 (ARM)          | SKIPPED                      | SKIPPED                   | SKIPPED      | PASS           |
+--------------------------+------------------------------+---------------------------+--------------+----------------+
| Debian 11 (Buster) (ARM) | SKIPPED                      | SKIPPED                   | SKIPPED      | PASS           |
+--------------------------+------------------------------+---------------------------+--------------+----------------+
| Ubuntu 20.04 (ARM)       | SKIPPED                      | SKIPPED                   | SKIPPED      | PASS           |
+--------------------------+------------------------------+---------------------------+--------------+----------------+
| Fedora 37 (ARM)          | SKIPPED                      | SKIPPED                   | SKIPPED      | PASS           |
+--------------------------+------------------------------+---------------------------+--------------+----------------+
| Fedora 38 (ARM Clang)    | SKIPPED                      | SKIPPED                   | SKIPPED      | PASS           |
+--------------------------+------------------------------+---------------------------+--------------+----------------+


Debian 11 (arm)
	Kernel: Container Host Kernel
	Compiler: gcc 10.2.1

Ubuntu 20.04 ARM SVE
	Kernel: 5.4.0-80-generic
	Compiler: gcc 10.3.0 (Ubuntu 10.3.0-1ubuntu1~20.04)

CentOS Stream 9 (ARM)
	Kernel: Container Host Kernel
	Compiler: gcc 11.3.1

Fedora 38 (ARM)
	Kernel: Depends on container host
	Compiler: gcc 13.1.1

Debian 11 (Buster) (ARM)
	Kernel: Container Host Kernel
	Compiler: gcc 10.2.1

Ubuntu 20.04 (ARM)
	Kernel: Container Host Kernel
	Compiler: gcc 9.4.0

Fedora 37 (ARM)
	Kernel: Depends on container host
	Compiler: gcc 12.3.1

Fedora 38 (ARM Clang)
	Kernel: Depends on container host
	Compiler: clang 16.0.3

To view detailed results, visit:
https://lab.dpdk.org/results/dashboard/patchsets/28199/

UNH-IOL DPDK Community Lab

To manage your email subscriptions, visit: 
https://lab.dpdk.org/results/dashboard/preferences/subscriptions/