From mboxrd@z Thu Jan 1 00:00:00 1970 Return-Path: Received: from mails.dpdk.org (mails.dpdk.org [217.70.189.124]) by inbox.dpdk.org (Postfix) with ESMTP id 0294443277 for ; Fri, 3 Nov 2023 09:16:53 +0100 (CET) Received: from mails.dpdk.org (localhost [127.0.0.1]) by mails.dpdk.org (Postfix) with ESMTP id F11324027F; Fri, 3 Nov 2023 09:16:52 +0100 (CET) Received: from mail-yw1-f225.google.com (mail-yw1-f225.google.com [209.85.128.225]) by mails.dpdk.org (Postfix) with ESMTP id B1DC74027F for ; Fri, 3 Nov 2023 09:16:51 +0100 (CET) Received: by mail-yw1-f225.google.com with SMTP id 00721157ae682-5a8ee23f043so21485187b3.3 for ; Fri, 03 Nov 2023 01:16:51 -0700 (PDT) DKIM-Signature: v=1; a=rsa-sha256; c=relaxed/relaxed; d=iol.unh.edu; s=unh-iol; t=1698999411; x=1699604211; darn=dpdk.org; h=cc:to:from:subject:message-id:date:from:to:cc:subject:date :message-id:reply-to; bh=baRWG7L2jolnsTdukRYFzwK6b/QOKcbz14+jaEukm6I=; b=Hm05f/vtaqusMPAjFEiFhDhThLks5+zptlrk7mxmcH8lb4ulej9h15xyqIKuYq2gHq YeH3cPPmclfWPIv5zsAlMzOABeYOJg4EnYO4kIV61Bz39YsqUXqWU/6g2UqyAwOXEG5Q 9JN+dGljAZ3xa0isf/IdEbvN5q5Hul7z3Pqcc= X-Google-DKIM-Signature: v=1; a=rsa-sha256; c=relaxed/relaxed; d=1e100.net; s=20230601; t=1698999411; x=1699604211; h=cc:to:from:subject:message-id:date:x-gm-message-state:from:to:cc :subject:date:message-id:reply-to; bh=baRWG7L2jolnsTdukRYFzwK6b/QOKcbz14+jaEukm6I=; b=X3J5ooURDD6K79a9n2rThRQRhWTKRAwobHmKq94+dZWCEAcqo09ovcc5loJM+RTise xTHJ22GqhxaY5zG3D6cfwmoc6Pi5viXu9OgBDcAmo6KZMC9KRulkGN3rY3jWGC/C0CaB ZxaVUOmr7+1WTMSlDUbgGmnYSsQyG0UdehkmK1wudq8du38hf/I0sypY9htDUzzbTxfA eqHd9hWzCq/FcDWq6niydIXHpPXVpHjSnKcSAW+Uz0/tloWcACMzHuoGy3jyEE2+9kcj /Uvk7nr23gBmNscq+EP1RSq1PsjOjZK9G7xBH5Vk9759vJ57s+k68Dg2ylZwf+S+0j5d gseA== X-Gm-Message-State: AOJu0Yzj8Y4xKHKstX9FGxyj6bZexyNKOEhjvjjNLuRqPlw3CARxkRCm CdY1zdi4s8oYbeL1B5f3xoDXLnVautBOUxXe1+KKRtjxKIvjuQ== X-Google-Smtp-Source: AGHT+IFhxk1b1xzlp2yrdEoRy53b2CEejts/fMCuQ99c1hoP/Z+dglQ/KKi33WC9uhQu/WpIZLLOyg5UAKB4 X-Received: by 2002:a05:690c:91:b0:5a7:ca59:82b9 with SMTP id be17-20020a05690c009100b005a7ca5982b9mr2401623ywb.16.1698999411215; Fri, 03 Nov 2023 01:16:51 -0700 (PDT) Received: from postal.iol.unh.edu (postal.iol.unh.edu. [132.177.123.84]) by smtp-relay.gmail.com with ESMTPS id x80-20020a0dd553000000b005a7be232978sm17399ywd.15.2023.11.03.01.16.51 (version=TLS1_2 cipher=ECDHE-ECDSA-AES128-GCM-SHA256 bits=128/128); Fri, 03 Nov 2023 01:16:51 -0700 (PDT) X-Relaying-Domain: iol.unh.edu Date: Fri, 03 Nov 2023 01:16:51 -0700 (PDT) Message-ID: <6544ac73.0d0a0220.77011.0930SMTPIN_ADDED_MISSING@mx.google.com> Received: from [172.21.0.2] (unknown [172.18.0.240]) by postal.iol.unh.edu (Postfix) with ESMTP id E116D60524E7; Fri, 3 Nov 2023 04:16:50 -0400 (EDT) Subject: |SUCCESS| [GIT MASTER] 4e50ad4469f7c037e32de5aa3535d1cd25de0741 From: dpdklab@iol.unh.edu To: Test Report Cc: dpdk-test-reports@iol.unh.edu, Xueming Li , Christian Ehrhardt , Kevin Traynor , Luca Boccassi Content-Type: text/plain X-BeenThere: test-report@dpdk.org X-Mailman-Version: 2.1.29 Precedence: list List-Id: automatic DPDK test reports List-Unsubscribe: , List-Archive: List-Post: List-Help: List-Subscribe: , Errors-To: test-report-bounces@dpdk.org _Testing PASS_ Branch: tags/v21.11 4e50ad4469f7c037e32de5aa3535d1cd25de0741 --> testing pass Test environment and result as below: +------------------------------------+--------------------+ | Environment | dpdk_meson_compile | +====================================+====================+ | Ubuntu 20.04 ARM SVE | PASS | +------------------------------------+--------------------+ | Fedora 37 (ARM) | PASS | +------------------------------------+--------------------+ | Ubuntu 20.04 (ARM) | PASS | +------------------------------------+--------------------+ | Debian 11 (Buster) (ARM) | PASS | +------------------------------------+--------------------+ | Fedora 38 (ARM) | PASS | +------------------------------------+--------------------+ | CentOS Stream 9 (ARM) | PASS | +------------------------------------+--------------------+ | Ubuntu 20.04 ARM GCC Cross Compile | PASS | +------------------------------------+--------------------+ | Fedora 38 (ARM Clang) | PASS | +------------------------------------+--------------------+ Ubuntu 20.04 ARM SVE Kernel: 5.4.0-80-generic Compiler: gcc 10.3.0 (Ubuntu 10.3.0-1ubuntu1~20.04) Fedora 37 (ARM) Kernel: Depends on container host Compiler: gcc 12.3.1 Ubuntu 20.04 (ARM) Kernel: Container Host Kernel Compiler: gcc 9.4.0 Debian 11 (Buster) (ARM) Kernel: Container Host Kernel Compiler: gcc 10.2.1 Fedora 38 (ARM) Kernel: Depends on container host Compiler: gcc 13.1.1 CentOS Stream 9 (ARM) Kernel: Container Host Kernel Compiler: gcc 11.3.1 Ubuntu 20.04 ARM GCC Cross Compile Kernel: 5.4.0-72-generic Compiler: aarch64-linux-gnu-gcc (Ubuntu 9.3.0-17ubuntu1~20.04) 9.3.0 Fedora 38 (ARM Clang) Kernel: Depends on container host Compiler: clang 16.0.3 To view detailed results, visit: https://lab.dpdk.org/results/dashboard/tarballs/26803/ UNH-IOL DPDK Community Lab To manage your email subscriptions, visit: https://lab.dpdk.org/results/dashboard/preferences/subscriptions/