From mboxrd@z Thu Jan  1 00:00:00 1970
Return-Path: <test-report-bounces@dpdk.org>
Received: from mails.dpdk.org (mails.dpdk.org [217.70.189.124])
	by inbox.dpdk.org (Postfix) with ESMTP id 7B4D643279
	for <public@inbox.dpdk.org>; Fri,  3 Nov 2023 11:17:55 +0100 (CET)
Received: from mails.dpdk.org (localhost [127.0.0.1])
	by mails.dpdk.org (Postfix) with ESMTP id 7605440273;
	Fri,  3 Nov 2023 11:17:55 +0100 (CET)
Received: from mail-oo1-f98.google.com (mail-oo1-f98.google.com
 [209.85.161.98]) by mails.dpdk.org (Postfix) with ESMTP id 3EC2440273
 for <test-report@dpdk.org>; Fri,  3 Nov 2023 11:17:54 +0100 (CET)
Received: by mail-oo1-f98.google.com with SMTP id
 006d021491bc7-586cf3eccbeso945197eaf.2
 for <test-report@dpdk.org>; Fri, 03 Nov 2023 03:17:54 -0700 (PDT)
DKIM-Signature: v=1; a=rsa-sha256; c=relaxed/relaxed;
 d=iol.unh.edu; s=unh-iol; t=1699006673; x=1699611473; darn=dpdk.org;
 h=cc:to:from:subject:message-id:date:from:to:cc:subject:date
 :message-id:reply-to;
 bh=+ZFp7w+W8Ied/3h0Cc/KmNKySlOrm0bTWVEajgUTA70=;
 b=AWHYufaQEtIcMgChoGKFtBc2+s/+sYCntrYcBzwDfXm3ZYTbewcl84RKchKHEabdCr
 UdxpfTz0ojGoI4VRKygF9EEkXQts0NgaUUHCfSZFt1vgiZ9m1P6NP7esvq7Wu6Tg1L4A
 NQEMgMgW9OxkCcyCWM4u+sK5leFN8vyGX2frQ=
X-Google-DKIM-Signature: v=1; a=rsa-sha256; c=relaxed/relaxed;
 d=1e100.net; s=20230601; t=1699006673; x=1699611473;
 h=cc:to:from:subject:message-id:date:x-gm-message-state:from:to:cc
 :subject:date:message-id:reply-to;
 bh=+ZFp7w+W8Ied/3h0Cc/KmNKySlOrm0bTWVEajgUTA70=;
 b=HA4n/6L+zpCyZ7+hFP5tfc9UdX79dHIZk+uu99EkeaR307mOH5zYRHGJsHgOWJg+kn
 gTj9fj18Ym+A1c+sAIkKr8qRErARnQeuuuVo7gpZZN0o0bDABZ9pLcSx6s/0K89Fft5K
 SKr/d+yzrptmEscBICpY4SmkhasyA+qodT/Gnt23KZw92IFmRv2A6j6x/s7UG89pVXU+
 plv97bN/e/iFSRRJospW9xg/Abtl2wTFjRcKSGsGOBK3LGw/dC6y6Xja9uNbX8uLDdQp
 6FwT+giCyXQyJOwUMIohFc7yy4qfUhGe6ATVB0W9b8bC6ddgPKqWELPzHP4LqyxVSMDf
 0yGA==
X-Gm-Message-State: AOJu0Ywp46+ggVxrWx2Zt+kYProI3znkdL/ykm8yh1hlYz5fa1QEH7iQ
 N0G77dYBlfSEBxSG3PWYFbvE4vbkG8YDlt25KNTrxZmPXRd7dayUmU27VhzftoqwnTVV3fcn2A=
 =
X-Google-Smtp-Source: AGHT+IHUMzjuG5IznFMciF2cxm4yrvc+8L1AduRNQeaqpKmOUKLtMKF8UfprmF95o1bPA2bjI5AG9brwKC4D
X-Received: by 2002:a05:6820:1e05:b0:586:a5f2:2a96 with SMTP id
 dh5-20020a0568201e0500b00586a5f22a96mr20578942oob.2.1699006673622; 
 Fri, 03 Nov 2023 03:17:53 -0700 (PDT)
Received: from postal.iol.unh.edu (postal.iol.unh.edu.
 [2606:4100:3880:1234::84]) by smtp-relay.gmail.com with ESMTPS id
 f73-20020a4a584c000000b00583822f6a25sm170747oob.25.2023.11.03.03.17.53
 (version=TLS1_2 cipher=ECDHE-ECDSA-AES128-GCM-SHA256 bits=128/128);
 Fri, 03 Nov 2023 03:17:53 -0700 (PDT)
X-Relaying-Domain: iol.unh.edu
Date: Fri, 03 Nov 2023 03:17:53 -0700 (PDT)
Message-ID: <6544c8d1.4a0a0220.9d565.576aSMTPIN_ADDED_MISSING@mx.google.com>
Received: from [172.21.0.2] (unknown [172.18.0.240])
 by postal.iol.unh.edu (Postfix) with ESMTP id 2865160524E7;
 Fri,  3 Nov 2023 06:17:53 -0400 (EDT)
Subject: |SUCCESS| pw133799-133805 [PATCH] [v3,7/7] Section 6: Glossary
From: dpdklab@iol.unh.edu
To: Test Report <test-report@dpdk.org>
Cc: dpdk-test-reports@iol.unh.edu
Content-Type: text/plain
X-BeenThere: test-report@dpdk.org
X-Mailman-Version: 2.1.29
Precedence: list
List-Id: automatic DPDK test reports <test-report.dpdk.org>
List-Unsubscribe: <https://mails.dpdk.org/options/test-report>,
 <mailto:test-report-request@dpdk.org?subject=unsubscribe>
List-Archive: <http://mails.dpdk.org/archives/test-report/>
List-Post: <mailto:test-report@dpdk.org>
List-Help: <mailto:test-report-request@dpdk.org?subject=help>
List-Subscribe: <https://mails.dpdk.org/listinfo/test-report>,
 <mailto:test-report-request@dpdk.org?subject=subscribe>
Errors-To: test-report-bounces@dpdk.org

Test-Label: iol-compile-amd64-testing
Test-Status: SUCCESS
http://dpdk.org/patch/133805

_Testing PASS_

Submitter: David Young <dave@youngcopy.com>
Date: Friday, November 03 2023 04:01:53 
DPDK git baseline: Repo:dpdk
  Branch: master
  CommitID:e9555aad006a739de9ae2a14a94128931634eea0

133799-133805 --> testing pass

Test environment and result as below:

+---------------------+--------------------+----------------------+
|     Environment     | dpdk_meson_compile | dpdk_mingw64_compile |
+=====================+====================+======================+
| Windows Server 2019 | PASS               | PASS                 |
+---------------------+--------------------+----------------------+
| FreeBSD 13          | PASS               | SKIPPED              |
+---------------------+--------------------+----------------------+
| Debian Bullseye     | PASS               | SKIPPED              |
+---------------------+--------------------+----------------------+
| CentOS Stream 9     | PASS               | SKIPPED              |
+---------------------+--------------------+----------------------+
| Ubuntu 20.04        | PASS               | SKIPPED              |
+---------------------+--------------------+----------------------+
| Debian Buster       | PASS               | SKIPPED              |
+---------------------+--------------------+----------------------+
| CentOS Stream 8     | PASS               | SKIPPED              |
+---------------------+--------------------+----------------------+
| Fedora 37           | PASS               | SKIPPED              |
+---------------------+--------------------+----------------------+
| Fedora 38           | PASS               | SKIPPED              |
+---------------------+--------------------+----------------------+
| openSUSE Leap 15    | PASS               | SKIPPED              |
+---------------------+--------------------+----------------------+
| RHEL8               | PASS               | SKIPPED              |
+---------------------+--------------------+----------------------+
| Ubuntu 22.04        | PASS               | SKIPPED              |
+---------------------+--------------------+----------------------+


Windows Server 2019
	Kernel: 10.0
	Compiler: clang 14.0 and gcc 8.1.0 (MinGW)

FreeBSD 13
	Kernel: 13.0
	Compiler: clang 11.0.1

Debian Bullseye
	Kernel: 5.4.0-122-generic
	Compiler: gcc 10.2.1-6

CentOS Stream 9
	Kernel: 4.18.0-240.10.1.el8_3.x86_64
	Compiler: gcc 11.3.1 20220421

Ubuntu 20.04
	Kernel: 5.4.0-153-generic
	Compiler: gcc 9.4.0-1ubuntu1~20.04.1

Debian Buster
	Kernel: 5.4.0-122-generic
	Compiler: gcc 8.3.0-6

CentOS Stream 8
	Kernel: 4.18.0-240.10.1.el8_3.x86_64
	Compiler: gcc 8.4.1 20200928

Fedora 37
	Kernel: Depends on container host system
	Compiler: gcc 12.3.1

Fedora 38
	Kernel: Depends on container host
	Compiler: clang 16.0.3

openSUSE Leap 15
	Kernel: 4.18.0-240.10.1.el8_3.x86_64
	Compiler: gcc 7.5.0

RHEL8
	Kernel: 4.18.0-240.10.1.el8_3.x86_64
	Compiler: gcc 8.3.1 20191121 (Red Hat 8.3.1-5)

Ubuntu 22.04
	Kernel: 4.18.0-240.10.1.el8_3.x86_64
	Compiler: gcc 11.3.0

To view detailed results, visit:
https://lab.dpdk.org/results/dashboard/patchsets/28213/

UNH-IOL DPDK Community Lab

To manage your email subscriptions, visit: 
https://lab.dpdk.org/results/dashboard/preferences/subscriptions/