From mboxrd@z Thu Jan  1 00:00:00 1970
Return-Path: <test-report-bounces@dpdk.org>
Received: from mails.dpdk.org (mails.dpdk.org [217.70.189.124])
	by inbox.dpdk.org (Postfix) with ESMTP id D28E443279
	for <public@inbox.dpdk.org>; Fri,  3 Nov 2023 11:24:45 +0100 (CET)
Received: from mails.dpdk.org (localhost [127.0.0.1])
	by mails.dpdk.org (Postfix) with ESMTP id CBEF040273;
	Fri,  3 Nov 2023 11:24:45 +0100 (CET)
Received: from mail-oa1-f99.google.com (mail-oa1-f99.google.com
 [209.85.160.99]) by mails.dpdk.org (Postfix) with ESMTP id C114E40273
 for <test-report@dpdk.org>; Fri,  3 Nov 2023 11:24:44 +0100 (CET)
Received: by mail-oa1-f99.google.com with SMTP id
 586e51a60fabf-1e9a757e04eso1483962fac.0
 for <test-report@dpdk.org>; Fri, 03 Nov 2023 03:24:44 -0700 (PDT)
DKIM-Signature: v=1; a=rsa-sha256; c=relaxed/relaxed;
 d=iol.unh.edu; s=unh-iol; t=1699007084; x=1699611884; darn=dpdk.org;
 h=cc:to:from:subject:message-id:date:from:to:cc:subject:date
 :message-id:reply-to;
 bh=DbRw/ZJKRe/Xaf8RbaNaHxAR1CpZ0oIPUCBlyz2PlQc=;
 b=jeazckfqGAJGRcy0szM9PjEHhmYth51sWnNadJgfqYjqSZcLDCenHYvEfgzm8gVgzb
 ba2GB4k4hUMmcPCL2146+r88NLm9getWd47dxLN72H3eQbiaUH7bPbIl7qDxiKgX6SqA
 1uLHIM5esmK5+VFyWxTRlvqqO46xODp4+yOhA=
X-Google-DKIM-Signature: v=1; a=rsa-sha256; c=relaxed/relaxed;
 d=1e100.net; s=20230601; t=1699007084; x=1699611884;
 h=cc:to:from:subject:message-id:date:x-gm-message-state:from:to:cc
 :subject:date:message-id:reply-to;
 bh=DbRw/ZJKRe/Xaf8RbaNaHxAR1CpZ0oIPUCBlyz2PlQc=;
 b=o46KmsZKu8qjLv+5hWzdyrVy5RIcBq7UPnNeoRJtXDrum9RrjDNuFhpOwGvNrT9bUF
 sJELlTSvVg7yIhYlLeGFsdTb1OnfUok+kpyfXV77UxT3sJZef0hGY+P47qykSg8BXe55
 XFsJIFzykuJaljcPwSAbGhc8H5zIqHQiuR5Xlp4XXXoo8eofY/fix5J4EG8/Qc9ylbsp
 H2/dBhx57peUdBA9VwQ6DGtHe9ax/88bnTUSIYGYZmnLtKu75QoW8HpcOXQ2xd9D07gE
 ysXAeZGxaxvBpBt/G2iqwSHkUssdZWKjHOO7IwiX7gS3pVdzCeHtpgVG/hBXxCT1liCv
 AjYg==
X-Gm-Message-State: AOJu0YyFlhYWtARuuBwxsjLgAQFHDMmhb6GHb3zXm8nYyL8O6odSYLEO
 yv8pK+xCveOTZ1N+1NVyCbw2ZLlGHR2qhFjPLiXV2LBatCZpkjF9x0+A9g==
X-Google-Smtp-Source: AGHT+IFl7XlkzgJSGR984Nha7NJSeF2q9+t2WKJg4ULQJGNC/l7X9He3nHf8Ly5MwXir71PgT+zOKE0GTS5D
X-Received: by 2002:a05:6870:6192:b0:1e9:88e0:b8ba with SMTP id
 a18-20020a056870619200b001e988e0b8bamr1015751oah.29.1699007083913; 
 Fri, 03 Nov 2023 03:24:43 -0700 (PDT)
Received: from postal.iol.unh.edu (postal.iol.unh.edu. [132.177.123.84])
 by smtp-relay.gmail.com with ESMTPS id
 ne13-20020a056871448d00b001e15872832fsm132403oab.1.2023.11.03.03.24.43
 (version=TLS1_2 cipher=ECDHE-ECDSA-AES128-GCM-SHA256 bits=128/128);
 Fri, 03 Nov 2023 03:24:43 -0700 (PDT)
X-Relaying-Domain: iol.unh.edu
Date: Fri, 03 Nov 2023 03:24:43 -0700 (PDT)
Message-ID: <6544ca6b.050a0220.c0efb.46acSMTPIN_ADDED_MISSING@mx.google.com>
Received: from [172.21.0.2] (unknown [172.18.0.240])
 by postal.iol.unh.edu (Postfix) with ESMTP id 3043C60524E7;
 Fri,  3 Nov 2023 06:24:43 -0400 (EDT)
Subject: |SUCCESS| pw133799-133805 [PATCH] [v3,7/7] Section 6: Glossary
From: dpdklab@iol.unh.edu
To: Test Report <test-report@dpdk.org>
Cc: David Young <dave@youngcopy.com>
Content-Type: text/plain
X-BeenThere: test-report@dpdk.org
X-Mailman-Version: 2.1.29
Precedence: list
List-Id: automatic DPDK test reports <test-report.dpdk.org>
List-Unsubscribe: <https://mails.dpdk.org/options/test-report>,
 <mailto:test-report-request@dpdk.org?subject=unsubscribe>
List-Archive: <http://mails.dpdk.org/archives/test-report/>
List-Post: <mailto:test-report@dpdk.org>
List-Help: <mailto:test-report-request@dpdk.org?subject=help>
List-Subscribe: <https://mails.dpdk.org/listinfo/test-report>,
 <mailto:test-report-request@dpdk.org?subject=subscribe>
Errors-To: test-report-bounces@dpdk.org

Test-Label: iol-unit-amd64-testing
Test-Status: SUCCESS
http://dpdk.org/patch/133805

_Testing PASS_

Submitter: David Young <dave@youngcopy.com>
Date: Friday, November 03 2023 04:01:53 
DPDK git baseline: Repo:dpdk
  Branch: master
  CommitID:e9555aad006a739de9ae2a14a94128931634eea0

133799-133805 --> testing pass

Test environment and result as below:

+-----------------+----------------+
|   Environment   | dpdk_unit_test |
+=================+================+
| CentOS Stream 9 | PASS           |
+-----------------+----------------+
| Debian Bullseye | PASS           |
+-----------------+----------------+
| CentOS Stream 8 | PASS           |
+-----------------+----------------+
| Fedora 37       | PASS           |
+-----------------+----------------+
| Fedora 38       | PASS           |
+-----------------+----------------+
| Debian Buster   | PASS           |
+-----------------+----------------+


CentOS Stream 9
	Kernel: 4.18.0-240.10.1.el8_3.x86_64
	Compiler: gcc 11.3.1 20220421

Debian Bullseye
	Kernel: 5.4.0-122-generic
	Compiler: gcc 10.2.1-6

CentOS Stream 8
	Kernel: 4.18.0-240.10.1.el8_3.x86_64
	Compiler: gcc 8.4.1 20200928

Fedora 37
	Kernel: Depends on container host system
	Compiler: gcc 12.3.1

Fedora 38
	Kernel: Depends on container host
	Compiler: gcc 13.1.1

Debian Buster
	Kernel: 5.4.0-122-generic
	Compiler: gcc 8.3.0-6

To view detailed results, visit:
https://lab.dpdk.org/results/dashboard/patchsets/28213/

UNH-IOL DPDK Community Lab

To manage your email subscriptions, visit: 
https://lab.dpdk.org/results/dashboard/preferences/subscriptions/