From mboxrd@z Thu Jan  1 00:00:00 1970
Return-Path: <test-report-bounces@dpdk.org>
Received: from mails.dpdk.org (mails.dpdk.org [217.70.189.124])
	by inbox.dpdk.org (Postfix) with ESMTP id 0F1AA43279
	for <public@inbox.dpdk.org>; Fri,  3 Nov 2023 11:25:22 +0100 (CET)
Received: from mails.dpdk.org (localhost [127.0.0.1])
	by mails.dpdk.org (Postfix) with ESMTP id 09BCD40273;
	Fri,  3 Nov 2023 11:25:22 +0100 (CET)
Received: from mail-yw1-f227.google.com (mail-yw1-f227.google.com
 [209.85.128.227])
 by mails.dpdk.org (Postfix) with ESMTP id 5C96E40273
 for <test-report@dpdk.org>; Fri,  3 Nov 2023 11:25:20 +0100 (CET)
Received: by mail-yw1-f227.google.com with SMTP id
 00721157ae682-5b31c5143a0so22807887b3.3
 for <test-report@dpdk.org>; Fri, 03 Nov 2023 03:25:20 -0700 (PDT)
DKIM-Signature: v=1; a=rsa-sha256; c=relaxed/relaxed;
 d=iol.unh.edu; s=unh-iol; t=1699007119; x=1699611919; darn=dpdk.org;
 h=cc:to:from:subject:message-id:date:from:to:cc:subject:date
 :message-id:reply-to;
 bh=XdjfP2HmpY3x0fsPQM5IISQ1q76mq/EalggUoAYuTHQ=;
 b=E4ghkXXENlp4zG2ttJIh6Bg8mmjAT3Jbb92MINJri1G09DBGLKWPEC3oTWDJi8vZzj
 6sLaaVNbkW/LLEjH1eA++/8ZLkIsC7QEQC0KwX9FRlqDmXMIpxNpfo7KA8Dt/8eJszHp
 STFe05HH1EIvW5uTy3I3XllwGuARhIrXBP6cE=
X-Google-DKIM-Signature: v=1; a=rsa-sha256; c=relaxed/relaxed;
 d=1e100.net; s=20230601; t=1699007119; x=1699611919;
 h=cc:to:from:subject:message-id:date:x-gm-message-state:from:to:cc
 :subject:date:message-id:reply-to;
 bh=XdjfP2HmpY3x0fsPQM5IISQ1q76mq/EalggUoAYuTHQ=;
 b=Ob9sMS2OJUuIHkhYGpQE48aGyopCtnNKlhR1QeHEnVsnouZvEpJjmHoCOW6SaI83aZ
 s51O91toDS/QIwVP7G0LaEoRxAylWXPaAqtFaltSb2ItMXswQhgonrIWztZwpvAhjk1d
 In5xe22TCoZ8AS8AzQ1tJcoCY0+at9rk3bwQtFTcPx/hREv2rzv+zKYUgqtYS9vA2QOW
 BYSgeXaWkuMoTfpXDyxtrNk2NVWoHgn8BPsYAeWJo9UI8yuxPAYnQC531Rn3q60uA3Vs
 EBsli7UY4R0aedXnMJGG8w/7BDKGYikuBNrEl/OIhs1k6IhtmJYIQ22SLGKJ7ckymzC5
 HG7Q==
X-Gm-Message-State: AOJu0YxrM+XfFf6txA76wJcEGsBrOPLvW0A08+2rF2CWQkQWj6wkFhTY
 sqnQqhn+/LhYUzqA1nY9LzkKue4WIh6cW9/D+fKWpSFrHo4X/jCydDaFKzDklDAlgKkVo29ciQ=
 =
X-Google-Smtp-Source: AGHT+IH3FsVcm8qkV2ETMeVNXmg1nf8HF5uQPeVN3lGqDP6Q+K0bfy8M7GavFtGdTkkk+2QTkpmGwoEyYZ48
X-Received: by 2002:a0d:e80d:0:b0:58e:fa3c:9401 with SMTP id
 r13-20020a0de80d000000b0058efa3c9401mr2236915ywe.12.1699007119751; 
 Fri, 03 Nov 2023 03:25:19 -0700 (PDT)
Received: from postal.iol.unh.edu (postal.iol.unh.edu.
 [2606:4100:3880:1234::84]) by smtp-relay.gmail.com with ESMTPS id
 r18-20020a81c312000000b0057a531a4d9fsm125039ywk.57.2023.11.03.03.25.19
 (version=TLS1_2 cipher=ECDHE-ECDSA-AES128-GCM-SHA256 bits=128/128);
 Fri, 03 Nov 2023 03:25:19 -0700 (PDT)
X-Relaying-Domain: iol.unh.edu
Date: Fri, 03 Nov 2023 03:25:19 -0700 (PDT)
Message-ID: <6544ca8f.810a0220.3057.368eSMTPIN_ADDED_MISSING@mx.google.com>
Received: from [172.21.0.3] (unknown [172.18.0.240])
 by postal.iol.unh.edu (Postfix) with ESMTP id 748F160524E7;
 Fri,  3 Nov 2023 06:25:19 -0400 (EDT)
Subject: |SUCCESS| pw133799-133805 [PATCH] [v3,7/7] Section 6: Glossary
From: dpdklab@iol.unh.edu
To: Test Report <test-report@dpdk.org>
Cc: dpdk-test-reports@iol.unh.edu
Content-Type: text/plain
X-BeenThere: test-report@dpdk.org
X-Mailman-Version: 2.1.29
Precedence: list
List-Id: automatic DPDK test reports <test-report.dpdk.org>
List-Unsubscribe: <https://mails.dpdk.org/options/test-report>,
 <mailto:test-report-request@dpdk.org?subject=unsubscribe>
List-Archive: <http://mails.dpdk.org/archives/test-report/>
List-Post: <mailto:test-report@dpdk.org>
List-Help: <mailto:test-report-request@dpdk.org?subject=help>
List-Subscribe: <https://mails.dpdk.org/listinfo/test-report>,
 <mailto:test-report-request@dpdk.org?subject=subscribe>
Errors-To: test-report-bounces@dpdk.org

Test-Label: iol-unit-arm64-testing
Test-Status: SUCCESS
http://dpdk.org/patch/133805

_Testing PASS_

Submitter: David Young <dave@youngcopy.com>
Date: Friday, November 03 2023 04:01:53 
DPDK git baseline: Repo:dpdk
  Branch: master
  CommitID:e9555aad006a739de9ae2a14a94128931634eea0

133799-133805 --> testing pass

Test environment and result as below:

+--------------------------+------------------------------+---------------------------+----------------+--------------+
|       Environment        | cryptodev_sw_snow3g_autotest | cryptodev_sw_zuc_autotest | dpdk_unit_test | lpm_autotest |
+==========================+==============================+===========================+================+==============+
| Debian 11 (arm)          | PASS                         | PASS                      | SKIPPED        | SKIPPED      |
+--------------------------+------------------------------+---------------------------+----------------+--------------+
| CentOS Stream 9 (ARM)    | SKIPPED                      | SKIPPED                   | PASS           | SKIPPED      |
+--------------------------+------------------------------+---------------------------+----------------+--------------+
| Fedora 37 (ARM)          | SKIPPED                      | SKIPPED                   | PASS           | SKIPPED      |
+--------------------------+------------------------------+---------------------------+----------------+--------------+
| Debian 11 (Buster) (ARM) | SKIPPED                      | SKIPPED                   | PASS           | SKIPPED      |
+--------------------------+------------------------------+---------------------------+----------------+--------------+
| Fedora 38 (ARM)          | SKIPPED                      | SKIPPED                   | PASS           | SKIPPED      |
+--------------------------+------------------------------+---------------------------+----------------+--------------+
| Ubuntu 20.04 (ARM)       | SKIPPED                      | SKIPPED                   | PASS           | SKIPPED      |
+--------------------------+------------------------------+---------------------------+----------------+--------------+
| Ubuntu 20.04 ARM SVE     | SKIPPED                      | SKIPPED                   | SKIPPED        | PASS         |
+--------------------------+------------------------------+---------------------------+----------------+--------------+


Debian 11 (arm)
	Kernel: Container Host Kernel
	Compiler: gcc 10.2.1

CentOS Stream 9 (ARM)
	Kernel: Container Host Kernel
	Compiler: gcc 11.3.1

Fedora 37 (ARM)
	Kernel: Depends on container host
	Compiler: gcc 12.3.1

Debian 11 (Buster) (ARM)
	Kernel: Container Host Kernel
	Compiler: gcc 10.2.1

Fedora 38 (ARM)
	Kernel: Depends on container host
	Compiler: gcc 13.1.1

Ubuntu 20.04 (ARM)
	Kernel: Container Host Kernel
	Compiler: gcc 9.4.0

Ubuntu 20.04 ARM SVE
	Kernel: 5.4.0-80-generic
	Compiler: gcc 10.3.0 (Ubuntu 10.3.0-1ubuntu1~20.04)

To view detailed results, visit:
https://lab.dpdk.org/results/dashboard/patchsets/28213/

UNH-IOL DPDK Community Lab

To manage your email subscriptions, visit: 
https://lab.dpdk.org/results/dashboard/preferences/subscriptions/