From mboxrd@z Thu Jan  1 00:00:00 1970
Return-Path: <test-report-bounces@dpdk.org>
Received: from mails.dpdk.org (mails.dpdk.org [217.70.189.124])
	by inbox.dpdk.org (Postfix) with ESMTP id 14EAE43284
	for <public@inbox.dpdk.org>; Sat,  4 Nov 2023 09:58:23 +0100 (CET)
Received: from mails.dpdk.org (localhost [127.0.0.1])
	by mails.dpdk.org (Postfix) with ESMTP id 0FF734028B;
	Sat,  4 Nov 2023 09:58:23 +0100 (CET)
Received: from mail-yw1-f227.google.com (mail-yw1-f227.google.com
 [209.85.128.227])
 by mails.dpdk.org (Postfix) with ESMTP id 669CB4028B
 for <test-report@dpdk.org>; Sat,  4 Nov 2023 09:58:21 +0100 (CET)
Received: by mail-yw1-f227.google.com with SMTP id
 00721157ae682-5a81ab75f21so34179517b3.2
 for <test-report@dpdk.org>; Sat, 04 Nov 2023 01:58:21 -0700 (PDT)
DKIM-Signature: v=1; a=rsa-sha256; c=relaxed/relaxed;
 d=iol.unh.edu; s=unh-iol; t=1699088301; x=1699693101; darn=dpdk.org;
 h=cc:to:from:subject:message-id:date:from:to:cc:subject:date
 :message-id:reply-to;
 bh=5D2smfYFAT8d7wZck46sONbtS49ObNAiwcwg7q59/CM=;
 b=S+l3yrp9XRqrlL0O83Gjf8qPwZdkoM5+QRCIPGDo7NGVukJob4NHFQ+U9fBc2Th+U2
 mzKBmPpXpaTq0nVtN4kx0IjmNgj2KEb+HrfTq4leK41HkdprmXpKuP1zVnV5YOFTcQbv
 8YgKNk5ER9X13BkE8QDQcWF6L2Jeqe1ik9oQ4=
X-Google-DKIM-Signature: v=1; a=rsa-sha256; c=relaxed/relaxed;
 d=1e100.net; s=20230601; t=1699088301; x=1699693101;
 h=cc:to:from:subject:message-id:date:x-gm-message-state:from:to:cc
 :subject:date:message-id:reply-to;
 bh=5D2smfYFAT8d7wZck46sONbtS49ObNAiwcwg7q59/CM=;
 b=W5qOjRQmDO3UexumKsKeFYaLMlC6nPzI5VjyaDI4fGx9jeo9CK1z3GFJlfYW0nGTKn
 BzPrWMfu+GR2tZd2cbpVByuk3+3hj2SpolpU5KHdI0EEZK3Jf0OF340Beh2yo04FLs6q
 Hxi4ahJsLOVLG4sVan0jm8+yC3BBfiNXOv/JLipJJTuq2frMrSyksDzT48n/1rLpkwT7
 x/V70S8YgBego3WJ2jrqNOWlBlKt4y78XahZaUw9A7L2Y23hn0X4GLSrAHYF2BzDt/2S
 cQ/2HTZXSuiu5cK7M2IyJtMnBjxFNtMbYj0Tk+uMsG+js99EyyC10Y/klxHQCPcYFbQk
 qn3w==
X-Gm-Message-State: AOJu0YyL5RvgF83KK6JfZjzVpWBRR0wRJ2q0aS1A4EAQfqcayY9OARZH
 dEgT/r5ungGfwaD3oEwaeKJ80HKpI5/sP9hAt93b060sk4ls/xXpMZaeIbkd3kcWxCMk5cALIg=
 =
X-Google-Smtp-Source: AGHT+IHVSm3yaXB4ib8Yf9Ln5LhzbnD3fxnFpzyZyUoBk5bvwcygIfEwAVs+MQzYylEXTWB22qO3tF/F4MZx
X-Received: by 2002:a0d:d949:0:b0:5a8:299b:433c with SMTP id
 b70-20020a0dd949000000b005a8299b433cmr5390094ywe.18.1699088300921; 
 Sat, 04 Nov 2023 01:58:20 -0700 (PDT)
Received: from postal.iol.unh.edu (postal.iol.unh.edu.
 [2606:4100:3880:1234::84]) by smtp-relay.gmail.com with ESMTPS id
 h20-20020a631214000000b00573ffb93f3bsm277594pgl.26.2023.11.04.01.58.20
 (version=TLS1_2 cipher=ECDHE-ECDSA-AES128-GCM-SHA256 bits=128/128);
 Sat, 04 Nov 2023 01:58:20 -0700 (PDT)
X-Relaying-Domain: iol.unh.edu
Date: Sat, 04 Nov 2023 01:58:20 -0700 (PDT)
Message-ID: <654607ac.630a0220.90376.9c52SMTPIN_ADDED_MISSING@mx.google.com>
Received: from [172.21.0.2] (unknown [172.18.0.240])
 by postal.iol.unh.edu (Postfix) with ESMTP id E33336051827;
 Sat,  4 Nov 2023 04:58:19 -0400 (EDT)
Subject: |SUCCESS| pw133867 [PATCH] net/bnxt: fix deadlock in mgr timer cb
From: dpdklab@iol.unh.edu
To: Test Report <test-report@dpdk.org>
Cc: dpdk-test-reports@iol.unh.edu
Content-Type: text/plain
X-BeenThere: test-report@dpdk.org
X-Mailman-Version: 2.1.29
Precedence: list
List-Id: automatic DPDK test reports <test-report.dpdk.org>
List-Unsubscribe: <https://mails.dpdk.org/options/test-report>,
 <mailto:test-report-request@dpdk.org?subject=unsubscribe>
List-Archive: <http://mails.dpdk.org/archives/test-report/>
List-Post: <mailto:test-report@dpdk.org>
List-Help: <mailto:test-report-request@dpdk.org?subject=help>
List-Subscribe: <https://mails.dpdk.org/listinfo/test-report>,
 <mailto:test-report-request@dpdk.org?subject=subscribe>
Errors-To: test-report-bounces@dpdk.org

Test-Label: iol-unit-amd64-testing
Test-Status: SUCCESS
http://dpdk.org/patch/133867

_Testing PASS_

Submitter: Weiguo Li <liwg06@foxmail.com>
Date: Saturday, November 04 2023 04:06:58 
DPDK git baseline: Repo:dpdk
  Branch: master
  CommitID:34c0c38ab772e8eea5243f530866d5b68519e7c7

133867 --> testing pass

Test environment and result as below:

+---------------------+----------------+
|     Environment     | dpdk_unit_test |
+=====================+================+
| Windows Server 2019 | PASS           |
+---------------------+----------------+
| CentOS Stream 8     | PASS           |
+---------------------+----------------+
| Debian Bullseye     | PASS           |
+---------------------+----------------+
| Fedora 37           | PASS           |
+---------------------+----------------+
| Debian Buster       | PASS           |
+---------------------+----------------+
| Fedora 38           | PASS           |
+---------------------+----------------+
| openSUSE Leap 15    | PASS           |
+---------------------+----------------+
| Ubuntu 20.04        | PASS           |
+---------------------+----------------+
| RHEL8               | PASS           |
+---------------------+----------------+
| CentOS Stream 9     | PASS           |
+---------------------+----------------+
| Ubuntu 22.04        | PASS           |
+---------------------+----------------+


Windows Server 2019
	Kernel: 10.0
	Compiler: clang 14.0 and gcc 8.1.0 (MinGW)

CentOS Stream 8
	Kernel: 4.18.0-240.10.1.el8_3.x86_64
	Compiler: gcc 8.4.1 20200928

Debian Bullseye
	Kernel: 5.4.0-122-generic
	Compiler: gcc 10.2.1-6

Fedora 37
	Kernel: Depends on container host system
	Compiler: gcc 12.3.1

Debian Buster
	Kernel: 5.4.0-122-generic
	Compiler: gcc 8.3.0-6

Fedora 38
	Kernel: Depends on container host
	Compiler: clang 16.0.3

openSUSE Leap 15
	Kernel: 4.18.0-240.10.1.el8_3.x86_64
	Compiler: gcc 7.5.0

Ubuntu 20.04
	Kernel: 5.4.0-153-generic
	Compiler: gcc 9.4.0-1ubuntu1~20.04.1

RHEL8
	Kernel: 4.18.0-240.10.1.el8_3.x86_64
	Compiler: gcc 8.3.1 20191121 (Red Hat 8.3.1-5)

CentOS Stream 9
	Kernel: 4.18.0-240.10.1.el8_3.x86_64
	Compiler: gcc 11.3.1 20220421

Ubuntu 22.04
	Kernel: 4.18.0-240.10.1.el8_3.x86_64
	Compiler: gcc 11.3.0

To view detailed results, visit:
https://lab.dpdk.org/results/dashboard/patchsets/28239/

UNH-IOL DPDK Community Lab

To manage your email subscriptions, visit: 
https://lab.dpdk.org/results/dashboard/preferences/subscriptions/