From mboxrd@z Thu Jan  1 00:00:00 1970
Return-Path: <test-report-bounces@dpdk.org>
Received: from mails.dpdk.org (mails.dpdk.org [217.70.189.124])
	by inbox.dpdk.org (Postfix) with ESMTP id 16BE843289
	for <public@inbox.dpdk.org>; Sat,  4 Nov 2023 10:07:30 +0100 (CET)
Received: from mails.dpdk.org (localhost [127.0.0.1])
	by mails.dpdk.org (Postfix) with ESMTP id 116A34028B;
	Sat,  4 Nov 2023 10:07:30 +0100 (CET)
Received: from mail-oa1-f98.google.com (mail-oa1-f98.google.com
 [209.85.160.98]) by mails.dpdk.org (Postfix) with ESMTP id 922AB4028B
 for <test-report@dpdk.org>; Sat,  4 Nov 2023 10:07:28 +0100 (CET)
Received: by mail-oa1-f98.google.com with SMTP id
 586e51a60fabf-1ead2e6fab7so1634361fac.0
 for <test-report@dpdk.org>; Sat, 04 Nov 2023 02:07:28 -0700 (PDT)
DKIM-Signature: v=1; a=rsa-sha256; c=relaxed/relaxed;
 d=iol.unh.edu; s=unh-iol; t=1699088848; x=1699693648; darn=dpdk.org;
 h=cc:to:from:subject:message-id:date:from:to:cc:subject:date
 :message-id:reply-to;
 bh=PdjoO3wWbw3ouZP+t2liAb0E6EWLQsa7JwnrTuMilVI=;
 b=KuRjaMkmhu8bHwo3evsoDtskogP/3NR984y9cEnn6wVdl78m2mn4Wdo5vMGyDnoQun
 fXAOIW3SDfae7w+3gZWIN/4KdEB31q7immHaMJ9MU1tVN4YZHyDhSCVSPfI5IwHVRnIT
 hUvDnShneEHPl1Mt/JuiI4wOtFsYp84i5+b3w=
X-Google-DKIM-Signature: v=1; a=rsa-sha256; c=relaxed/relaxed;
 d=1e100.net; s=20230601; t=1699088848; x=1699693648;
 h=cc:to:from:subject:message-id:date:x-gm-message-state:from:to:cc
 :subject:date:message-id:reply-to;
 bh=PdjoO3wWbw3ouZP+t2liAb0E6EWLQsa7JwnrTuMilVI=;
 b=FNS+9wWWS2Aw8L3+MMcVB4wBNfj7GE4SV+uTC2AJYeN/zEw1EOkmzGpZElTNKRqCZk
 Ip9HvoZ1Hz+/1Bh97Fpk3XRvn4rlPYuM3KEUo+ywc48DgTvQWT6/wEfBR1o3C/w3fh67
 3KFs700M3rKhVkmsrMU8VxgELpq+icBCvXtOdGmovyxXrATeUXykwuqkERp+shgWw+PQ
 xmozwTrca/Z2LEVq873upEgAPdKZpeCLUVjBKs7ihnFoZNncDpgX1/LBA+Fl1AwCj+Ey
 lUq9u764Z5II2oP53rZn8o3J3+sMcq0g/p5g2kEdwG0iBNBbLNTGvPVSf8mFDG845rQO
 oFhg==
X-Gm-Message-State: AOJu0Yz2zpetCJALb6R7ezRlJsavejaBVaxRIX3+uO69Z9+D9+Nx4hU/
 I1A1iS2GE/VC6OwvBXOYdOjImEUS9HaAwNGChIXoCkJOI38cyUAo21045g==
X-Google-Smtp-Source: AGHT+IFeE11OocSSah2EtekRsZ0vJLkAsbui7oQZJ5BxDN1dz8lQ/znCKXba0xNFBuse08o6V0C1TS3YZVsP
X-Received: by 2002:a05:6870:2a43:b0:1ef:9f6c:3df1 with SMTP id
 jd3-20020a0568702a4300b001ef9f6c3df1mr24503031oab.14.1699088847926; 
 Sat, 04 Nov 2023 02:07:27 -0700 (PDT)
Received: from postal.iol.unh.edu (postal.iol.unh.edu. [132.177.123.84])
 by smtp-relay.gmail.com with ESMTPS id
 9-20020a630d49000000b005b92e73538fsm267807pgn.18.2023.11.04.02.07.27
 (version=TLS1_2 cipher=ECDHE-ECDSA-AES128-GCM-SHA256 bits=128/128);
 Sat, 04 Nov 2023 02:07:27 -0700 (PDT)
X-Relaying-Domain: iol.unh.edu
Date: Sat, 04 Nov 2023 02:07:27 -0700 (PDT)
Message-ID: <654609cf.630a0220.8fb1.81bfSMTPIN_ADDED_MISSING@mx.google.com>
Received: from [172.21.0.4] (unknown [172.18.0.240])
 by postal.iol.unh.edu (Postfix) with ESMTP id E52E86051827;
 Sat,  4 Nov 2023 05:07:26 -0400 (EDT)
Subject: |SUCCESS| pw133867 [PATCH] net/bnxt: fix deadlock in mgr timer cb
From: dpdklab@iol.unh.edu
To: Test Report <test-report@dpdk.org>
Cc: dpdk-test-reports@iol.unh.edu
Content-Type: text/plain
X-BeenThere: test-report@dpdk.org
X-Mailman-Version: 2.1.29
Precedence: list
List-Id: automatic DPDK test reports <test-report.dpdk.org>
List-Unsubscribe: <https://mails.dpdk.org/options/test-report>,
 <mailto:test-report-request@dpdk.org?subject=unsubscribe>
List-Archive: <http://mails.dpdk.org/archives/test-report/>
List-Post: <mailto:test-report@dpdk.org>
List-Help: <mailto:test-report-request@dpdk.org?subject=help>
List-Subscribe: <https://mails.dpdk.org/listinfo/test-report>,
 <mailto:test-report-request@dpdk.org?subject=subscribe>
Errors-To: test-report-bounces@dpdk.org

Test-Label: iol-compile-arm64-testing
Test-Status: SUCCESS
http://dpdk.org/patch/133867

_Testing PASS_

Submitter: Weiguo Li <liwg06@foxmail.com>
Date: Saturday, November 04 2023 04:06:58 
DPDK git baseline: Repo:dpdk
  Branch: master
  CommitID:34c0c38ab772e8eea5243f530866d5b68519e7c7

133867 --> testing pass

Test environment and result as below:

+----------------------------------------+--------------------+
|              Environment               | dpdk_meson_compile |
+========================================+====================+
| Ubuntu 20.04 ARM SVE                   | PASS               |
+----------------------------------------+--------------------+
| Fedora 37 (ARM)                        | PASS               |
+----------------------------------------+--------------------+
| Fedora 38 (ARM)                        | PASS               |
+----------------------------------------+--------------------+
| Ubuntu 20.04 (ARM)                     | PASS               |
+----------------------------------------+--------------------+
| Debian 11 (Buster) (ARM)               | PASS               |
+----------------------------------------+--------------------+
| CentOS Stream 9 (ARM)                  | PASS               |
+----------------------------------------+--------------------+
| Ubuntu 20.04 aarch32 GCC Cross Compile | PASS               |
+----------------------------------------+--------------------+
| Ubuntu 20.04 ARM Clang Cross Compile   | PASS               |
+----------------------------------------+--------------------+
| Ubuntu 20.04 ARM GCC Cross Compile     | PASS               |
+----------------------------------------+--------------------+


Ubuntu 20.04 ARM SVE
	Kernel: 5.4.0-80-generic
	Compiler: gcc 10.3.0 (Ubuntu 10.3.0-1ubuntu1~20.04)

Fedora 37 (ARM)
	Kernel: Depends on container host
	Compiler: gcc 12.3.1

Fedora 38 (ARM)
	Kernel: Depends on container host
	Compiler: gcc 13.1.1

Ubuntu 20.04 (ARM)
	Kernel: Container Host Kernel
	Compiler: gcc 9.4.0

Debian 11 (Buster) (ARM)
	Kernel: Container Host Kernel
	Compiler: gcc 10.2.1

CentOS Stream 9 (ARM)
	Kernel: Container Host Kernel
	Compiler: gcc 11.3.1

Ubuntu 20.04 aarch32 GCC Cross Compile
	Kernel: 5.4.0-72-generic
	Compiler: gcc 9.3.0

Ubuntu 20.04 ARM Clang Cross Compile
	Kernel: 5.4.0-72-generic
	Compiler: clang version 10.0.0-4ubuntu1

Ubuntu 20.04 ARM GCC Cross Compile
	Kernel: 5.4.0-72-generic
	Compiler: aarch64-linux-gnu-gcc (Ubuntu 9.3.0-17ubuntu1~20.04) 9.3.0

To view detailed results, visit:
https://lab.dpdk.org/results/dashboard/patchsets/28239/

UNH-IOL DPDK Community Lab

To manage your email subscriptions, visit: 
https://lab.dpdk.org/results/dashboard/preferences/subscriptions/