From mboxrd@z Thu Jan  1 00:00:00 1970
Return-Path: <test-report-bounces@dpdk.org>
Received: from mails.dpdk.org (mails.dpdk.org [217.70.189.124])
	by inbox.dpdk.org (Postfix) with ESMTP id 8CD6443289
	for <public@inbox.dpdk.org>; Sat,  4 Nov 2023 10:43:27 +0100 (CET)
Received: from mails.dpdk.org (localhost [127.0.0.1])
	by mails.dpdk.org (Postfix) with ESMTP id 867BF4028B;
	Sat,  4 Nov 2023 10:43:27 +0100 (CET)
Received: from mail-pg1-f226.google.com (mail-pg1-f226.google.com
 [209.85.215.226])
 by mails.dpdk.org (Postfix) with ESMTP id 338F64028B
 for <test-report@dpdk.org>; Sat,  4 Nov 2023 10:43:22 +0100 (CET)
Received: by mail-pg1-f226.google.com with SMTP id
 41be03b00d2f7-5bcec7a304bso2251227a12.3
 for <test-report@dpdk.org>; Sat, 04 Nov 2023 02:43:22 -0700 (PDT)
DKIM-Signature: v=1; a=rsa-sha256; c=relaxed/relaxed;
 d=iol.unh.edu; s=unh-iol; t=1699091001; x=1699695801; darn=dpdk.org;
 h=cc:to:from:subject:message-id:date:from:to:cc:subject:date
 :message-id:reply-to;
 bh=AyYC24ZdzYJj/WXy9M3KVSuc+TCecxUIlqO2p4FMtYU=;
 b=Bt9Yjq+qEN10xdVgiPhFC8x867qoTLY/KXPuKNqJFJAVG7EfX5aXXSasKG52wz10Hp
 Pxg0wpQC3keteMsG3NHLB4TAL10wUYMfFh7N8hn6mWzwX2BrE1oASOvCo+kOw5GUULhD
 nhJNXCUlPOI3YPYztIpYkDrDcnW7Uyui4HrmM=
X-Google-DKIM-Signature: v=1; a=rsa-sha256; c=relaxed/relaxed;
 d=1e100.net; s=20230601; t=1699091001; x=1699695801;
 h=cc:to:from:subject:message-id:date:x-gm-message-state:from:to:cc
 :subject:date:message-id:reply-to;
 bh=AyYC24ZdzYJj/WXy9M3KVSuc+TCecxUIlqO2p4FMtYU=;
 b=cebXY7aR8z+VSXDcWgY8yllRZwONdSRpVzjkrJZRpTG+butysyt6ZAggo16mVrydMk
 Um7uC+Lt77r6kXLCZLPDkKTZ/ynN8++F5T/Rv8u4VsrfKt+o9hvbl90k0Pt/gTZax+Me
 VYeCGoSGtwLEKDQ7Hxg7w+/ynoecpEbICYKSL2s47RLa+Bwv0gG+0Wjv3wX1jKtUHy6h
 GHAgrQFL0Df160eUPm6wS8QPeHl8Q4T79bUrwIRQ0WxRd9D9EiG+MNUYJloSlHDXmynE
 SAz/PJfiBAKw7bClNJwaTpt0p6gVYEYh454DGmWiwjWlnqSQmrS005Gc2bv2yWWLQK+4
 VFWA==
X-Gm-Message-State: AOJu0YwcGoSiCp7Hnyosgf/H5KbAdmXUnAy0zBoSgpR8URRbo726i/16
 14M8fyiY4i6QU/6tHzVH9Il6fuOvIAH7QnCD+urR8oG7jnWj6dY0To1yLQ==
X-Google-Smtp-Source: AGHT+IFm0xqJTaqSN1N33K2rrPmXSUDIyozKAbfgbXO4xBtrKlwsCh7QqO4mgflyxr7oaHfbY/f98P/IsbL0
X-Received: by 2002:a05:6a20:938c:b0:17b:40:ccd6 with SMTP id
 x12-20020a056a20938c00b0017b0040ccd6mr31065604pzh.2.1699091001462; 
 Sat, 04 Nov 2023 02:43:21 -0700 (PDT)
Received: from postal.iol.unh.edu (postal.iol.unh.edu. [132.177.123.84])
 by smtp-relay.gmail.com with ESMTPS id
 9-20020a630d49000000b005b92e73538fsm269464pgn.18.2023.11.04.02.43.21
 (version=TLS1_2 cipher=ECDHE-ECDSA-AES128-GCM-SHA256 bits=128/128);
 Sat, 04 Nov 2023 02:43:21 -0700 (PDT)
X-Relaying-Domain: iol.unh.edu
Date: Sat, 04 Nov 2023 02:43:21 -0700 (PDT)
Message-ID: <65461239.630a0220.8fb1.83aeSMTPIN_ADDED_MISSING@mx.google.com>
Received: from [172.21.0.5] (unknown [172.18.0.240])
 by postal.iol.unh.edu (Postfix) with ESMTP id B513D605182A;
 Sat,  4 Nov 2023 05:43:20 -0400 (EDT)
Subject: |SUCCESS| pw133870 [PATCH] examples/l3fwd: fix missing unlock issue
From: dpdklab@iol.unh.edu
To: Test Report <test-report@dpdk.org>
Cc: dpdk-test-reports@iol.unh.edu
Content-Type: text/plain
X-BeenThere: test-report@dpdk.org
X-Mailman-Version: 2.1.29
Precedence: list
List-Id: automatic DPDK test reports <test-report.dpdk.org>
List-Unsubscribe: <https://mails.dpdk.org/options/test-report>,
 <mailto:test-report-request@dpdk.org?subject=unsubscribe>
List-Archive: <http://mails.dpdk.org/archives/test-report/>
List-Post: <mailto:test-report@dpdk.org>
List-Help: <mailto:test-report-request@dpdk.org?subject=help>
List-Subscribe: <https://mails.dpdk.org/listinfo/test-report>,
 <mailto:test-report-request@dpdk.org?subject=subscribe>
Errors-To: test-report-bounces@dpdk.org

Test-Label: iol-compile-amd64-testing
Test-Status: SUCCESS
http://dpdk.org/patch/133870

_Testing PASS_

Submitter: Weiguo Li <liwg06@foxmail.com>
Date: Saturday, November 04 2023 07:27:37 
DPDK git baseline: Repo:dpdk
  Branch: master
  CommitID:34c0c38ab772e8eea5243f530866d5b68519e7c7

133870 --> testing pass

Test environment and result as below:

+---------------------+--------------------+----------------------+
|     Environment     | dpdk_meson_compile | dpdk_mingw64_compile |
+=====================+====================+======================+
| FreeBSD 13          | PASS               | SKIPPED              |
+---------------------+--------------------+----------------------+
| Debian Bullseye     | PASS               | SKIPPED              |
+---------------------+--------------------+----------------------+
| Fedora 37           | PASS               | SKIPPED              |
+---------------------+--------------------+----------------------+
| CentOS Stream 8     | PASS               | SKIPPED              |
+---------------------+--------------------+----------------------+
| Windows Server 2019 | PASS               | PASS                 |
+---------------------+--------------------+----------------------+
| Ubuntu 20.04        | PASS               | SKIPPED              |
+---------------------+--------------------+----------------------+
| RHEL8               | PASS               | SKIPPED              |
+---------------------+--------------------+----------------------+
| Ubuntu 22.04        | PASS               | SKIPPED              |
+---------------------+--------------------+----------------------+
| Debian Buster       | PASS               | SKIPPED              |
+---------------------+--------------------+----------------------+
| Fedora 38           | PASS               | SKIPPED              |
+---------------------+--------------------+----------------------+
| Alpine              | PASS               | SKIPPED              |
+---------------------+--------------------+----------------------+
| openSUSE Leap 15    | PASS               | SKIPPED              |
+---------------------+--------------------+----------------------+
| CentOS Stream 9     | PASS               | SKIPPED              |
+---------------------+--------------------+----------------------+


FreeBSD 13
	Kernel: 13.0
	Compiler: clang 11.0.1

Debian Bullseye
	Kernel: 5.4.0-122-generic
	Compiler: gcc 10.2.1-6

Fedora 37
	Kernel: Depends on container host system
	Compiler: gcc 12.3.1

CentOS Stream 8
	Kernel: 4.18.0-240.10.1.el8_3.x86_64
	Compiler: gcc 8.4.1 20200928

Windows Server 2019
	Kernel: 10.0
	Compiler: clang 14.0 and gcc 8.1.0 (MinGW)

Ubuntu 20.04
	Kernel: 5.4.0-153-generic
	Compiler: gcc 9.4.0-1ubuntu1~20.04.1

RHEL8
	Kernel: 4.18.0-240.10.1.el8_3.x86_64
	Compiler: gcc 8.3.1 20191121 (Red Hat 8.3.1-5)

Ubuntu 22.04
	Kernel: 4.18.0-240.10.1.el8_3.x86_64
	Compiler: gcc 11.3.0

Debian Buster
	Kernel: 5.4.0-122-generic
	Compiler: gcc 8.3.0-6

Fedora 38
	Kernel: Depends on container host
	Compiler: gcc 13.1.1

Alpine
	Kernel: 5.4.0-73-generic
	Compiler: gcc (Alpine 10.3.1_git20210424) 10.3.1 20210424

openSUSE Leap 15
	Kernel: 4.18.0-240.10.1.el8_3.x86_64
	Compiler: gcc 7.5.0

CentOS Stream 9
	Kernel: 4.18.0-240.10.1.el8_3.x86_64
	Compiler: gcc 11.3.1 20220421

To view detailed results, visit:
https://lab.dpdk.org/results/dashboard/patchsets/28242/

UNH-IOL DPDK Community Lab

To manage your email subscriptions, visit: 
https://lab.dpdk.org/results/dashboard/preferences/subscriptions/