From mboxrd@z Thu Jan  1 00:00:00 1970
Return-Path: <test-report-bounces@dpdk.org>
Received: from mails.dpdk.org (mails.dpdk.org [217.70.189.124])
	by inbox.dpdk.org (Postfix) with ESMTP id 8936743289
	for <public@inbox.dpdk.org>; Sat,  4 Nov 2023 11:05:05 +0100 (CET)
Received: from mails.dpdk.org (localhost [127.0.0.1])
	by mails.dpdk.org (Postfix) with ESMTP id 827BB4028B;
	Sat,  4 Nov 2023 11:05:05 +0100 (CET)
Received: from mail-yb1-f225.google.com (mail-yb1-f225.google.com
 [209.85.219.225])
 by mails.dpdk.org (Postfix) with ESMTP id 390374028B
 for <test-report@dpdk.org>; Sat,  4 Nov 2023 11:05:04 +0100 (CET)
Received: by mail-yb1-f225.google.com with SMTP id
 3f1490d57ef6-d9beb863816so2935651276.1
 for <test-report@dpdk.org>; Sat, 04 Nov 2023 03:05:04 -0700 (PDT)
DKIM-Signature: v=1; a=rsa-sha256; c=relaxed/relaxed;
 d=iol.unh.edu; s=unh-iol; t=1699092303; x=1699697103; darn=dpdk.org;
 h=cc:to:from:subject:message-id:date:from:to:cc:subject:date
 :message-id:reply-to;
 bh=OmvKEQfrzlovT7VxFWUfvR9HfMelJxKz6yWpWga8PaM=;
 b=O9STp0sOFoRyj5HMCmrW2BFYkp1E6VMIY6kvTrUAwf7SEW84wK2p3ao7kqD2+5+fyf
 sM6pPcMh6XL8U8Xpbr4atBdeVcGxPvoe03KVpyjW/QgZ318Ugx7gvvjrNDnNgAWlDO9t
 TbTEX+L00lMny449VpKBWevdjF66B9KCXwqKU=
X-Google-DKIM-Signature: v=1; a=rsa-sha256; c=relaxed/relaxed;
 d=1e100.net; s=20230601; t=1699092303; x=1699697103;
 h=cc:to:from:subject:message-id:date:x-gm-message-state:from:to:cc
 :subject:date:message-id:reply-to;
 bh=OmvKEQfrzlovT7VxFWUfvR9HfMelJxKz6yWpWga8PaM=;
 b=BXvO/qGvOkhf4Z3uwtexnmH79MwL2SLlYaEOT+pCT7IWWdkqPuEn0AZLCXpDc5oEDq
 muawp60UTVLa4dkRUbz118+GN514F7pF9LMLd20hVJjuYBV3gJrAAxGZ8hi/kzgStmtx
 /RBuC9g7LQv2cD4sioIONDl2ud06d2GesHjHDZgJhiXc2WOEF9d35b9KzmwRY5N6cbVd
 U1KeDeNBMQmlorgFJJgiaYlXo8lvCq/CBEXMCWPQBoJWkDAsfvvS92rEub4nUPrJ2moB
 tMzSrIBIcubZ0FVHLBhsuHAZ4LpeWmctLXG9jBAGKhQR2Oacc4WRU/AMNUolxzP7ygxz
 nSqg==
X-Gm-Message-State: AOJu0YzffDCWoIbV1M/nJCnao3TQkqVvaOvgDiy0EP0sTXtABWmu14Qq
 qS+CJ8hP0QoxwYpE5u3ANnuUTbYEBb5/XuWkpUh3y1E36u7EaAuoBOKx1A==
X-Google-Smtp-Source: AGHT+IHMSvAc/XFpn90nPYy8oai9InfKSW8zke3RMWhaTevdvETsddBJPPlmPtxiEok35xWdhFwA8NpW9EII
X-Received: by 2002:a25:bece:0:b0:d77:e338:1b6b with SMTP id
 k14-20020a25bece000000b00d77e3381b6bmr6218538ybm.14.1699092303429; 
 Sat, 04 Nov 2023 03:05:03 -0700 (PDT)
Received: from postal.iol.unh.edu (postal.iol.unh.edu. [132.177.123.84])
 by smtp-relay.gmail.com with ESMTPS id
 i4-20020a25be84000000b00d85b115c576sm70626ybk.17.2023.11.04.03.05.03
 (version=TLS1_2 cipher=ECDHE-ECDSA-AES128-GCM-SHA256 bits=128/128);
 Sat, 04 Nov 2023 03:05:03 -0700 (PDT)
X-Relaying-Domain: iol.unh.edu
Date: Sat, 04 Nov 2023 03:05:03 -0700 (PDT)
Message-ID: <6546174f.250a0220.b8a1.1a46SMTPIN_ADDED_MISSING@mx.google.com>
Received: from [172.21.0.2] (unknown [172.18.0.240])
 by postal.iol.unh.edu (Postfix) with ESMTP id 277906051827;
 Sat,  4 Nov 2023 06:05:03 -0400 (EDT)
Subject: |SUCCESS| pw133870 [PATCH] examples/l3fwd: fix missing unlock issue
From: dpdklab@iol.unh.edu
To: Test Report <test-report@dpdk.org>
Cc: dpdk-test-reports@iol.unh.edu
Content-Type: text/plain
X-BeenThere: test-report@dpdk.org
X-Mailman-Version: 2.1.29
Precedence: list
List-Id: automatic DPDK test reports <test-report.dpdk.org>
List-Unsubscribe: <https://mails.dpdk.org/options/test-report>,
 <mailto:test-report-request@dpdk.org?subject=unsubscribe>
List-Archive: <http://mails.dpdk.org/archives/test-report/>
List-Post: <mailto:test-report@dpdk.org>
List-Help: <mailto:test-report-request@dpdk.org?subject=help>
List-Subscribe: <https://mails.dpdk.org/listinfo/test-report>,
 <mailto:test-report-request@dpdk.org?subject=subscribe>
Errors-To: test-report-bounces@dpdk.org

Test-Label: iol-unit-amd64-testing
Test-Status: SUCCESS
http://dpdk.org/patch/133870

_Testing PASS_

Submitter: Weiguo Li <liwg06@foxmail.com>
Date: Saturday, November 04 2023 07:27:37 
DPDK git baseline: Repo:dpdk
  Branch: master
  CommitID:34c0c38ab772e8eea5243f530866d5b68519e7c7

133870 --> testing pass

Test environment and result as below:

+---------------------+----------------+
|     Environment     | dpdk_unit_test |
+=====================+================+
| CentOS Stream 8     | PASS           |
+---------------------+----------------+
| CentOS Stream 9     | PASS           |
+---------------------+----------------+
| Debian Buster       | PASS           |
+---------------------+----------------+
| Debian Bullseye     | PASS           |
+---------------------+----------------+
| Fedora 38           | PASS           |
+---------------------+----------------+
| Fedora 37           | PASS           |
+---------------------+----------------+
| Windows Server 2019 | PASS           |
+---------------------+----------------+
| openSUSE Leap 15    | PASS           |
+---------------------+----------------+
| Ubuntu 20.04        | PASS           |
+---------------------+----------------+
| RHEL8               | PASS           |
+---------------------+----------------+
| Ubuntu 22.04        | PASS           |
+---------------------+----------------+


CentOS Stream 8
	Kernel: 4.18.0-240.10.1.el8_3.x86_64
	Compiler: gcc 8.4.1 20200928

CentOS Stream 9
	Kernel: 4.18.0-240.10.1.el8_3.x86_64
	Compiler: gcc 11.3.1 20220421

Debian Buster
	Kernel: 5.4.0-122-generic
	Compiler: gcc 8.3.0-6

Debian Bullseye
	Kernel: 5.4.0-122-generic
	Compiler: gcc 10.2.1-6

Fedora 38
	Kernel: Depends on container host
	Compiler: gcc 13.1.1

Fedora 37
	Kernel: Depends on container host system
	Compiler: gcc 12.3.1

Windows Server 2019
	Kernel: 10.0
	Compiler: clang 14.0 and gcc 8.1.0 (MinGW)

openSUSE Leap 15
	Kernel: 4.18.0-240.10.1.el8_3.x86_64
	Compiler: gcc 7.5.0

Ubuntu 20.04
	Kernel: 5.4.0-153-generic
	Compiler: gcc 9.4.0-1ubuntu1~20.04.1

RHEL8
	Kernel: 4.18.0-240.10.1.el8_3.x86_64
	Compiler: gcc 8.3.1 20191121 (Red Hat 8.3.1-5)

Ubuntu 22.04
	Kernel: 4.18.0-240.10.1.el8_3.x86_64
	Compiler: gcc 11.3.0

To view detailed results, visit:
https://lab.dpdk.org/results/dashboard/patchsets/28242/

UNH-IOL DPDK Community Lab

To manage your email subscriptions, visit: 
https://lab.dpdk.org/results/dashboard/preferences/subscriptions/