From mboxrd@z Thu Jan  1 00:00:00 1970
Return-Path: <test-report-bounces@dpdk.org>
Received: from mails.dpdk.org (mails.dpdk.org [217.70.189.124])
	by inbox.dpdk.org (Postfix) with ESMTP id 9FA2043289
	for <public@inbox.dpdk.org>; Sat,  4 Nov 2023 11:08:01 +0100 (CET)
Received: from mails.dpdk.org (localhost [127.0.0.1])
	by mails.dpdk.org (Postfix) with ESMTP id 9B82B4028B;
	Sat,  4 Nov 2023 11:08:01 +0100 (CET)
Received: from mail-ot1-f100.google.com (mail-ot1-f100.google.com
 [209.85.210.100])
 by mails.dpdk.org (Postfix) with ESMTP id EDAF04028B
 for <test-report@dpdk.org>; Sat,  4 Nov 2023 11:08:00 +0100 (CET)
Received: by mail-ot1-f100.google.com with SMTP id
 46e09a7af769-6d3260385b5so1333683a34.0
 for <test-report@dpdk.org>; Sat, 04 Nov 2023 03:08:00 -0700 (PDT)
DKIM-Signature: v=1; a=rsa-sha256; c=relaxed/relaxed;
 d=iol.unh.edu; s=unh-iol; t=1699092480; x=1699697280; darn=dpdk.org;
 h=cc:to:from:subject:message-id:date:from:to:cc:subject:date
 :message-id:reply-to;
 bh=qiIHZJ7XkFzFYakueW8LeO26d9td4XVd6okGfK46SuM=;
 b=PgQcpUDXV3pfFMU058XOnbBy/Rm8NexgIi5YN+U6ek7kLwUbAI9f/cSLnaoVvxIpuA
 h0BdfwQKTtMsk1A8MjVpXboj7PZ16WLt8hbwoGJykiLrUiMy8e61R2AtZ/nlgT7esgt2
 y9LkAyuIoU647N4o3AaVNBPtcIGQjKqEGztFo=
X-Google-DKIM-Signature: v=1; a=rsa-sha256; c=relaxed/relaxed;
 d=1e100.net; s=20230601; t=1699092480; x=1699697280;
 h=cc:to:from:subject:message-id:date:x-gm-message-state:from:to:cc
 :subject:date:message-id:reply-to;
 bh=qiIHZJ7XkFzFYakueW8LeO26d9td4XVd6okGfK46SuM=;
 b=KndsfwmmCJVTl45Gc6LtLQHz2PbfmRw0GmZaRFCUmKn2mOTK070ghkRW5XtOKlIcMd
 c7I6ERZy+Mm3hWKUc9usf8S0uKySIEPMgJiQ3yGP0HVu5wIJomSlZJGOaWp+FYJ9vBRF
 e5+kgkY9Qdp7gBHkPxBAnflH5EFVg0BYgZej09ppn8kF6SRHAQ+FBo/9dYNazyfw2hAC
 rHt2plIetBbGioZY7CTQhsTJY7+s3V+0iuqWnkvyHMvGWgM44F6mTgMqVSGEpVHWdLus
 Rm74Fp+Kqvv2AO4X5x4jRl2UPqtXpGKdI+A68IPLDxwp2hg3JXMLnVsNnY6Q8LbJ6dGw
 jD3A==
X-Gm-Message-State: AOJu0YyJM0akpMXk/3VWrt2gEqmAWh45gXNSifIBnleM4mOS7UKBGF2V
 qamLlvKuoG+yC+Dkw0ynClQLCepB6T0rpj00iat2pasX8wcjHbQIV/nly7AT+28AYkwKxKCkUA=
 =
X-Google-Smtp-Source: AGHT+IFiI1cIixJV1taHn0TagRld66bGOWyhI+Xjm71Vs1hmzESDqeuW63DHxRYEX1hzqIU61eO2df9hNpQb
X-Received: by 2002:a05:6830:2b1f:b0:6c2:1ff0:b2e1 with SMTP id
 l31-20020a0568302b1f00b006c21ff0b2e1mr3560603otv.4.1699092480396; 
 Sat, 04 Nov 2023 03:08:00 -0700 (PDT)
Received: from postal.iol.unh.edu (postal.iol.unh.edu.
 [2606:4100:3880:1234::84]) by smtp-relay.gmail.com with ESMTPS id
 q12-20020a056830440c00b006c64d34225asm328170otv.2.2023.11.04.03.08.00
 (version=TLS1_2 cipher=ECDHE-ECDSA-AES128-GCM-SHA256 bits=128/128);
 Sat, 04 Nov 2023 03:08:00 -0700 (PDT)
X-Relaying-Domain: iol.unh.edu
Date: Sat, 04 Nov 2023 03:08:00 -0700 (PDT)
Message-ID: <65461800.050a0220.910b.6713SMTPIN_ADDED_MISSING@mx.google.com>
Received: from [172.21.0.3] (unknown [172.18.0.240])
 by postal.iol.unh.edu (Postfix) with ESMTP id DE5796051827;
 Sat,  4 Nov 2023 06:07:59 -0400 (EDT)
Subject: |SUCCESS| pw133868 [PATCH] net/mlx5: fix the unlock mismatch issue
From: dpdklab@iol.unh.edu
To: Test Report <test-report@dpdk.org>
Cc: dpdk-test-reports@iol.unh.edu
Content-Type: text/plain
X-BeenThere: test-report@dpdk.org
X-Mailman-Version: 2.1.29
Precedence: list
List-Id: automatic DPDK test reports <test-report.dpdk.org>
List-Unsubscribe: <https://mails.dpdk.org/options/test-report>,
 <mailto:test-report-request@dpdk.org?subject=unsubscribe>
List-Archive: <http://mails.dpdk.org/archives/test-report/>
List-Post: <mailto:test-report@dpdk.org>
List-Help: <mailto:test-report-request@dpdk.org?subject=help>
List-Subscribe: <https://mails.dpdk.org/listinfo/test-report>,
 <mailto:test-report-request@dpdk.org?subject=subscribe>
Errors-To: test-report-bounces@dpdk.org

Test-Label: iol-compile-amd64-testing
Test-Status: SUCCESS
http://dpdk.org/patch/133868

_Testing PASS_

Submitter: Weiguo Li <liwg06@foxmail.com>
Date: Saturday, November 04 2023 04:07:33 
DPDK git baseline: Repo:dpdk
  Branch: master
  CommitID:34c0c38ab772e8eea5243f530866d5b68519e7c7

133868 --> testing pass

Test environment and result as below:

+---------------------+--------------------+----------------------+
|     Environment     | dpdk_meson_compile | dpdk_mingw64_compile |
+=====================+====================+======================+
| FreeBSD 13          | PASS               | SKIPPED              |
+---------------------+--------------------+----------------------+
| Debian Bullseye     | PASS               | SKIPPED              |
+---------------------+--------------------+----------------------+
| CentOS Stream 9     | PASS               | SKIPPED              |
+---------------------+--------------------+----------------------+
| Fedora 37           | PASS               | SKIPPED              |
+---------------------+--------------------+----------------------+
| CentOS Stream 8     | PASS               | SKIPPED              |
+---------------------+--------------------+----------------------+
| Windows Server 2019 | PASS               | PASS                 |
+---------------------+--------------------+----------------------+
| Fedora 38           | PASS               | SKIPPED              |
+---------------------+--------------------+----------------------+
| openSUSE Leap 15    | PASS               | SKIPPED              |
+---------------------+--------------------+----------------------+
| Ubuntu 22.04        | PASS               | SKIPPED              |
+---------------------+--------------------+----------------------+
| Ubuntu 20.04        | PASS               | SKIPPED              |
+---------------------+--------------------+----------------------+
| Debian Buster       | PASS               | SKIPPED              |
+---------------------+--------------------+----------------------+
| RHEL8               | PASS               | SKIPPED              |
+---------------------+--------------------+----------------------+
| Alpine              | PASS               | SKIPPED              |
+---------------------+--------------------+----------------------+


FreeBSD 13
	Kernel: 13.0
	Compiler: clang 11.0.1

Debian Bullseye
	Kernel: 5.4.0-122-generic
	Compiler: gcc 10.2.1-6

CentOS Stream 9
	Kernel: 4.18.0-240.10.1.el8_3.x86_64
	Compiler: gcc 11.3.1 20220421

Fedora 37
	Kernel: Depends on container host system
	Compiler: gcc 12.3.1

CentOS Stream 8
	Kernel: 4.18.0-240.10.1.el8_3.x86_64
	Compiler: gcc 8.4.1 20200928

Windows Server 2019
	Kernel: 10.0
	Compiler: clang 14.0 and gcc 8.1.0 (MinGW)

Fedora 38
	Kernel: Depends on container host
	Compiler: gcc 13.1.1

openSUSE Leap 15
	Kernel: 4.18.0-240.10.1.el8_3.x86_64
	Compiler: gcc 7.5.0

Ubuntu 22.04
	Kernel: 4.18.0-240.10.1.el8_3.x86_64
	Compiler: gcc 11.3.0

Ubuntu 20.04
	Kernel: 5.4.0-153-generic
	Compiler: gcc 9.4.0-1ubuntu1~20.04.1

Debian Buster
	Kernel: 5.4.0-122-generic
	Compiler: gcc 8.3.0-6

RHEL8
	Kernel: 4.18.0-240.10.1.el8_3.x86_64
	Compiler: gcc 8.3.1 20191121 (Red Hat 8.3.1-5)

Alpine
	Kernel: 5.4.0-73-generic
	Compiler: gcc (Alpine 10.3.1_git20210424) 10.3.1 20210424

To view detailed results, visit:
https://lab.dpdk.org/results/dashboard/patchsets/28240/

UNH-IOL DPDK Community Lab

To manage your email subscriptions, visit: 
https://lab.dpdk.org/results/dashboard/preferences/subscriptions/