From mboxrd@z Thu Jan 1 00:00:00 1970 Return-Path: Received: from mails.dpdk.org (mails.dpdk.org [217.70.189.124]) by inbox.dpdk.org (Postfix) with ESMTP id E37BE43289 for ; Sat, 4 Nov 2023 11:08:40 +0100 (CET) Received: from mails.dpdk.org (localhost [127.0.0.1]) by mails.dpdk.org (Postfix) with ESMTP id DF65B4028B; Sat, 4 Nov 2023 11:08:40 +0100 (CET) Received: from mail-qt1-f226.google.com (mail-qt1-f226.google.com [209.85.160.226]) by mails.dpdk.org (Postfix) with ESMTP id 0B2B34028B for ; Sat, 4 Nov 2023 11:08:40 +0100 (CET) Received: by mail-qt1-f226.google.com with SMTP id d75a77b69052e-41cd4446cf5so16786881cf.3 for ; Sat, 04 Nov 2023 03:08:39 -0700 (PDT) DKIM-Signature: v=1; a=rsa-sha256; c=relaxed/relaxed; d=iol.unh.edu; s=unh-iol; t=1699092519; x=1699697319; darn=dpdk.org; h=cc:to:from:subject:message-id:date:from:to:cc:subject:date :message-id:reply-to; bh=dfbdLpMayE5tZVzojO7VpGjBo0d+43Y5HKi2FYi4ZIQ=; b=eOneKYxZmw+JVimnuUoKaicrr2zSYXroMVSiu9qny2rusQlM7UVJjvpMTIwroqfo+j RmjjYiyzW8NUxpuXmayK9U/MdfTUhf35aEUCnkByJVkKXfP+XK63ZcZwPbeLFAIg/54u lZGQUEKeTgP4YFmxHdvKjgRaQJdkELOEWQmzM= X-Google-DKIM-Signature: v=1; a=rsa-sha256; c=relaxed/relaxed; d=1e100.net; s=20230601; t=1699092519; x=1699697319; h=cc:to:from:subject:message-id:date:x-gm-message-state:from:to:cc :subject:date:message-id:reply-to; bh=dfbdLpMayE5tZVzojO7VpGjBo0d+43Y5HKi2FYi4ZIQ=; b=J5yCARPyQDNuCEYbtWdYePo89n4YXMOIJPhNLBT6wUjiACQZJkcQzR5PZi9zBano8r IY6XSAVaptOHGeY0maRVwT5YsqPzJKPf0yFk+IWavJ4JUkVNrl6UcWObeTZaXaBtqfCR JFC4PNaXdKj2ZD4tBIPbTx1vdzysSiQxYz+9hpQ7bnbb1w0FdTG102exTwVQVjzA4uaa BKk7Pf7PCkE4FWE2oZVPGIdqGfb7JBPcd+XpCY/Ju4mRQ0uqlNp7s6uOeVtovIjBnhk5 SQOTFerxQyuf6vmnfGN8+9r4yiG9AixBBtNpx+/JiC+uyitZYHFH3DWdOxCGzqtL6DOp RHXw== X-Gm-Message-State: AOJu0Yy4HDpCZ5Jb3CGK+MelFcqpglpYzF88LLMiTjUeckNtoOQAYrXO xyz029cvbcmeozUFugtFBpglnqAXKw/3vBqTvhK2VyIaruIyPn0dFrLfUSNbhjHqACJqlW+8tg= = X-Google-Smtp-Source: AGHT+IFtCcA+zQXxPPNJ/erBsbu0OG05MUhE2BXELp4DoD98EkBTB00paRn/2QEzgJQTVvoUsWtf+Sr7nJuS X-Received: by 2002:a05:622a:24b:b0:418:1365:9b4e with SMTP id c11-20020a05622a024b00b0041813659b4emr28764566qtx.20.1699092519487; Sat, 04 Nov 2023 03:08:39 -0700 (PDT) Received: from postal.iol.unh.edu (postal.iol.unh.edu. [2606:4100:3880:1234::84]) by smtp-relay.gmail.com with ESMTPS id e10-20020ac8670a000000b0041b8394cefcsm182280qtp.28.2023.11.04.03.08.39 (version=TLS1_2 cipher=ECDHE-ECDSA-AES128-GCM-SHA256 bits=128/128); Sat, 04 Nov 2023 03:08:39 -0700 (PDT) X-Relaying-Domain: iol.unh.edu Date: Sat, 04 Nov 2023 03:08:39 -0700 (PDT) Message-ID: <65461827.c80a0220.8c211.3e52SMTPIN_ADDED_MISSING@mx.google.com> Received: from [172.21.0.3] (unknown [172.18.0.240]) by postal.iol.unh.edu (Postfix) with ESMTP id 36FE96051827; Sat, 4 Nov 2023 06:08:39 -0400 (EDT) Subject: |SUCCESS| pw133868 [PATCH] net/mlx5: fix the unlock mismatch issue From: dpdklab@iol.unh.edu To: Test Report Cc: dpdk-test-reports@iol.unh.edu Content-Type: text/plain X-BeenThere: test-report@dpdk.org X-Mailman-Version: 2.1.29 Precedence: list List-Id: automatic DPDK test reports List-Unsubscribe: , List-Archive: List-Post: List-Help: List-Subscribe: , Errors-To: test-report-bounces@dpdk.org Test-Label: iol-compile-arm64-testing Test-Status: SUCCESS http://dpdk.org/patch/133868 _Testing PASS_ Submitter: Weiguo Li Date: Saturday, November 04 2023 04:07:33 DPDK git baseline: Repo:dpdk Branch: master CommitID:34c0c38ab772e8eea5243f530866d5b68519e7c7 133868 --> testing pass Test environment and result as below: +----------------------------------------+--------------------+ | Environment | dpdk_meson_compile | +========================================+====================+ | Ubuntu 20.04 ARM SVE | PASS | +----------------------------------------+--------------------+ | Ubuntu 20.04 aarch32 GCC Cross Compile | PASS | +----------------------------------------+--------------------+ | Ubuntu 20.04 ARM Clang Cross Compile | PASS | +----------------------------------------+--------------------+ | Ubuntu 20.04 (ARM) | PASS | +----------------------------------------+--------------------+ | CentOS Stream 9 (ARM) | PASS | +----------------------------------------+--------------------+ | Fedora 37 (ARM) | PASS | +----------------------------------------+--------------------+ | Fedora 38 (ARM) | PASS | +----------------------------------------+--------------------+ | Debian 11 (Buster) (ARM) | PASS | +----------------------------------------+--------------------+ Ubuntu 20.04 ARM SVE Kernel: 5.4.0-80-generic Compiler: gcc 10.3.0 (Ubuntu 10.3.0-1ubuntu1~20.04) Ubuntu 20.04 aarch32 GCC Cross Compile Kernel: 5.4.0-72-generic Compiler: gcc 9.3.0 Ubuntu 20.04 ARM Clang Cross Compile Kernel: 5.4.0-72-generic Compiler: clang version 10.0.0-4ubuntu1 Ubuntu 20.04 (ARM) Kernel: Container Host Kernel Compiler: gcc 9.4.0 CentOS Stream 9 (ARM) Kernel: Container Host Kernel Compiler: gcc 11.3.1 Fedora 37 (ARM) Kernel: Depends on container host Compiler: gcc 12.3.1 Fedora 38 (ARM) Kernel: Depends on container host Compiler: gcc 13.1.1 Debian 11 (Buster) (ARM) Kernel: Container Host Kernel Compiler: gcc 10.2.1 To view detailed results, visit: https://lab.dpdk.org/results/dashboard/patchsets/28240/ UNH-IOL DPDK Community Lab To manage your email subscriptions, visit: https://lab.dpdk.org/results/dashboard/preferences/subscriptions/