From mboxrd@z Thu Jan  1 00:00:00 1970
Return-Path: <test-report-bounces@dpdk.org>
Received: from mails.dpdk.org (mails.dpdk.org [217.70.189.124])
	by inbox.dpdk.org (Postfix) with ESMTP id 18B76432D7
	for <public@inbox.dpdk.org>; Wed,  8 Nov 2023 14:36:26 +0100 (CET)
Received: from mails.dpdk.org (localhost [127.0.0.1])
	by mails.dpdk.org (Postfix) with ESMTP id 1353440A73;
	Wed,  8 Nov 2023 14:36:26 +0100 (CET)
Received: from mail-yw1-f225.google.com (mail-yw1-f225.google.com
 [209.85.128.225])
 by mails.dpdk.org (Postfix) with ESMTP id D595C40A73
 for <test-report@dpdk.org>; Wed,  8 Nov 2023 14:36:22 +0100 (CET)
Received: by mail-yw1-f225.google.com with SMTP id
 00721157ae682-5be6d6c04bfso8346137b3.3
 for <test-report@dpdk.org>; Wed, 08 Nov 2023 05:36:22 -0800 (PST)
DKIM-Signature: v=1; a=rsa-sha256; c=relaxed/relaxed;
 d=iol.unh.edu; s=unh-iol; t=1699450582; x=1700055382; darn=dpdk.org;
 h=cc:to:from:subject:message-id:date:from:to:cc:subject:date
 :message-id:reply-to;
 bh=B/tI1KCxf8kNXCLdlH88VI5YNAvPCeJQWf2xl+hpQ4E=;
 b=WJox2w38Drgp64+Xs3/vnEsCrqlGNAT17cd1FkxntdvYXEyqz8Tol8BXlnHDaxjjtq
 np2CC7TsYb3rbxm0ZFF2UP5fccPpZoRrrr9rPm81Xdzn1nak2/yUsis13wP58fDk+nP1
 55i1lUyZ7YMMVSQCZZ3ntOwJWEa6B1SAASeUs=
X-Google-DKIM-Signature: v=1; a=rsa-sha256; c=relaxed/relaxed;
 d=1e100.net; s=20230601; t=1699450582; x=1700055382;
 h=cc:to:from:subject:message-id:date:x-gm-message-state:from:to:cc
 :subject:date:message-id:reply-to;
 bh=B/tI1KCxf8kNXCLdlH88VI5YNAvPCeJQWf2xl+hpQ4E=;
 b=PirMVIqjqubtn/u+pDFXvcPBBmbuaMQF+SKcBsTnJ/uAA+qBm1nUtMt12tqVik9CBM
 8uhwcoZIe12P7WVLcI9FHwaaHDblWADDZqotWxFBHeaHuebYgUFAUUnQWvDA45G6Htrg
 XTLyvhrk/E322Nq2oLHegeCBRuH7u+ZdKddsntyWFO8NcCMbu3JenFnRiUqMVwgs6g+9
 +T1x37vuDMV3+7hhmTr8HBItRmvqZX2mRybBDqTPDXDlq8yZtfA1zUcsgLLF0GLHYtO8
 cHIOBkr5vgneQb4v8ghYnANnFpjyhjp5Pj0FY4MluuGLq+UoCHpER6FHHVY55kstr/5z
 qwyg==
X-Gm-Message-State: AOJu0Yxpmu6SScLiGNgJJmy9k5kL+edyEQlgztfjMLKfH/O/630Cnza+
 GLQYOhXyAsywsgPPayv5L63EXdQFxRGiVM8a8iSAR9PlUl5ovu4hHwIOwA==
X-Google-Smtp-Source: AGHT+IH6eQCnxBd8xMMT9qUqhTDuBHN4UHrTWA3PpthOcXyyHdsh1oS80KxdnXG5kletJzDHiINrG6uOikNe
X-Received: by 2002:a0d:ddd2:0:b0:5a8:2744:1565 with SMTP id
 g201-20020a0dddd2000000b005a827441565mr1764658ywe.4.1699450582249; 
 Wed, 08 Nov 2023 05:36:22 -0800 (PST)
Received: from postal.iol.unh.edu (postal.iol.unh.edu. [132.177.123.84])
 by smtp-relay.gmail.com with ESMTPS id
 r187-20020a0de8c4000000b0059bda3627b3sm977183ywe.4.2023.11.08.05.36.22
 (version=TLS1_2 cipher=ECDHE-ECDSA-AES128-GCM-SHA256 bits=128/128);
 Wed, 08 Nov 2023 05:36:22 -0800 (PST)
X-Relaying-Domain: iol.unh.edu
Date: Wed, 08 Nov 2023 05:36:22 -0800 (PST)
Message-ID: <654b8ed6.0d0a0220.a9323.4ffbSMTPIN_ADDED_MISSING@mx.google.com>
Received: from [172.21.0.6] (unknown [172.18.0.240])
 by postal.iol.unh.edu (Postfix) with ESMTP id E224E605C318;
 Wed,  8 Nov 2023 08:36:21 -0500 (EST)
Subject: |SUCCESS| pw133973-133994 [PATCH] [v6,23/23] dts: add doc generation
From: dpdklab@iol.unh.edu
To: Test Report <test-report@dpdk.org>
Cc: dpdk-test-reports@iol.unh.edu
Content-Type: text/plain
X-BeenThere: test-report@dpdk.org
X-Mailman-Version: 2.1.29
Precedence: list
List-Id: automatic DPDK test reports <test-report.dpdk.org>
List-Unsubscribe: <https://mails.dpdk.org/options/test-report>,
 <mailto:test-report-request@dpdk.org?subject=unsubscribe>
List-Archive: <http://mails.dpdk.org/archives/test-report/>
List-Post: <mailto:test-report@dpdk.org>
List-Help: <mailto:test-report-request@dpdk.org?subject=help>
List-Subscribe: <https://mails.dpdk.org/listinfo/test-report>,
 <mailto:test-report-request@dpdk.org?subject=subscribe>
Errors-To: test-report-bounces@dpdk.org

Test-Label: iol-compile-amd64-testing
Test-Status: SUCCESS
http://dpdk.org/patch/133994

_Testing PASS_

Submitter: Juraj Linkes <juraj.linkes@pantheon.tech>
Date: Wednesday, November 08 2023 12:53:24 
DPDK git baseline: Repo:dpdk
  Branch: master
  CommitID:2bbad8f974e00552d106c27e1d157a31179ab5ec

133973-133994 --> testing pass

Test environment and result as below:

+---------------------+--------------------+----------------------+
|     Environment     | dpdk_meson_compile | dpdk_mingw64_compile |
+=====================+====================+======================+
| Debian Bullseye     | PASS               | SKIPPED              |
+---------------------+--------------------+----------------------+
| Debian Buster       | PASS               | SKIPPED              |
+---------------------+--------------------+----------------------+
| FreeBSD 13          | PASS               | SKIPPED              |
+---------------------+--------------------+----------------------+
| Windows Server 2019 | PASS               | PASS                 |
+---------------------+--------------------+----------------------+
| Fedora 37           | PASS               | SKIPPED              |
+---------------------+--------------------+----------------------+
| Fedora 38           | PASS               | SKIPPED              |
+---------------------+--------------------+----------------------+
| Ubuntu 20.04        | PASS               | SKIPPED              |
+---------------------+--------------------+----------------------+
| RHEL8               | PASS               | SKIPPED              |
+---------------------+--------------------+----------------------+
| openSUSE Leap 15    | PASS               | SKIPPED              |
+---------------------+--------------------+----------------------+
| Ubuntu 22.04        | PASS               | SKIPPED              |
+---------------------+--------------------+----------------------+
| CentOS Stream 9     | PASS               | SKIPPED              |
+---------------------+--------------------+----------------------+
| CentOS Stream 8     | PASS               | SKIPPED              |
+---------------------+--------------------+----------------------+
| Alpine              | PASS               | SKIPPED              |
+---------------------+--------------------+----------------------+


Debian Bullseye
	Kernel: 5.4.0-122-generic
	Compiler: gcc 10.2.1-6

Debian Buster
	Kernel: 5.4.0-122-generic
	Compiler: gcc 8.3.0-6

FreeBSD 13
	Kernel: 13.0
	Compiler: clang 11.0.1

Windows Server 2019
	Kernel: 10.0
	Compiler: clang 14.0 and gcc 8.1.0 (MinGW)

Fedora 37
	Kernel: Depends on container host system
	Compiler: gcc 12.3.1

Fedora 38
	Kernel: Depends on container host
	Compiler: gcc 13.1.1

Ubuntu 20.04
	Kernel: 5.4.0-153-generic
	Compiler: gcc 9.4.0-1ubuntu1~20.04.1

RHEL8
	Kernel: 4.18.0-240.10.1.el8_3.x86_64
	Compiler: gcc 8.3.1 20191121 (Red Hat 8.3.1-5)

openSUSE Leap 15
	Kernel: 4.18.0-240.10.1.el8_3.x86_64
	Compiler: gcc 7.5.0

Ubuntu 22.04
	Kernel: 4.18.0-240.10.1.el8_3.x86_64
	Compiler: gcc 11.3.0

CentOS Stream 9
	Kernel: 4.18.0-240.10.1.el8_3.x86_64
	Compiler: gcc 11.3.1 20220421

CentOS Stream 8
	Kernel: 4.18.0-240.10.1.el8_3.x86_64
	Compiler: gcc 8.4.1 20200928

Alpine
	Kernel: 5.4.0-73-generic
	Compiler: gcc (Alpine 10.3.1_git20210424) 10.3.1 20210424

To view detailed results, visit:
https://lab.dpdk.org/results/dashboard/patchsets/28285/

UNH-IOL DPDK Community Lab

To manage your email subscriptions, visit: 
https://lab.dpdk.org/results/dashboard/preferences/subscriptions/