From mboxrd@z Thu Jan  1 00:00:00 1970
Return-Path: <test-report-bounces@dpdk.org>
Received: from mails.dpdk.org (mails.dpdk.org [217.70.189.124])
	by inbox.dpdk.org (Postfix) with ESMTP id 36197432D7
	for <public@inbox.dpdk.org>; Wed,  8 Nov 2023 14:36:34 +0100 (CET)
Received: from mails.dpdk.org (localhost [127.0.0.1])
	by mails.dpdk.org (Postfix) with ESMTP id 30FFE42E1D;
	Wed,  8 Nov 2023 14:36:34 +0100 (CET)
Received: from mail-pl1-f226.google.com (mail-pl1-f226.google.com
 [209.85.214.226])
 by mails.dpdk.org (Postfix) with ESMTP id D972540A73
 for <test-report@dpdk.org>; Wed,  8 Nov 2023 14:36:29 +0100 (CET)
Received: by mail-pl1-f226.google.com with SMTP id
 d9443c01a7336-1cc29f39e7aso47409565ad.0
 for <test-report@dpdk.org>; Wed, 08 Nov 2023 05:36:29 -0800 (PST)
DKIM-Signature: v=1; a=rsa-sha256; c=relaxed/relaxed;
 d=iol.unh.edu; s=unh-iol; t=1699450589; x=1700055389; darn=dpdk.org;
 h=cc:to:from:subject:message-id:date:from:to:cc:subject:date
 :message-id:reply-to;
 bh=B/tI1KCxf8kNXCLdlH88VI5YNAvPCeJQWf2xl+hpQ4E=;
 b=Y706QvqZK6cTx5gCo1YOAYsQcUs3NJSJ+lDCcwmherR/HZ/WPuMdoRDNuzp9BHFnVx
 Ar6f7UiE84vPznAy9QI4zYX+jTf/IdvO7Emg/VMUMQn/cL9/B7ngq/fmMYvOfPTlkZ9U
 5eEA6YlGjGWzciCxpIuDx3ndhAcg9Ji6AGm00=
X-Google-DKIM-Signature: v=1; a=rsa-sha256; c=relaxed/relaxed;
 d=1e100.net; s=20230601; t=1699450589; x=1700055389;
 h=cc:to:from:subject:message-id:date:x-gm-message-state:from:to:cc
 :subject:date:message-id:reply-to;
 bh=B/tI1KCxf8kNXCLdlH88VI5YNAvPCeJQWf2xl+hpQ4E=;
 b=YU+sby1TWfFI0VRYulBFI+K2xWlda3/h8vcoizxPd4u2Ao08Ug9O4D74A7KkzcMI0r
 sMZTwzXMhHLYhUeVSx9xX3cVoUnPuMAqNIYj29h4BNDMwXqIs6le5jiUF+M4TDIB6a2k
 yT7b7ciMF0KTjo6tK7vYIU6vRoqKMht8UHLQ2N28rPjNt2SHdcDnBUM2iDPquGMLN3CB
 avdQhODElXDNywLtW+vbh4gVuwr3KctUzXGtXfOZQ3zaMkbk/YZ3yFdIJxk4uVVI30/n
 AKz7ZeuWlY7t089/QrbQ7yZcDKyzp2n0GbGnoPHRt1TxTss5FRfQv9wc8cqJ4VKBwyF4
 2Qkg==
X-Gm-Message-State: AOJu0YzsLwMIJmzQtsABhPCIGm5IyV4MT89WQIIMHgUHSFgsY4CMOLOv
 ClS4Ya6snI1+9SAYv5ZMpYhqZt59GqT7Bp3T9zcDSmmac+7ddSY3sKI2j3+HqHVpFA7f6x2cCg=
 =
X-Google-Smtp-Source: AGHT+IHX4VpEky58gNiTo6VbEWeFUCnwUH6irtJWNuajIVhC7lLvhLYRtccVOvO+pH92zp8N++p7yVYmsJ5v
X-Received: by 2002:a17:902:7594:b0:1cc:9215:497f with SMTP id
 j20-20020a170902759400b001cc9215497fmr1430236pll.69.1699450589166; 
 Wed, 08 Nov 2023 05:36:29 -0800 (PST)
Received: from postal.iol.unh.edu (postal.iol.unh.edu.
 [2606:4100:3880:1234::84]) by smtp-relay.gmail.com with ESMTPS id
 g10-20020a170902934a00b001c885414de7sm140343plp.27.2023.11.08.05.36.29
 (version=TLS1_2 cipher=ECDHE-ECDSA-AES128-GCM-SHA256 bits=128/128);
 Wed, 08 Nov 2023 05:36:29 -0800 (PST)
X-Relaying-Domain: iol.unh.edu
Date: Wed, 08 Nov 2023 05:36:29 -0800 (PST)
Message-ID: <654b8edd.170a0220.8f3d7.41c3SMTPIN_ADDED_MISSING@mx.google.com>
Received: from [172.21.0.7] (unknown [172.18.0.240])
 by postal.iol.unh.edu (Postfix) with ESMTP id 5FF27605C318;
 Wed,  8 Nov 2023 08:36:28 -0500 (EST)
Subject: |SUCCESS| pw133973-133994 [PATCH] [v6,23/23] dts: add doc generation
From: dpdklab@iol.unh.edu
To: Test Report <test-report@dpdk.org>
Cc: dpdk-test-reports@iol.unh.edu
Content-Type: text/plain
X-BeenThere: test-report@dpdk.org
X-Mailman-Version: 2.1.29
Precedence: list
List-Id: automatic DPDK test reports <test-report.dpdk.org>
List-Unsubscribe: <https://mails.dpdk.org/options/test-report>,
 <mailto:test-report-request@dpdk.org?subject=unsubscribe>
List-Archive: <http://mails.dpdk.org/archives/test-report/>
List-Post: <mailto:test-report@dpdk.org>
List-Help: <mailto:test-report-request@dpdk.org?subject=help>
List-Subscribe: <https://mails.dpdk.org/listinfo/test-report>,
 <mailto:test-report-request@dpdk.org?subject=subscribe>
Errors-To: test-report-bounces@dpdk.org

Test-Label: iol-compile-amd64-testing
Test-Status: SUCCESS
http://dpdk.org/patch/133994

_Testing PASS_

Submitter: Juraj Linkes <juraj.linkes@pantheon.tech>
Date: Wednesday, November 08 2023 12:53:24 
DPDK git baseline: Repo:dpdk
  Branch: master
  CommitID:2bbad8f974e00552d106c27e1d157a31179ab5ec

133973-133994 --> testing pass

Test environment and result as below:

+---------------------+--------------------+----------------------+
|     Environment     | dpdk_meson_compile | dpdk_mingw64_compile |
+=====================+====================+======================+
| Debian Bullseye     | PASS               | SKIPPED              |
+---------------------+--------------------+----------------------+
| Debian Buster       | PASS               | SKIPPED              |
+---------------------+--------------------+----------------------+
| FreeBSD 13          | PASS               | SKIPPED              |
+---------------------+--------------------+----------------------+
| Windows Server 2019 | PASS               | PASS                 |
+---------------------+--------------------+----------------------+
| Fedora 37           | PASS               | SKIPPED              |
+---------------------+--------------------+----------------------+
| Fedora 38           | PASS               | SKIPPED              |
+---------------------+--------------------+----------------------+
| Ubuntu 20.04        | PASS               | SKIPPED              |
+---------------------+--------------------+----------------------+
| RHEL8               | PASS               | SKIPPED              |
+---------------------+--------------------+----------------------+
| openSUSE Leap 15    | PASS               | SKIPPED              |
+---------------------+--------------------+----------------------+
| Ubuntu 22.04        | PASS               | SKIPPED              |
+---------------------+--------------------+----------------------+
| CentOS Stream 9     | PASS               | SKIPPED              |
+---------------------+--------------------+----------------------+
| CentOS Stream 8     | PASS               | SKIPPED              |
+---------------------+--------------------+----------------------+
| Alpine              | PASS               | SKIPPED              |
+---------------------+--------------------+----------------------+


Debian Bullseye
	Kernel: 5.4.0-122-generic
	Compiler: gcc 10.2.1-6

Debian Buster
	Kernel: 5.4.0-122-generic
	Compiler: gcc 8.3.0-6

FreeBSD 13
	Kernel: 13.0
	Compiler: clang 11.0.1

Windows Server 2019
	Kernel: 10.0
	Compiler: clang 14.0 and gcc 8.1.0 (MinGW)

Fedora 37
	Kernel: Depends on container host system
	Compiler: gcc 12.3.1

Fedora 38
	Kernel: Depends on container host
	Compiler: gcc 13.1.1

Ubuntu 20.04
	Kernel: 5.4.0-153-generic
	Compiler: gcc 9.4.0-1ubuntu1~20.04.1

RHEL8
	Kernel: 4.18.0-240.10.1.el8_3.x86_64
	Compiler: gcc 8.3.1 20191121 (Red Hat 8.3.1-5)

openSUSE Leap 15
	Kernel: 4.18.0-240.10.1.el8_3.x86_64
	Compiler: gcc 7.5.0

Ubuntu 22.04
	Kernel: 4.18.0-240.10.1.el8_3.x86_64
	Compiler: gcc 11.3.0

CentOS Stream 9
	Kernel: 4.18.0-240.10.1.el8_3.x86_64
	Compiler: gcc 11.3.1 20220421

CentOS Stream 8
	Kernel: 4.18.0-240.10.1.el8_3.x86_64
	Compiler: gcc 8.4.1 20200928

Alpine
	Kernel: 5.4.0-73-generic
	Compiler: gcc (Alpine 10.3.1_git20210424) 10.3.1 20210424

To view detailed results, visit:
https://lab.dpdk.org/results/dashboard/patchsets/28285/

UNH-IOL DPDK Community Lab

To manage your email subscriptions, visit: 
https://lab.dpdk.org/results/dashboard/preferences/subscriptions/