From mboxrd@z Thu Jan  1 00:00:00 1970
Return-Path: <test-report-bounces@dpdk.org>
Received: from mails.dpdk.org (mails.dpdk.org [217.70.189.124])
	by inbox.dpdk.org (Postfix) with ESMTP id A8E93432D7
	for <public@inbox.dpdk.org>; Wed,  8 Nov 2023 14:37:44 +0100 (CET)
Received: from mails.dpdk.org (localhost [127.0.0.1])
	by mails.dpdk.org (Postfix) with ESMTP id A41E940A73;
	Wed,  8 Nov 2023 14:37:44 +0100 (CET)
Received: from mail-oa1-f99.google.com (mail-oa1-f99.google.com
 [209.85.160.99]) by mails.dpdk.org (Postfix) with ESMTP id 3EF5440A73
 for <test-report@dpdk.org>; Wed,  8 Nov 2023 14:37:43 +0100 (CET)
Received: by mail-oa1-f99.google.com with SMTP id
 586e51a60fabf-1e9a757e04eso412105fac.0
 for <test-report@dpdk.org>; Wed, 08 Nov 2023 05:37:43 -0800 (PST)
DKIM-Signature: v=1; a=rsa-sha256; c=relaxed/relaxed;
 d=iol.unh.edu; s=unh-iol; t=1699450662; x=1700055462; darn=dpdk.org;
 h=cc:to:from:subject:message-id:date:from:to:cc:subject:date
 :message-id:reply-to;
 bh=CDo/IkqcyqivAWmAttc9tpXsALT34vRoy8hCodZPero=;
 b=RNkys/ISZCUeILg9J9OjF5kPTr/rfg8TJpU8g77rOyPMZdNtUQJpTRurJQYEXzwjX7
 XscQjOoApCXVpzJIj6E7EetSXlSLpvp/bi4yqjXBPnw7Ct7iObQbKLl5MEmfp41tiCHS
 GqJeKrWDA6UwVzWBS5d4MWOa7gHoQlsKaSlu8=
X-Google-DKIM-Signature: v=1; a=rsa-sha256; c=relaxed/relaxed;
 d=1e100.net; s=20230601; t=1699450662; x=1700055462;
 h=cc:to:from:subject:message-id:date:x-gm-message-state:from:to:cc
 :subject:date:message-id:reply-to;
 bh=CDo/IkqcyqivAWmAttc9tpXsALT34vRoy8hCodZPero=;
 b=o3EYylteSoCThKMlIcOczbJeUIvVwR5ZbPSYXbXUEyBwHwdNgIcRqgwAuThrMg+Ale
 dUtPC3x7KI7bu6zm3Fpe149aj8nCvkGqzPlmoR2Lm5t+THzd2VQd364lr3RWvzbSc2ZD
 v3ZeGouDn51jeqEtHOm9tpDtJZ8zZwqICwsyqtP827Wer1mz6I/gs2WoOU5H8IcayP2s
 yxdfB1WLbGogjHOrJpbRsQlFsGFZTLtHngiAjSJfu3efowy+BcFJaYgH6bofrjLHJvQ0
 OzX4mRG83aEZ0yi2PCpOZdd4+zeTtzOmH7Wu7Ew75EJZlyxFyUV65RoJKlkE8ZYkOyV+
 iebA==
X-Gm-Message-State: AOJu0YyLn2qJDfYKo/ZiMlP5+yATfd2WieNocl4GxvIuO+4iuru98PPj
 U/40pCDxzV8ovPE03wMRrOBNTDv64b3FM5J++Y4pT2Rqlet/x25spN47y7zze3vgXj5xWKtcag=
 =
X-Google-Smtp-Source: AGHT+IGDYez2H0OVKobgTG18tsU/WjXvqAZwuit1kuXPfOkSobT3A/ogifYTzvH4GIwYquiPeaR6FENeN/UT
X-Received: by 2002:a05:6870:7a3:b0:1e9:97f2:501e with SMTP id
 en35-20020a05687007a300b001e997f2501emr3281405oab.20.1699450662681; 
 Wed, 08 Nov 2023 05:37:42 -0800 (PST)
Received: from postal.iol.unh.edu (postal.iol.unh.edu.
 [2606:4100:3880:1234::84]) by smtp-relay.gmail.com with ESMTPS id
 x19-20020a056870331300b001dd63f65861sm613862oae.25.2023.11.08.05.37.42
 (version=TLS1_2 cipher=ECDHE-ECDSA-AES128-GCM-SHA256 bits=128/128);
 Wed, 08 Nov 2023 05:37:42 -0800 (PST)
X-Relaying-Domain: iol.unh.edu
Date: Wed, 08 Nov 2023 05:37:42 -0800 (PST)
Message-ID: <654b8f26.050a0220.7072.cde6SMTPIN_ADDED_MISSING@mx.google.com>
Received: from [172.21.0.2] (unknown [172.18.0.240])
 by postal.iol.unh.edu (Postfix) with ESMTP id 2D4DD605C318;
 Wed,  8 Nov 2023 08:37:42 -0500 (EST)
Subject: |SUCCESS| pw133973-133994 [PATCH] [v6,23/23] dts: add doc generation
From: dpdklab@iol.unh.edu
To: Test Report <test-report@dpdk.org>
Cc: dpdk-test-reports@iol.unh.edu
Content-Type: text/plain
X-BeenThere: test-report@dpdk.org
X-Mailman-Version: 2.1.29
Precedence: list
List-Id: automatic DPDK test reports <test-report.dpdk.org>
List-Unsubscribe: <https://mails.dpdk.org/options/test-report>,
 <mailto:test-report-request@dpdk.org?subject=unsubscribe>
List-Archive: <http://mails.dpdk.org/archives/test-report/>
List-Post: <mailto:test-report@dpdk.org>
List-Help: <mailto:test-report-request@dpdk.org?subject=help>
List-Subscribe: <https://mails.dpdk.org/listinfo/test-report>,
 <mailto:test-report-request@dpdk.org?subject=subscribe>
Errors-To: test-report-bounces@dpdk.org

Test-Label: iol-unit-amd64-testing
Test-Status: SUCCESS
http://dpdk.org/patch/133994

_Testing PASS_

Submitter: Juraj Linkes <juraj.linkes@pantheon.tech>
Date: Wednesday, November 08 2023 12:53:24 
DPDK git baseline: Repo:dpdk
  Branch: master
  CommitID:2bbad8f974e00552d106c27e1d157a31179ab5ec

133973-133994 --> testing pass

Test environment and result as below:

+-----------------+----------------+
|   Environment   | dpdk_unit_test |
+=================+================+
| CentOS Stream 8 | PASS           |
+-----------------+----------------+
| CentOS Stream 9 | PASS           |
+-----------------+----------------+
| Debian Buster   | PASS           |
+-----------------+----------------+
| Debian Bullseye | PASS           |
+-----------------+----------------+
| Fedora 37       | PASS           |
+-----------------+----------------+


CentOS Stream 8
	Kernel: 4.18.0-240.10.1.el8_3.x86_64
	Compiler: gcc 8.4.1 20200928

CentOS Stream 9
	Kernel: 4.18.0-240.10.1.el8_3.x86_64
	Compiler: gcc 11.3.1 20220421

Debian Buster
	Kernel: 5.4.0-122-generic
	Compiler: gcc 8.3.0-6

Debian Bullseye
	Kernel: 5.4.0-122-generic
	Compiler: gcc 10.2.1-6

Fedora 37
	Kernel: Depends on container host system
	Compiler: gcc 12.3.1

To view detailed results, visit:
https://lab.dpdk.org/results/dashboard/patchsets/28285/

UNH-IOL DPDK Community Lab

To manage your email subscriptions, visit: 
https://lab.dpdk.org/results/dashboard/preferences/subscriptions/