From mboxrd@z Thu Jan  1 00:00:00 1970
Return-Path: <test-report-bounces@dpdk.org>
Received: from mails.dpdk.org (mails.dpdk.org [217.70.189.124])
	by inbox.dpdk.org (Postfix) with ESMTP id 2CF99432D8
	for <public@inbox.dpdk.org>; Wed,  8 Nov 2023 17:23:12 +0100 (CET)
Received: from mails.dpdk.org (localhost [127.0.0.1])
	by mails.dpdk.org (Postfix) with ESMTP id 0D95F402A7;
	Wed,  8 Nov 2023 17:23:12 +0100 (CET)
Received: from mail-oa1-f99.google.com (mail-oa1-f99.google.com
 [209.85.160.99]) by mails.dpdk.org (Postfix) with ESMTP id 80E85402A7
 for <test-report@dpdk.org>; Wed,  8 Nov 2023 17:23:10 +0100 (CET)
Received: by mail-oa1-f99.google.com with SMTP id
 586e51a60fabf-1f066fc2a2aso2611974fac.0
 for <test-report@dpdk.org>; Wed, 08 Nov 2023 08:23:10 -0800 (PST)
DKIM-Signature: v=1; a=rsa-sha256; c=relaxed/relaxed;
 d=iol.unh.edu; s=unh-iol; t=1699460589; x=1700065389; darn=dpdk.org;
 h=cc:to:from:subject:message-id:date:from:to:cc:subject:date
 :message-id:reply-to;
 bh=oFc+tV7gk6vlrG+J/Sjm261O7jo2JtzyZZZNBL/i1aA=;
 b=Qq6lTWC3DgCWVK9Csn4ns9Yeqfu7HRsmqpI4DSbMeFS9jK5jb53MiCMMHWmRqUFiAU
 o9tOtfln4JLFLh+/1QfDBYWkf4hwnkSPAPS72AFLEl5xS/K01QwdfF57TT2z5eAyCDD0
 F+VJh7d6BvH2zs7rgjGBm92Ke/YmUaWCf0ldg=
X-Google-DKIM-Signature: v=1; a=rsa-sha256; c=relaxed/relaxed;
 d=1e100.net; s=20230601; t=1699460589; x=1700065389;
 h=cc:to:from:subject:message-id:date:x-gm-message-state:from:to:cc
 :subject:date:message-id:reply-to;
 bh=oFc+tV7gk6vlrG+J/Sjm261O7jo2JtzyZZZNBL/i1aA=;
 b=wxMDnKBA334JpKy+QH2s4YQI0IH3t6P7qbl617BLqru3Y6pGJ1TrI7warMRmQ15+By
 taoowynnn9KWDsiqldsnuZ/Cy1riQRPfqV3Z5bVuKpvH6UpmN7bUm+2vQam9QXsB3Hbf
 Qy8WpWyro5wbWD9ko9/7nR5Tk4m+K20vxIsoXH9EArF8+Tfg1qomM51zwkD+m60fDIEy
 b9yJCIndeDw5jmo2AjKsx6OBm/DQ2ApBAAUFdcJzURZ7rK2A9vKDT6i/2KPbNFrpMKad
 zSwCESseCB705V2VDZkc3SqtR7B2rqmELwpSOvea+Lox59ZInVIQ7jvZMwbvd874oYhD
 kUbg==
X-Gm-Message-State: AOJu0YwjfARUBMwrdh+Gy97+OKARx1plcQ+5Lfq6Rcxr8TGt2ew8t6I4
 A01c0/vRPJKb6PAPlZM5cJ9HcYJD9ckY/4c2KjVZ6Fh+Gp3pxKBWVvoK4w==
X-Google-Smtp-Source: AGHT+IHDuc5NwMPX4lY8iKnP9cLsslcD5APYCXmXziND5QWWIZyHszbQYdgIv0ywTND0/kA2AC0WxcIJmoVP
X-Received: by 2002:a05:6870:f704:b0:1ea:3525:9e99 with SMTP id
 ej4-20020a056870f70400b001ea35259e99mr2384008oab.44.1699460589562; 
 Wed, 08 Nov 2023 08:23:09 -0800 (PST)
Received: from postal.iol.unh.edu (postal.iol.unh.edu. [132.177.123.84])
 by smtp-relay.gmail.com with ESMTPS id
 15-20020a056870108f00b001e9ce1b5e99sm322681oaq.18.2023.11.08.08.23.09
 (version=TLS1_2 cipher=ECDHE-ECDSA-AES128-GCM-SHA256 bits=128/128);
 Wed, 08 Nov 2023 08:23:09 -0800 (PST)
X-Relaying-Domain: iol.unh.edu
Date: Wed, 08 Nov 2023 08:23:09 -0800 (PST)
Message-ID: <654bb5ed.050a0220.9d93a.ebacSMTPIN_ADDED_MISSING@mx.google.com>
Received: from [172.21.0.2] (unknown [172.18.0.240])
 by postal.iol.unh.edu (Postfix) with ESMTP id 2A49A605C318;
 Wed,  8 Nov 2023 11:23:09 -0500 (EST)
Subject: |SUCCESS| pw133973-133994 [PATCH] [v6,23/23] dts: add doc generation
From: dpdklab@iol.unh.edu
To: Test Report <test-report@dpdk.org>
Cc: dpdk-test-reports@iol.unh.edu
Content-Type: text/plain
X-BeenThere: test-report@dpdk.org
X-Mailman-Version: 2.1.29
Precedence: list
List-Id: automatic DPDK test reports <test-report.dpdk.org>
List-Unsubscribe: <https://mails.dpdk.org/options/test-report>,
 <mailto:test-report-request@dpdk.org?subject=unsubscribe>
List-Archive: <http://mails.dpdk.org/archives/test-report/>
List-Post: <mailto:test-report@dpdk.org>
List-Help: <mailto:test-report-request@dpdk.org?subject=help>
List-Subscribe: <https://mails.dpdk.org/listinfo/test-report>,
 <mailto:test-report-request@dpdk.org?subject=subscribe>
Errors-To: test-report-bounces@dpdk.org

Test-Label: iol-compile-arm64-testing
Test-Status: SUCCESS
http://dpdk.org/patch/133994

_Testing PASS_

Submitter: Juraj Linkes <juraj.linkes@pantheon.tech>
Date: Wednesday, November 08 2023 12:53:24 
DPDK git baseline: Repo:dpdk
  Branch: master
  CommitID:2bbad8f974e00552d106c27e1d157a31179ab5ec

133973-133994 --> testing pass

Test environment and result as below:

+----------------------------------------+--------------------+
|              Environment               | dpdk_meson_compile |
+========================================+====================+
| Ubuntu 20.04 ARM SVE                   | PASS               |
+----------------------------------------+--------------------+
| Ubuntu 20.04 ARM GCC Cross Compile     | PASS               |
+----------------------------------------+--------------------+
| Ubuntu 20.04 aarch32 GCC Cross Compile | PASS               |
+----------------------------------------+--------------------+
| Ubuntu 20.04 ARM Clang Cross Compile   | PASS               |
+----------------------------------------+--------------------+
| Fedora 37 (ARM)                        | PASS               |
+----------------------------------------+--------------------+
| Debian 11 (Buster) (ARM)               | PASS               |
+----------------------------------------+--------------------+
| Ubuntu 20.04 (ARM)                     | PASS               |
+----------------------------------------+--------------------+
| Fedora 38 (ARM)                        | PASS               |
+----------------------------------------+--------------------+
| CentOS Stream 9 (ARM)                  | PASS               |
+----------------------------------------+--------------------+
| Fedora 38 (ARM Clang)                  | PASS               |
+----------------------------------------+--------------------+


Ubuntu 20.04 ARM SVE
	Kernel: 5.4.0-80-generic
	Compiler: gcc 10.3.0 (Ubuntu 10.3.0-1ubuntu1~20.04)

Ubuntu 20.04 ARM GCC Cross Compile
	Kernel: 5.4.0-72-generic
	Compiler: aarch64-linux-gnu-gcc (Ubuntu 9.3.0-17ubuntu1~20.04) 9.3.0

Ubuntu 20.04 aarch32 GCC Cross Compile
	Kernel: 5.4.0-72-generic
	Compiler: gcc 9.3.0

Ubuntu 20.04 ARM Clang Cross Compile
	Kernel: 5.4.0-72-generic
	Compiler: clang version 10.0.0-4ubuntu1

Fedora 37 (ARM)
	Kernel: Depends on container host
	Compiler: gcc 12.3.1

Debian 11 (Buster) (ARM)
	Kernel: Container Host Kernel
	Compiler: gcc 10.2.1

Ubuntu 20.04 (ARM)
	Kernel: Container Host Kernel
	Compiler: gcc 9.4.0

Fedora 38 (ARM)
	Kernel: Depends on container host
	Compiler: gcc 13.1.1

CentOS Stream 9 (ARM)
	Kernel: Container Host Kernel
	Compiler: gcc 11.3.1

Fedora 38 (ARM Clang)
	Kernel: Depends on container host
	Compiler: clang 16.0.3

To view detailed results, visit:
https://lab.dpdk.org/results/dashboard/patchsets/28285/

UNH-IOL DPDK Community Lab

To manage your email subscriptions, visit: 
https://lab.dpdk.org/results/dashboard/preferences/subscriptions/