From mboxrd@z Thu Jan  1 00:00:00 1970
Return-Path: <test-report-bounces@dpdk.org>
Received: from mails.dpdk.org (mails.dpdk.org [217.70.189.124])
	by inbox.dpdk.org (Postfix) with ESMTP id 901B9432E3
	for <public@inbox.dpdk.org>; Thu,  9 Nov 2023 11:29:20 +0100 (CET)
Received: from mails.dpdk.org (localhost [127.0.0.1])
	by mails.dpdk.org (Postfix) with ESMTP id 8B5894021F;
	Thu,  9 Nov 2023 11:29:20 +0100 (CET)
Received: from mail-yw1-f228.google.com (mail-yw1-f228.google.com
 [209.85.128.228])
 by mails.dpdk.org (Postfix) with ESMTP id D0A834021F
 for <test-report@dpdk.org>; Thu,  9 Nov 2023 11:29:19 +0100 (CET)
Received: by mail-yw1-f228.google.com with SMTP id
 00721157ae682-5a7b3d33663so8675667b3.3
 for <test-report@dpdk.org>; Thu, 09 Nov 2023 02:29:19 -0800 (PST)
DKIM-Signature: v=1; a=rsa-sha256; c=relaxed/relaxed;
 d=iol.unh.edu; s=unh-iol; t=1699525759; x=1700130559; darn=dpdk.org;
 h=cc:to:from:subject:message-id:date:from:to:cc:subject:date
 :message-id:reply-to;
 bh=ncUoicrqBnH4njLBNxGUSxjgcpFI/9+Ud2ZMSIz3wHM=;
 b=UY6ZUFealbbu5zf0oZALHtS0i6dRC3vNtQrvAjbVEvdu6GmZLxIQ+yfeGRfa+CJZCb
 JUCWraebo7nlFff6R1exvu8HMw4R8iDSkUKN0Jjvnn2u5Zv+7TlpvW6W+f2Rx8NPETZz
 okWg8DyGMI/vwCJWjVHqfNOpSdoKU6Qu0ijEI=
X-Google-DKIM-Signature: v=1; a=rsa-sha256; c=relaxed/relaxed;
 d=1e100.net; s=20230601; t=1699525759; x=1700130559;
 h=cc:to:from:subject:message-id:date:x-gm-message-state:from:to:cc
 :subject:date:message-id:reply-to;
 bh=ncUoicrqBnH4njLBNxGUSxjgcpFI/9+Ud2ZMSIz3wHM=;
 b=Yp9QrtG7C3cQb4qUNMpDlrUKBWTaVvdHf/gtWhHiV5BY/gaook6O4Tp8r6NR6RwEKP
 5w1LQ4zv/1ghdCcRTwk98QMiYdQar2r6tcLH/4yQYkQIcH+iUiDZm9BOX8sZARXaAaCE
 RGfOt99bv3C+8Y5akAMkfqbr84wUMLlTQ98UtDehNHMKcRFv5AGtTWt0mCJQxkGDnQah
 kIzl9KKUXhzGLS7TemKQZ9WutQSc8RRErvCu8TQobmjMizQ4zJcCTzUKKc3GUiTnwQTP
 zVpJUypEIOYKeljP0eghj2JXrsMtEPW/uohwZM43cLZpii6yy2l2O/SIKsKlTIenPOgy
 Yuug==
X-Gm-Message-State: AOJu0Yy49QNlBqlSt49xNPoel2GPbYL1M6aclOOsBF4lSgQ0i07B1QBi
 s0RLQFNIfaxW6MzXqBh8bKsvIikPccpTIn7j7biAoTc7wNcyKZO5nsKomTKBDiS2UkqzuAkNsA=
 =
X-Google-Smtp-Source: AGHT+IHpVcCWUifyVI/gv1a43ApD7SfC1whUIw1nDJ4j6H27H8CsID1NegdntIwab0ZFVpnXX5fUGclHeckZ
X-Received: by 2002:a81:9205:0:b0:5a7:ccf3:7163 with SMTP id
 j5-20020a819205000000b005a7ccf37163mr4345375ywg.15.1699525759212; 
 Thu, 09 Nov 2023 02:29:19 -0800 (PST)
Received: from postal.iol.unh.edu (postal.iol.unh.edu.
 [2606:4100:3880:1234::84]) by smtp-relay.gmail.com with ESMTPS id
 y5-20020a0dd605000000b005a7dbca2655sm1457313ywd.0.2023.11.09.02.29.19
 (version=TLS1_2 cipher=ECDHE-ECDSA-AES128-GCM-SHA256 bits=128/128);
 Thu, 09 Nov 2023 02:29:19 -0800 (PST)
X-Relaying-Domain: iol.unh.edu
Date: Thu, 09 Nov 2023 02:29:19 -0800 (PST)
Message-ID: <654cb47f.0d0a0220.17f86.ab2bSMTPIN_ADDED_MISSING@mx.google.com>
Received: from [172.21.0.2] (unknown [172.18.0.240])
 by postal.iol.unh.edu (Postfix) with ESMTP id DB11A605C318;
 Thu,  9 Nov 2023 05:29:18 -0500 (EST)
Subject: |SUCCESS| pw134006 [PATCH] drivers: use stdatomic API
From: dpdklab@iol.unh.edu
To: Test Report <test-report@dpdk.org>
Cc: dpdk-test-reports@iol.unh.edu
Content-Type: text/plain
X-BeenThere: test-report@dpdk.org
X-Mailman-Version: 2.1.29
Precedence: list
List-Id: automatic DPDK test reports <test-report.dpdk.org>
List-Unsubscribe: <https://mails.dpdk.org/options/test-report>,
 <mailto:test-report-request@dpdk.org?subject=unsubscribe>
List-Archive: <http://mails.dpdk.org/archives/test-report/>
List-Post: <mailto:test-report@dpdk.org>
List-Help: <mailto:test-report-request@dpdk.org?subject=help>
List-Subscribe: <https://mails.dpdk.org/listinfo/test-report>,
 <mailto:test-report-request@dpdk.org?subject=subscribe>
Errors-To: test-report-bounces@dpdk.org

Test-Label: iol-compile-arm64-testing
Test-Status: SUCCESS
http://dpdk.org/patch/134006

_Testing PASS_

Submitter: Tyler Retzlaff <roretzla@linux.microsoft.com>
Date: Thursday, November 09 2023 07:34:03 
DPDK git baseline: Repo:dpdk
  Branch: master
  CommitID:de0ec3c2458e3e2ce53e504c4ba92a36fcc78ef3

134006 --> testing pass

Test environment and result as below:

+----------------------------------------+--------------------+
|              Environment               | dpdk_meson_compile |
+========================================+====================+
| Ubuntu 20.04 ARM SVE                   | PASS               |
+----------------------------------------+--------------------+
| Debian 11 (Buster) (ARM)               | PASS               |
+----------------------------------------+--------------------+
| Ubuntu 20.04 ARM Clang Cross Compile   | PASS               |
+----------------------------------------+--------------------+
| Fedora 37 (ARM)                        | PASS               |
+----------------------------------------+--------------------+
| Ubuntu 20.04 ARM GCC Cross Compile     | PASS               |
+----------------------------------------+--------------------+
| CentOS Stream 9 (ARM)                  | PASS               |
+----------------------------------------+--------------------+
| Ubuntu 20.04 (ARM)                     | PASS               |
+----------------------------------------+--------------------+
| Ubuntu 20.04 aarch32 GCC Cross Compile | PASS               |
+----------------------------------------+--------------------+
| Fedora 38 (ARM)                        | PASS               |
+----------------------------------------+--------------------+


Ubuntu 20.04 ARM SVE
	Kernel: 5.4.0-80-generic
	Compiler: gcc 10.3.0 (Ubuntu 10.3.0-1ubuntu1~20.04)

Debian 11 (Buster) (ARM)
	Kernel: Container Host Kernel
	Compiler: gcc 10.2.1

Ubuntu 20.04 ARM Clang Cross Compile
	Kernel: 5.4.0-72-generic
	Compiler: clang version 10.0.0-4ubuntu1

Fedora 37 (ARM)
	Kernel: Depends on container host
	Compiler: gcc 12.3.1

Ubuntu 20.04 ARM GCC Cross Compile
	Kernel: 5.4.0-72-generic
	Compiler: aarch64-linux-gnu-gcc (Ubuntu 9.3.0-17ubuntu1~20.04) 9.3.0

CentOS Stream 9 (ARM)
	Kernel: Container Host Kernel
	Compiler: gcc 11.3.1

Ubuntu 20.04 (ARM)
	Kernel: Container Host Kernel
	Compiler: gcc 9.4.0

Ubuntu 20.04 aarch32 GCC Cross Compile
	Kernel: 5.4.0-72-generic
	Compiler: gcc 9.3.0

Fedora 38 (ARM)
	Kernel: Depends on container host
	Compiler: gcc 13.1.1

To view detailed results, visit:
https://lab.dpdk.org/results/dashboard/patchsets/28293/

UNH-IOL DPDK Community Lab

To manage your email subscriptions, visit: 
https://lab.dpdk.org/results/dashboard/preferences/subscriptions/