From mboxrd@z Thu Jan  1 00:00:00 1970
Return-Path: <test-report-bounces@dpdk.org>
Received: from mails.dpdk.org (mails.dpdk.org [217.70.189.124])
	by inbox.dpdk.org (Postfix) with ESMTP id CEB05432E3
	for <public@inbox.dpdk.org>; Thu,  9 Nov 2023 11:30:09 +0100 (CET)
Received: from mails.dpdk.org (localhost [127.0.0.1])
	by mails.dpdk.org (Postfix) with ESMTP id C9F144021F;
	Thu,  9 Nov 2023 11:30:09 +0100 (CET)
Received: from mail-yw1-f227.google.com (mail-yw1-f227.google.com
 [209.85.128.227])
 by mails.dpdk.org (Postfix) with ESMTP id A0C9C4021F
 for <test-report@dpdk.org>; Thu,  9 Nov 2023 11:30:08 +0100 (CET)
Received: by mail-yw1-f227.google.com with SMTP id
 00721157ae682-5a7af52ee31so8619107b3.2
 for <test-report@dpdk.org>; Thu, 09 Nov 2023 02:30:08 -0800 (PST)
DKIM-Signature: v=1; a=rsa-sha256; c=relaxed/relaxed;
 d=iol.unh.edu; s=unh-iol; t=1699525808; x=1700130608; darn=dpdk.org;
 h=cc:to:from:subject:message-id:date:from:to:cc:subject:date
 :message-id:reply-to;
 bh=I8WhjFD2LE56SZXLARr8SuNXi9/UTHAMZ1wLBlR3R8M=;
 b=B1gp6L6dGX9dXS/y5n8U9g/3a6Y07df5+ufUCFevx7048/j4E0R3D6MRbnKY1HhZb3
 m+fD0bcsOfOaGyS+nkJtv7czjMELAHGpWI+1xGiZQn/e44yGfis7opPV3WryAU5CqdUB
 qxME8OKtbYksJhN71u0TEYM2IP6O2uqE6Tw0E=
X-Google-DKIM-Signature: v=1; a=rsa-sha256; c=relaxed/relaxed;
 d=1e100.net; s=20230601; t=1699525808; x=1700130608;
 h=cc:to:from:subject:message-id:date:x-gm-message-state:from:to:cc
 :subject:date:message-id:reply-to;
 bh=I8WhjFD2LE56SZXLARr8SuNXi9/UTHAMZ1wLBlR3R8M=;
 b=hOnXUm2pBeBGW0I9F6xHdiAjzTvCpaaGpOY/bgVIutk4hcheNObfad67aEmoXc8PWK
 KOje8U2hVhNSyFQN7JU6OF9HEXwIaVBP0GLlPg7vhRoRgl0MLdQfh0HmL9NNKDUD36VV
 EW7itpVBqRX6fE+RVjbCNY775Lb6KU6B129EXU4c/zBqHTYjL6OT697G9kSf/6dRuGGM
 T2T03A/OssBWhKuT2u25lrVFhw3GtioDN6O4uPAJJaVm5NFmgNQM50WKSmB99lqklNMW
 wOgf7MFvJPSIQUEc3SU+dKPK3Z/TCi6nPUMIIS/0o+9unI+37Uofo1btz2B8A3Xacruu
 hvBA==
X-Gm-Message-State: AOJu0YyDExrhaY2ME/dtm1YI54pTAMHm2HvCW7lPf/bDpHaSTCNycrC6
 sKiQ2appCeC6TLMO0uJkYlfrL8o/p3vbBmkPPoTbaMGxylKuA3O+1GXLAm0uaTm2LrANPPjv1A=
 =
X-Google-Smtp-Source: AGHT+IG2OT9IqYHekDNdp3ckQd6sUwiTxdPhDft6gvwjv0PZg1BT8ZqQVZ5k6168HY5uUzcv1uhWZyXPVgVz
X-Received: by 2002:a81:4891:0:b0:5a7:c973:c82 with SMTP id
 v139-20020a814891000000b005a7c9730c82mr4694240ywa.13.1699525808033; 
 Thu, 09 Nov 2023 02:30:08 -0800 (PST)
Received: from postal.iol.unh.edu (postal.iol.unh.edu.
 [2606:4100:3880:1234::84]) by smtp-relay.gmail.com with ESMTPS id
 p185-20020a815bc2000000b005a8a727582csm1452428ywb.36.2023.11.09.02.30.07
 (version=TLS1_2 cipher=ECDHE-ECDSA-AES128-GCM-SHA256 bits=128/128);
 Thu, 09 Nov 2023 02:30:08 -0800 (PST)
X-Relaying-Domain: iol.unh.edu
Date: Thu, 09 Nov 2023 02:30:08 -0800 (PST)
Message-ID: <654cb4b0.810a0220.8a4ad.b20bSMTPIN_ADDED_MISSING@mx.google.com>
Received: from [172.21.0.3] (unknown [172.18.0.240])
 by postal.iol.unh.edu (Postfix) with ESMTP id AF41F605C318;
 Thu,  9 Nov 2023 05:30:07 -0500 (EST)
Subject: |SUCCESS| pw134006 [PATCH] drivers: use stdatomic API
From: dpdklab@iol.unh.edu
To: Test Report <test-report@dpdk.org>
Cc: Tyler Retzlaff <roretzla@linux.microsoft.com>,
 dpdk-test-reports@iol.unh.edu
Content-Type: text/plain
X-BeenThere: test-report@dpdk.org
X-Mailman-Version: 2.1.29
Precedence: list
List-Id: automatic DPDK test reports <test-report.dpdk.org>
List-Unsubscribe: <https://mails.dpdk.org/options/test-report>,
 <mailto:test-report-request@dpdk.org?subject=unsubscribe>
List-Archive: <http://mails.dpdk.org/archives/test-report/>
List-Post: <mailto:test-report@dpdk.org>
List-Help: <mailto:test-report-request@dpdk.org?subject=help>
List-Subscribe: <https://mails.dpdk.org/listinfo/test-report>,
 <mailto:test-report-request@dpdk.org?subject=subscribe>
Errors-To: test-report-bounces@dpdk.org

Test-Label: iol-unit-arm64-testing
Test-Status: SUCCESS
http://dpdk.org/patch/134006

_Testing PASS_

Submitter: Tyler Retzlaff <roretzla@linux.microsoft.com>
Date: Thursday, November 09 2023 07:34:03 
DPDK git baseline: Repo:dpdk
  Branch: master
  CommitID:de0ec3c2458e3e2ce53e504c4ba92a36fcc78ef3

134006 --> testing pass

Test environment and result as below:

+--------------------------+----------------+---------------------------+------------------------------+
|       Environment        | dpdk_unit_test | cryptodev_sw_zuc_autotest | cryptodev_sw_snow3g_autotest |
+==========================+================+===========================+==============================+
| Debian 11 (Buster) (ARM) | PASS           | SKIPPED                   | SKIPPED                      |
+--------------------------+----------------+---------------------------+------------------------------+
| Fedora 38 (ARM)          | PASS           | SKIPPED                   | SKIPPED                      |
+--------------------------+----------------+---------------------------+------------------------------+
| CentOS Stream 9 (ARM)    | PASS           | SKIPPED                   | SKIPPED                      |
+--------------------------+----------------+---------------------------+------------------------------+
| Ubuntu 20.04 (ARM)       | PASS           | SKIPPED                   | SKIPPED                      |
+--------------------------+----------------+---------------------------+------------------------------+
| Fedora 37 (ARM)          | PASS           | SKIPPED                   | SKIPPED                      |
+--------------------------+----------------+---------------------------+------------------------------+
| Fedora 38 (ARM Clang)    | PASS           | SKIPPED                   | SKIPPED                      |
+--------------------------+----------------+---------------------------+------------------------------+
| Debian 11 (arm)          | SKIPPED        | PASS                      | PASS                         |
+--------------------------+----------------+---------------------------+------------------------------+


Debian 11 (Buster) (ARM)
	Kernel: Container Host Kernel
	Compiler: gcc 10.2.1

Fedora 38 (ARM)
	Kernel: Depends on container host
	Compiler: gcc 13.1.1

CentOS Stream 9 (ARM)
	Kernel: Container Host Kernel
	Compiler: gcc 11.3.1

Ubuntu 20.04 (ARM)
	Kernel: Container Host Kernel
	Compiler: gcc 9.4.0

Fedora 37 (ARM)
	Kernel: Depends on container host
	Compiler: gcc 12.3.1

Fedora 38 (ARM Clang)
	Kernel: Depends on container host
	Compiler: clang 16.0.3

Debian 11 (arm)
	Kernel: Container Host Kernel
	Compiler: gcc 10.2.1

To view detailed results, visit:
https://lab.dpdk.org/results/dashboard/patchsets/28293/

UNH-IOL DPDK Community Lab

To manage your email subscriptions, visit: 
https://lab.dpdk.org/results/dashboard/preferences/subscriptions/