From mboxrd@z Thu Jan  1 00:00:00 1970
Return-Path: <test-report-bounces@dpdk.org>
Received: from mails.dpdk.org (mails.dpdk.org [217.70.189.124])
	by inbox.dpdk.org (Postfix) with ESMTP id 9585A432E6
	for <public@inbox.dpdk.org>; Thu,  9 Nov 2023 16:23:05 +0100 (CET)
Received: from mails.dpdk.org (localhost [127.0.0.1])
	by mails.dpdk.org (Postfix) with ESMTP id 9027A4021E;
	Thu,  9 Nov 2023 16:23:05 +0100 (CET)
Received: from mail-io1-f97.google.com (mail-io1-f97.google.com
 [209.85.166.97]) by mails.dpdk.org (Postfix) with ESMTP id E416C4021E
 for <test-report@dpdk.org>; Thu,  9 Nov 2023 16:23:03 +0100 (CET)
Received: by mail-io1-f97.google.com with SMTP id
 ca18e2360f4ac-7a689bd4928so52241639f.0
 for <test-report@dpdk.org>; Thu, 09 Nov 2023 07:23:03 -0800 (PST)
DKIM-Signature: v=1; a=rsa-sha256; c=relaxed/relaxed;
 d=iol.unh.edu; s=unh-iol; t=1699543383; x=1700148183; darn=dpdk.org;
 h=cc:to:from:subject:message-id:date:from:to:cc:subject:date
 :message-id:reply-to;
 bh=LABdkJetYZjGbJSspmaPcuEmA6RXHcz+jJAe/Q3sAhM=;
 b=iZLB3cHP0AyyYxpIyiHsBT8ioYwxZhWqsLbFMccXss8fjICJUAwiMoBF1YgWotH9L7
 ufL9vQJES1mgfiLZbLsfq5My8cLLf4HdqUpSiFm+ZRBeQDfxJIEpZorf7BaKdb4ZaryC
 XyJDlrH3DqpJvZib/qU9nHf0mb57w6kvt55oY=
X-Google-DKIM-Signature: v=1; a=rsa-sha256; c=relaxed/relaxed;
 d=1e100.net; s=20230601; t=1699543383; x=1700148183;
 h=cc:to:from:subject:message-id:date:x-gm-message-state:from:to:cc
 :subject:date:message-id:reply-to;
 bh=LABdkJetYZjGbJSspmaPcuEmA6RXHcz+jJAe/Q3sAhM=;
 b=nKbqSrOJ+x1xrBmpAzTVvJ+AgicqQNE3iPVsT30LaitBzHFoukimJATnregdkG9FFT
 WdJg6/oiEf4DEusyV2yrkKcMjOfSPLjnJDr7mXGllx4P/lvZTc6Nj7PidzJmbN27ZyRv
 XTGBGrc40FUsvtvdh2LZOWTPrQaPCiF+jiFMNPocOLel1m5+8KUAh3j9XH+JV43jHpam
 k5jNTsNqYO93pfuTPXWxtioLSxKUuYvYBPd9ZTsucNrGMirwT0Q2AWiWWv8++xyzQW7T
 l9Z9jwaE8kJ1Bul/Qf8wmv6cdjX/3ntCdjYGiByQ7ckNtP5aTmhbZfjF4WNRKvVy99lH
 QUig==
X-Gm-Message-State: AOJu0Yy7eJQ47KL8Wfzob9AqKHHpWAqHGF48yBoGgfdzdXXEPLubgdbC
 6dMe2XoqJQN06joclyMKNVkuS4snrRnuJWgCE9+MWG5XbRpxZRuW/PBLhg==
X-Google-Smtp-Source: AGHT+IGwTRvj9dBUfNCA5AVs3tgeOQzvGpbEOaTGNDeLZgEGkMaLlQdGDUDDu/HDHI+L4mNyCgCVqYNie+xj
X-Received: by 2002:a05:6e02:1bc3:b0:359:3491:9042 with SMTP id
 x3-20020a056e021bc300b0035934919042mr10829444ilv.9.1699543383389; 
 Thu, 09 Nov 2023 07:23:03 -0800 (PST)
Received: from postal.iol.unh.edu (postal.iol.unh.edu. [132.177.123.84])
 by smtp-relay.gmail.com with ESMTPS id
 fy9-20020a0566381e8900b004582d9a8bd5sm755322jab.34.2023.11.09.07.23.03
 (version=TLS1_2 cipher=ECDHE-ECDSA-AES128-GCM-SHA256 bits=128/128);
 Thu, 09 Nov 2023 07:23:03 -0800 (PST)
X-Relaying-Domain: iol.unh.edu
Date: Thu, 09 Nov 2023 07:23:03 -0800 (PST)
Message-ID: <654cf957.050a0220.ec8ec.3192SMTPIN_ADDED_MISSING@mx.google.com>
Received: from [172.21.0.3] (unknown [172.18.0.240])
 by postal.iol.unh.edu (Postfix) with ESMTP id E4015605C318;
 Thu,  9 Nov 2023 10:23:02 -0500 (EST)
Subject: |SUCCESS| pw134019 [PATCH] net/ena: fix coverity issues
From: dpdklab@iol.unh.edu
To: Test Report <test-report@dpdk.org>
Cc: dpdk-test-reports@iol.unh.edu
Content-Type: text/plain
X-BeenThere: test-report@dpdk.org
X-Mailman-Version: 2.1.29
Precedence: list
List-Id: automatic DPDK test reports <test-report.dpdk.org>
List-Unsubscribe: <https://mails.dpdk.org/options/test-report>,
 <mailto:test-report-request@dpdk.org?subject=unsubscribe>
List-Archive: <http://mails.dpdk.org/archives/test-report/>
List-Post: <mailto:test-report@dpdk.org>
List-Help: <mailto:test-report-request@dpdk.org?subject=help>
List-Subscribe: <https://mails.dpdk.org/listinfo/test-report>,
 <mailto:test-report-request@dpdk.org?subject=subscribe>
Errors-To: test-report-bounces@dpdk.org

Test-Label: iol-compile-amd64-testing
Test-Status: SUCCESS
http://dpdk.org/patch/134019

_Testing PASS_

Submitter: Brandes, Shai <shaibran@amazon.com>
Date: Thursday, November 09 2023 14:08:16 
DPDK git baseline: Repo:dpdk
  Branch: master
  CommitID:de0ec3c2458e3e2ce53e504c4ba92a36fcc78ef3

134019 --> testing pass

Test environment and result as below:

+------------------+--------------------+
|   Environment    | dpdk_meson_compile |
+==================+====================+
| Fedora 37        | PASS               |
+------------------+--------------------+
| Debian Buster    | PASS               |
+------------------+--------------------+
| Debian Bullseye  | PASS               |
+------------------+--------------------+
| Fedora 38        | PASS               |
+------------------+--------------------+
| FreeBSD 13       | PASS               |
+------------------+--------------------+
| Ubuntu 20.04     | PASS               |
+------------------+--------------------+
| RHEL8            | PASS               |
+------------------+--------------------+
| openSUSE Leap 15 | PASS               |
+------------------+--------------------+
| Ubuntu 22.04     | PASS               |
+------------------+--------------------+
| CentOS Stream 9  | PASS               |
+------------------+--------------------+
| CentOS Stream 8  | PASS               |
+------------------+--------------------+
| Alpine           | PASS               |
+------------------+--------------------+


Fedora 37
	Kernel: Depends on container host system
	Compiler: gcc 12.3.1

Debian Buster
	Kernel: 5.4.0-122-generic
	Compiler: gcc 8.3.0-6

Debian Bullseye
	Kernel: 5.4.0-122-generic
	Compiler: gcc 10.2.1-6

Fedora 38
	Kernel: Depends on container host
	Compiler: gcc 13.1.1

FreeBSD 13
	Kernel: 13.0
	Compiler: clang 11.0.1

Ubuntu 20.04
	Kernel: 5.4.0-153-generic
	Compiler: gcc 9.4.0-1ubuntu1~20.04.1

RHEL8
	Kernel: 4.18.0-240.10.1.el8_3.x86_64
	Compiler: gcc 8.3.1 20191121 (Red Hat 8.3.1-5)

openSUSE Leap 15
	Kernel: 4.18.0-240.10.1.el8_3.x86_64
	Compiler: gcc 7.5.0

Ubuntu 22.04
	Kernel: 4.18.0-240.10.1.el8_3.x86_64
	Compiler: gcc 11.3.0

CentOS Stream 9
	Kernel: 4.18.0-240.10.1.el8_3.x86_64
	Compiler: gcc 11.3.1 20220421

CentOS Stream 8
	Kernel: 4.18.0-240.10.1.el8_3.x86_64
	Compiler: gcc 8.4.1 20200928

Alpine
	Kernel: 5.4.0-73-generic
	Compiler: gcc (Alpine 10.3.1_git20210424) 10.3.1 20210424

To view detailed results, visit:
https://lab.dpdk.org/results/dashboard/patchsets/28301/

UNH-IOL DPDK Community Lab

To manage your email subscriptions, visit: 
https://lab.dpdk.org/results/dashboard/preferences/subscriptions/