From mboxrd@z Thu Jan  1 00:00:00 1970
Return-Path: <test-report-bounces@dpdk.org>
Received: from mails.dpdk.org (mails.dpdk.org [217.70.189.124])
	by inbox.dpdk.org (Postfix) with ESMTP id 3CF53432E6
	for <public@inbox.dpdk.org>; Thu,  9 Nov 2023 16:45:18 +0100 (CET)
Received: from mails.dpdk.org (localhost [127.0.0.1])
	by mails.dpdk.org (Postfix) with ESMTP id 3861B4021E;
	Thu,  9 Nov 2023 16:45:18 +0100 (CET)
Received: from mail-pl1-f226.google.com (mail-pl1-f226.google.com
 [209.85.214.226])
 by mails.dpdk.org (Postfix) with ESMTP id 9C85F40A72
 for <test-report@dpdk.org>; Thu,  9 Nov 2023 16:45:13 +0100 (CET)
Received: by mail-pl1-f226.google.com with SMTP id
 d9443c01a7336-1cc7077d34aso8774655ad.2
 for <test-report@dpdk.org>; Thu, 09 Nov 2023 07:45:13 -0800 (PST)
DKIM-Signature: v=1; a=rsa-sha256; c=relaxed/relaxed;
 d=iol.unh.edu; s=unh-iol; t=1699544713; x=1700149513; darn=dpdk.org;
 h=cc:to:from:subject:message-id:date:from:to:cc:subject:date
 :message-id:reply-to;
 bh=yDwSZmfovZmxSLA/ydvF/ByUwFUbsQXTvEJtWBiKzvM=;
 b=MCbqAhqpr6RWJNXELxCDcKbVD4dFDvgVpYYGmoV8JppMOWkffM6YkyuJ/AqaCvh/M2
 Ctc76ztO4++KGFilAjDnkvVdQ8OWydgZSyus0pLUGtSmaqWiz3jshNk6N10MOZSwyWqg
 e1u/jgd2JldLTBcq6YqI+D93kPFhYrFA8dtos=
X-Google-DKIM-Signature: v=1; a=rsa-sha256; c=relaxed/relaxed;
 d=1e100.net; s=20230601; t=1699544713; x=1700149513;
 h=cc:to:from:subject:message-id:date:x-gm-message-state:from:to:cc
 :subject:date:message-id:reply-to;
 bh=yDwSZmfovZmxSLA/ydvF/ByUwFUbsQXTvEJtWBiKzvM=;
 b=Jcpyo/uj3MkzR1GUnFZ3owPsbuzvHhvE8RyKz3tji1y2pFHYiAB3xuo47G3rrc0Y/2
 zep7ObTTSTqrPBNrp3QLv5l88JFDu9KyFfspEM3Bv6b13DkkkrJxP/n3u7A5kqwPsv+o
 CLn7duzCV+kM7+40cg4t3p7QhLM8LrizTcyDKIdUh8ntZGuHgusXBLWKdXkRjhrufrwP
 b0X+o5JkEiUEAR6lVTfjuomdBJVansjP2u1yY9IhPS2E1RWstDsrz1qWuXLFbr2EmvOx
 zHU+MLPMYA6y0nDtcOkdNbPMmIdz5rJomI7p9R3WR0dkUWKxfkU8nCr6wGQWroPC3Jeu
 I2Og==
X-Gm-Message-State: AOJu0YwJ1I/3FNjlbMmEmInfRfph3cO+gEJCOho3Yq3LztroRAAWK/M4
 dVXxVZitgSOH0J9NzIt5/HYTQr6JIixpEyB3evEsR1NofUzd/U9X8jbChgpDb563NIouinDYKw=
 =
X-Google-Smtp-Source: AGHT+IHsjZbjifGZ9BofYHWONg6vl+mOw9L9lPGkpoBF0kwdsEoBeKyH+6BoRW/ipi2rKVpS/Fgf3VZ1ux0t
X-Received: by 2002:a17:902:ead4:b0:1cc:ef37:664a with SMTP id
 p20-20020a170902ead400b001ccef37664amr4794498pld.31.1699544712941; 
 Thu, 09 Nov 2023 07:45:12 -0800 (PST)
Received: from postal.iol.unh.edu (postal.iol.unh.edu.
 [2606:4100:3880:1234::84]) by smtp-relay.gmail.com with ESMTPS id
 c6-20020a170902aa4600b001b8a598baf2sm610167plr.26.2023.11.09.07.45.12
 (version=TLS1_2 cipher=ECDHE-ECDSA-AES128-GCM-SHA256 bits=128/128);
 Thu, 09 Nov 2023 07:45:12 -0800 (PST)
X-Relaying-Domain: iol.unh.edu
Date: Thu, 09 Nov 2023 07:45:12 -0800 (PST)
Message-ID: <654cfe88.170a0220.a1041.8688SMTPIN_ADDED_MISSING@mx.google.com>
Received: from [172.17.0.3] (unknown [172.18.0.213])
 by postal.iol.unh.edu (Postfix) with ESMTP id 67A73605C319;
 Thu,  9 Nov 2023 10:45:12 -0500 (EST)
Subject: |SUCCESS| pw134019 [PATCH] net/ena: fix coverity issues
From: dpdklab@iol.unh.edu
To: Test Report <test-report@dpdk.org>
Cc: dpdk-test-reports@iol.unh.edu
Content-Type: text/plain
X-BeenThere: test-report@dpdk.org
X-Mailman-Version: 2.1.29
Precedence: list
List-Id: automatic DPDK test reports <test-report.dpdk.org>
List-Unsubscribe: <https://mails.dpdk.org/options/test-report>,
 <mailto:test-report-request@dpdk.org?subject=unsubscribe>
List-Archive: <http://mails.dpdk.org/archives/test-report/>
List-Post: <mailto:test-report@dpdk.org>
List-Help: <mailto:test-report-request@dpdk.org?subject=help>
List-Subscribe: <https://mails.dpdk.org/listinfo/test-report>,
 <mailto:test-report-request@dpdk.org?subject=subscribe>
Errors-To: test-report-bounces@dpdk.org

Test-Label: iol-compile-arm64-testing
Test-Status: SUCCESS
http://dpdk.org/patch/134019

_Testing PASS_

Submitter: Brandes, Shai <shaibran@amazon.com>
Date: Thursday, November 09 2023 14:08:16 
DPDK git baseline: Repo:dpdk
  Branch: master
  CommitID:de0ec3c2458e3e2ce53e504c4ba92a36fcc78ef3

134019 --> testing pass

Test environment and result as below:

+----------------------------------------+--------------------+
|              Environment               | dpdk_meson_compile |
+========================================+====================+
| Ubuntu 20.04 ARM SVE                   | PASS               |
+----------------------------------------+--------------------+
| Ubuntu 20.04 ARM GCC Cross Compile     | PASS               |
+----------------------------------------+--------------------+
| Ubuntu 20.04 aarch32 GCC Cross Compile | PASS               |
+----------------------------------------+--------------------+
| Ubuntu 20.04 ARM Clang Cross Compile   | PASS               |
+----------------------------------------+--------------------+
| Fedora 38 (ARM)                        | PASS               |
+----------------------------------------+--------------------+
| Debian 11 (Buster) (ARM)               | PASS               |
+----------------------------------------+--------------------+
| Fedora 37 (ARM)                        | PASS               |
+----------------------------------------+--------------------+
| Ubuntu 20.04 (ARM)                     | PASS               |
+----------------------------------------+--------------------+
| CentOS Stream 9 (ARM)                  | PASS               |
+----------------------------------------+--------------------+


Ubuntu 20.04 ARM SVE
	Kernel: 5.4.0-80-generic
	Compiler: gcc 10.3.0 (Ubuntu 10.3.0-1ubuntu1~20.04)

Ubuntu 20.04 ARM GCC Cross Compile
	Kernel: 5.4.0-72-generic
	Compiler: aarch64-linux-gnu-gcc (Ubuntu 9.3.0-17ubuntu1~20.04) 9.3.0

Ubuntu 20.04 aarch32 GCC Cross Compile
	Kernel: 5.4.0-72-generic
	Compiler: gcc 9.3.0

Ubuntu 20.04 ARM Clang Cross Compile
	Kernel: 5.4.0-72-generic
	Compiler: clang version 10.0.0-4ubuntu1

Fedora 38 (ARM)
	Kernel: Depends on container host
	Compiler: gcc 13.1.1

Debian 11 (Buster) (ARM)
	Kernel: Container Host Kernel
	Compiler: gcc 10.2.1

Fedora 37 (ARM)
	Kernel: Depends on container host
	Compiler: gcc 12.3.1

Ubuntu 20.04 (ARM)
	Kernel: Container Host Kernel
	Compiler: gcc 9.4.0

CentOS Stream 9 (ARM)
	Kernel: Container Host Kernel
	Compiler: gcc 11.3.1

To view detailed results, visit:
https://lab.dpdk.org/results/dashboard/patchsets/28301/

UNH-IOL DPDK Community Lab

To manage your email subscriptions, visit: 
https://lab.dpdk.org/results/dashboard/preferences/subscriptions/