From mboxrd@z Thu Jan  1 00:00:00 1970
Return-Path: <test-report-bounces@dpdk.org>
Received: from mails.dpdk.org (mails.dpdk.org [217.70.189.124])
	by inbox.dpdk.org (Postfix) with ESMTP id 2EDD1432E6
	for <public@inbox.dpdk.org>; Thu,  9 Nov 2023 16:45:14 +0100 (CET)
Received: from mails.dpdk.org (localhost [127.0.0.1])
	by mails.dpdk.org (Postfix) with ESMTP id 26E8D40A72;
	Thu,  9 Nov 2023 16:45:14 +0100 (CET)
Received: from mail-pl1-f227.google.com (mail-pl1-f227.google.com
 [209.85.214.227])
 by mails.dpdk.org (Postfix) with ESMTP id 1AED240DCB
 for <test-report@dpdk.org>; Thu,  9 Nov 2023 16:45:13 +0100 (CET)
Received: by mail-pl1-f227.google.com with SMTP id
 d9443c01a7336-1cc394f4cdfso8462935ad.0
 for <test-report@dpdk.org>; Thu, 09 Nov 2023 07:45:13 -0800 (PST)
DKIM-Signature: v=1; a=rsa-sha256; c=relaxed/relaxed;
 d=iol.unh.edu; s=unh-iol; t=1699544712; x=1700149512; darn=dpdk.org;
 h=cc:to:from:subject:message-id:date:from:to:cc:subject:date
 :message-id:reply-to;
 bh=W5Cag4zdg4eL1ZXKyoD7if+KqYBYRFvBYLik2aTdrQk=;
 b=LZTCMnS5Jw/Y13jd2XSqaXYsY4dFYKU2L0GHdjkU/gmx23Eoll0HHcQa5+VpcQzZgO
 JQQv69TZPuGTds97XYUb/mCosiNdJ93dIus1daBR+JIPhTj0o0tH+qHaAEQjFh4JR0RK
 8i/Wa4L3+mAW+7fLkmUCGpuRwzthvj2FoWIVI=
X-Google-DKIM-Signature: v=1; a=rsa-sha256; c=relaxed/relaxed;
 d=1e100.net; s=20230601; t=1699544712; x=1700149512;
 h=cc:to:from:subject:message-id:date:x-gm-message-state:from:to:cc
 :subject:date:message-id:reply-to;
 bh=W5Cag4zdg4eL1ZXKyoD7if+KqYBYRFvBYLik2aTdrQk=;
 b=Y1KAeeD0VvP0G/8uOFN3yE4yWfXESoSzrOHh8kZjkTcxohWyrITgwYNjI5h6dSSNtn
 Ozn/Meyswz5MNH8MwWvPr9RfpAnf9M1gZOqX0uTUz7TZNZ3Lo92dX9qJe++EN8w8A6F6
 oTYjXyssyOg1rMEbUyJE0+uWI9GL80OKVnJa0E6zSJpq1um+p7hSvgGB9I097R/BVvwX
 ErkLwDfbRyRP7Kl5KBSHailjl5/UJQu68yd5+VUUXejrjsBGYgUub26xQbWzBxubDpwf
 IYLoZBDg8QI2oT6xihQ1b0lQJunvts8E85Qh7I+K7MFI1Gk9D1+eFTGRQxlkpXm0X4Ym
 x/ow==
X-Gm-Message-State: AOJu0YykJAXC3vOoaIZvQiRNIBCgaK9UttuPXbeM4ibVJIMkBKHODL5x
 jpHNiMeECp3kXtHScr/d+gwIHgZK8xyXoR87FVFNFYopcI0XCW5UP5FBIGmzuaELXp++Yc58hA=
 =
X-Google-Smtp-Source: AGHT+IFnOaVrWK73g2YUCZHezPI38uArXnCUNMOhqjWEjLCs+Zzc1I0QIyzfOo0/nx1yYLXH8bUkecUMKVK8
X-Received: by 2002:a17:902:a3c3:b0:1cc:3be6:b714 with SMTP id
 q3-20020a170902a3c300b001cc3be6b714mr3975599plb.23.1699544712352; 
 Thu, 09 Nov 2023 07:45:12 -0800 (PST)
Received: from postal.iol.unh.edu (postal.iol.unh.edu.
 [2606:4100:3880:1234::84]) by smtp-relay.gmail.com with ESMTPS id
 x18-20020a17090300d200b001cc411b5414sm629399plc.90.2023.11.09.07.45.12
 (version=TLS1_2 cipher=ECDHE-ECDSA-AES128-GCM-SHA256 bits=128/128);
 Thu, 09 Nov 2023 07:45:12 -0800 (PST)
X-Relaying-Domain: iol.unh.edu
Date: Thu, 09 Nov 2023 07:45:12 -0800 (PST)
Message-ID: <654cfe88.170a0220.da722.972dSMTPIN_ADDED_MISSING@mx.google.com>
Received: from [172.17.0.2] (unknown [172.18.0.213])
 by postal.iol.unh.edu (Postfix) with ESMTP id 7BBFE605C318;
 Thu,  9 Nov 2023 10:45:11 -0500 (EST)
Subject: |SUCCESS| pw134019 [PATCH] net/ena: fix coverity issues
From: dpdklab@iol.unh.edu
To: Test Report <test-report@dpdk.org>
Cc: dpdk-test-reports@iol.unh.edu
Content-Type: text/plain
X-BeenThere: test-report@dpdk.org
X-Mailman-Version: 2.1.29
Precedence: list
List-Id: automatic DPDK test reports <test-report.dpdk.org>
List-Unsubscribe: <https://mails.dpdk.org/options/test-report>,
 <mailto:test-report-request@dpdk.org?subject=unsubscribe>
List-Archive: <http://mails.dpdk.org/archives/test-report/>
List-Post: <mailto:test-report@dpdk.org>
List-Help: <mailto:test-report-request@dpdk.org?subject=help>
List-Subscribe: <https://mails.dpdk.org/listinfo/test-report>,
 <mailto:test-report-request@dpdk.org?subject=subscribe>
Errors-To: test-report-bounces@dpdk.org

Test-Label: iol-compile-amd64-testing
Test-Status: SUCCESS
http://dpdk.org/patch/134019

_Testing PASS_

Submitter: Brandes, Shai <shaibran@amazon.com>
Date: Thursday, November 09 2023 14:08:16 
DPDK git baseline: Repo:dpdk
  Branch: master
  CommitID:de0ec3c2458e3e2ce53e504c4ba92a36fcc78ef3

134019 --> testing pass

Test environment and result as below:

+---------------------+--------------------+----------------------+
|     Environment     | dpdk_meson_compile | dpdk_mingw64_compile |
+=====================+====================+======================+
| Fedora 37           | PASS               | SKIPPED              |
+---------------------+--------------------+----------------------+
| Debian Buster       | PASS               | SKIPPED              |
+---------------------+--------------------+----------------------+
| Debian Bullseye     | PASS               | SKIPPED              |
+---------------------+--------------------+----------------------+
| Fedora 38           | PASS               | SKIPPED              |
+---------------------+--------------------+----------------------+
| FreeBSD 13          | PASS               | SKIPPED              |
+---------------------+--------------------+----------------------+
| Ubuntu 20.04        | PASS               | SKIPPED              |
+---------------------+--------------------+----------------------+
| RHEL8               | PASS               | SKIPPED              |
+---------------------+--------------------+----------------------+
| openSUSE Leap 15    | PASS               | SKIPPED              |
+---------------------+--------------------+----------------------+
| Ubuntu 22.04        | PASS               | SKIPPED              |
+---------------------+--------------------+----------------------+
| CentOS Stream 9     | PASS               | SKIPPED              |
+---------------------+--------------------+----------------------+
| CentOS Stream 8     | PASS               | SKIPPED              |
+---------------------+--------------------+----------------------+
| Alpine              | PASS               | SKIPPED              |
+---------------------+--------------------+----------------------+
| Windows Server 2019 | PASS               | PASS                 |
+---------------------+--------------------+----------------------+


Fedora 37
	Kernel: Depends on container host system
	Compiler: gcc 12.3.1

Debian Buster
	Kernel: 5.4.0-122-generic
	Compiler: gcc 8.3.0-6

Debian Bullseye
	Kernel: 5.4.0-122-generic
	Compiler: gcc 10.2.1-6

Fedora 38
	Kernel: Depends on container host
	Compiler: gcc 13.1.1

FreeBSD 13
	Kernel: 13.0
	Compiler: clang 11.0.1

Ubuntu 20.04
	Kernel: 5.4.0-153-generic
	Compiler: gcc 9.4.0-1ubuntu1~20.04.1

RHEL8
	Kernel: 4.18.0-240.10.1.el8_3.x86_64
	Compiler: gcc 8.3.1 20191121 (Red Hat 8.3.1-5)

openSUSE Leap 15
	Kernel: 4.18.0-240.10.1.el8_3.x86_64
	Compiler: gcc 7.5.0

Ubuntu 22.04
	Kernel: 4.18.0-240.10.1.el8_3.x86_64
	Compiler: gcc 11.3.0

CentOS Stream 9
	Kernel: 4.18.0-240.10.1.el8_3.x86_64
	Compiler: gcc 11.3.1 20220421

CentOS Stream 8
	Kernel: 4.18.0-240.10.1.el8_3.x86_64
	Compiler: gcc 8.4.1 20200928

Alpine
	Kernel: 5.4.0-73-generic
	Compiler: gcc (Alpine 10.3.1_git20210424) 10.3.1 20210424

Windows Server 2019
	Kernel: 10.0
	Compiler: clang 14.0 and gcc 8.1.0 (MinGW)

To view detailed results, visit:
https://lab.dpdk.org/results/dashboard/patchsets/28301/

UNH-IOL DPDK Community Lab

To manage your email subscriptions, visit: 
https://lab.dpdk.org/results/dashboard/preferences/subscriptions/