From mboxrd@z Thu Jan  1 00:00:00 1970
Return-Path: <test-report-bounces@dpdk.org>
Received: from mails.dpdk.org (mails.dpdk.org [217.70.189.124])
	by inbox.dpdk.org (Postfix) with ESMTP id 52F8C432E6
	for <public@inbox.dpdk.org>; Thu,  9 Nov 2023 16:45:23 +0100 (CET)
Received: from mails.dpdk.org (localhost [127.0.0.1])
	by mails.dpdk.org (Postfix) with ESMTP id 4CC1C40DCB;
	Thu,  9 Nov 2023 16:45:23 +0100 (CET)
Received: from mail-yb1-f227.google.com (mail-yb1-f227.google.com
 [209.85.219.227])
 by mails.dpdk.org (Postfix) with ESMTP id 65D8340DC9
 for <test-report@dpdk.org>; Thu,  9 Nov 2023 16:45:19 +0100 (CET)
Received: by mail-yb1-f227.google.com with SMTP id
 3f1490d57ef6-da30fd994fdso1949117276.1
 for <test-report@dpdk.org>; Thu, 09 Nov 2023 07:45:19 -0800 (PST)
DKIM-Signature: v=1; a=rsa-sha256; c=relaxed/relaxed;
 d=iol.unh.edu; s=unh-iol; t=1699544719; x=1700149519; darn=dpdk.org;
 h=cc:to:from:subject:message-id:date:from:to:cc:subject:date
 :message-id:reply-to;
 bh=EuTCSwE7NSLfvzI8AmXBJjbL3P7yna7lt/jBIy1npn8=;
 b=bRmWQji5Zuz/3vSUN+2dJ1F4FCWIqMjgkR6cnjex5JYzkg8Ffjso83scNbREuOFX5V
 gm3s/i2xZaQuR1rC1bfVQDylzI3+R6s9yMo/ONhVNSMLNBDU/p8T3fpJl57fzgesL13U
 oWZRzb4TTlznkp+NspiGWKkgcpJmCFVlbmD9g=
X-Google-DKIM-Signature: v=1; a=rsa-sha256; c=relaxed/relaxed;
 d=1e100.net; s=20230601; t=1699544719; x=1700149519;
 h=cc:to:from:subject:message-id:date:x-gm-message-state:from:to:cc
 :subject:date:message-id:reply-to;
 bh=EuTCSwE7NSLfvzI8AmXBJjbL3P7yna7lt/jBIy1npn8=;
 b=M5VBmZTkRVN50DU6tq8mpb4zym//RE1EgbeStcPjD0f5IEsik/6GBDfd88alrAGLRQ
 67s7tFscjSF+eF6PeSbuB6KAc2qztNvGZreV5UW8ErGqZ96gq+RTgKP340QPOL+YYKYX
 ySivR1K+fljpa+efxqF3wf/s3J35/ZY9Z/9tszVCiOlkHL8kCnJWmNQemyYr2gkgCuhN
 jGIJGpvyP8BJx0aMYg855xpCb+MoDnqjMxFUadU9NLT1HkC/8lYgs0X+tNev+lg5KQRG
 BmLf7/6j7GLVRMdtwayJCwkymfWJcfrQJRtoGgd6nKkPjDDeIq5ssw3/tfIhucmzZWUV
 ZO4Q==
X-Gm-Message-State: AOJu0YxXk6Z76/hwWs8QNC6Auvt1T0yOUUOo6b5vJ6/XR/S4I7YJkYuH
 l6VlRnHDAHXxizXCsz1bIgztfs4wTqDpZFf2lwsFjimI9S26k3LqZSkNk+gosfdlLiAtyUB50A=
 =
X-Google-Smtp-Source: AGHT+IGEwdFXNZNJY0BxIB62Agu5s0NL3QXW/bcUs4HzxJa9OMOAYoY6xBN5BMokBv8eSeF/tl+FVdWCcfnZ
X-Received: by 2002:a25:da15:0:b0:da0:81da:e4df with SMTP id
 n21-20020a25da15000000b00da081dae4dfmr4659969ybf.13.1699544718816; 
 Thu, 09 Nov 2023 07:45:18 -0800 (PST)
Received: from postal.iol.unh.edu (postal.iol.unh.edu.
 [2606:4100:3880:1234::84]) by smtp-relay.gmail.com with ESMTPS id
 85-20020a250458000000b00d814bcd917fsm1322603ybe.13.2023.11.09.07.45.18
 (version=TLS1_2 cipher=ECDHE-ECDSA-AES128-GCM-SHA256 bits=128/128);
 Thu, 09 Nov 2023 07:45:18 -0800 (PST)
X-Relaying-Domain: iol.unh.edu
Date: Thu, 09 Nov 2023 07:45:18 -0800 (PST)
Message-ID: <654cfe8e.250a0220.e8e24.fe29SMTPIN_ADDED_MISSING@mx.google.com>
Received: from [172.21.0.2] (unknown [172.18.0.240])
 by postal.iol.unh.edu (Postfix) with ESMTP id 85F6A605C319;
 Thu,  9 Nov 2023 10:45:18 -0500 (EST)
Subject: |SUCCESS| pw134019 [PATCH] net/ena: fix coverity issues
From: dpdklab@iol.unh.edu
To: Test Report <test-report@dpdk.org>
Cc: dpdk-test-reports@iol.unh.edu
Content-Type: text/plain
X-BeenThere: test-report@dpdk.org
X-Mailman-Version: 2.1.29
Precedence: list
List-Id: automatic DPDK test reports <test-report.dpdk.org>
List-Unsubscribe: <https://mails.dpdk.org/options/test-report>,
 <mailto:test-report-request@dpdk.org?subject=unsubscribe>
List-Archive: <http://mails.dpdk.org/archives/test-report/>
List-Post: <mailto:test-report@dpdk.org>
List-Help: <mailto:test-report-request@dpdk.org?subject=help>
List-Subscribe: <https://mails.dpdk.org/listinfo/test-report>,
 <mailto:test-report-request@dpdk.org?subject=subscribe>
Errors-To: test-report-bounces@dpdk.org

Test-Label: iol-unit-amd64-testing
Test-Status: SUCCESS
http://dpdk.org/patch/134019

_Testing PASS_

Submitter: Brandes, Shai <shaibran@amazon.com>
Date: Thursday, November 09 2023 14:08:16 
DPDK git baseline: Repo:dpdk
  Branch: master
  CommitID:de0ec3c2458e3e2ce53e504c4ba92a36fcc78ef3

134019 --> testing pass

Test environment and result as below:

+------------------+----------------+
|   Environment    | dpdk_unit_test |
+==================+================+
| CentOS Stream 9  | PASS           |
+------------------+----------------+
| CentOS Stream 8  | PASS           |
+------------------+----------------+
| Debian Buster    | PASS           |
+------------------+----------------+
| Debian Bullseye  | PASS           |
+------------------+----------------+
| Fedora 38        | PASS           |
+------------------+----------------+
| Fedora 37        | PASS           |
+------------------+----------------+
| Ubuntu 22.04     | PASS           |
+------------------+----------------+
| RHEL8            | PASS           |
+------------------+----------------+
| openSUSE Leap 15 | PASS           |
+------------------+----------------+
| Ubuntu 20.04     | PASS           |
+------------------+----------------+


CentOS Stream 9
	Kernel: 4.18.0-240.10.1.el8_3.x86_64
	Compiler: gcc 11.3.1 20220421

CentOS Stream 8
	Kernel: 4.18.0-240.10.1.el8_3.x86_64
	Compiler: gcc 8.4.1 20200928

Debian Buster
	Kernel: 5.4.0-122-generic
	Compiler: gcc 8.3.0-6

Debian Bullseye
	Kernel: 5.4.0-122-generic
	Compiler: gcc 10.2.1-6

Fedora 38
	Kernel: Depends on container host
	Compiler: gcc 13.1.1

Fedora 37
	Kernel: Depends on container host system
	Compiler: gcc 12.3.1

Ubuntu 22.04
	Kernel: 4.18.0-240.10.1.el8_3.x86_64
	Compiler: gcc 11.3.0

RHEL8
	Kernel: 4.18.0-240.10.1.el8_3.x86_64
	Compiler: gcc 8.3.1 20191121 (Red Hat 8.3.1-5)

openSUSE Leap 15
	Kernel: 4.18.0-240.10.1.el8_3.x86_64
	Compiler: gcc 7.5.0

Ubuntu 20.04
	Kernel: 5.4.0-153-generic
	Compiler: gcc 9.4.0-1ubuntu1~20.04.1

To view detailed results, visit:
https://lab.dpdk.org/results/dashboard/patchsets/28301/

UNH-IOL DPDK Community Lab

To manage your email subscriptions, visit: 
https://lab.dpdk.org/results/dashboard/preferences/subscriptions/