From mboxrd@z Thu Jan  1 00:00:00 1970
Return-Path: <test-report-bounces@dpdk.org>
Received: from mails.dpdk.org (mails.dpdk.org [217.70.189.124])
	by inbox.dpdk.org (Postfix) with ESMTP id 759484332B
	for <public@inbox.dpdk.org>; Tue, 14 Nov 2023 14:41:51 +0100 (CET)
Received: from mails.dpdk.org (localhost [127.0.0.1])
	by mails.dpdk.org (Postfix) with ESMTP id 7142B40279;
	Tue, 14 Nov 2023 14:41:51 +0100 (CET)
Received: from mail-ej1-f99.google.com (mail-ej1-f99.google.com
 [209.85.218.99]) by mails.dpdk.org (Postfix) with ESMTP id 582FA40279
 for <test-report@dpdk.org>; Tue, 14 Nov 2023 14:41:50 +0100 (CET)
Received: by mail-ej1-f99.google.com with SMTP id
 a640c23a62f3a-9d242846194so824043766b.1
 for <test-report@dpdk.org>; Tue, 14 Nov 2023 05:41:50 -0800 (PST)
DKIM-Signature: v=1; a=rsa-sha256; c=relaxed/relaxed;
 d=iol.unh.edu; s=unh-iol; t=1699969310; x=1700574110; darn=dpdk.org;
 h=cc:to:from:subject:message-id:date:from:to:cc:subject:date
 :message-id:reply-to;
 bh=wDefK1Re72RBKNFEy0IUOhNMnkWEYIdHjFJ5EutHGU0=;
 b=G1POOfMTNKfxu2U5pjBg/u1t+b5x1kSBsD2tLMEp77n8mRR8MC2mCMDtUvURAUtGiL
 k13Q2APDG8/pty6QtEAIn2WIeRABVvXLBwzYu35bJ1l/oDJ8ZP6i+WBCGBu6frLetW3L
 hViuGS5P+l6RUhYbd48MHCBkZPxA7lIBdRSs8=
X-Google-DKIM-Signature: v=1; a=rsa-sha256; c=relaxed/relaxed;
 d=1e100.net; s=20230601; t=1699969310; x=1700574110;
 h=cc:to:from:subject:message-id:date:x-gm-message-state:from:to:cc
 :subject:date:message-id:reply-to;
 bh=wDefK1Re72RBKNFEy0IUOhNMnkWEYIdHjFJ5EutHGU0=;
 b=vWzXoRfwSwLbE8Dv7tzgPhRrlb0g1zd0FzFnAWMjxI+JHNbdXKi1GrFD0lUjseWMAm
 zYaWDre+E/XQkUkECWx62R0HQO8bmhkR/9xuRQYlOJPspYf7LCbe98HhdESuAVaPYSix
 F0VemOD9RDlw0Pcj0dOxjKdfLZwM2tAiTYS49V/cFUoJNYs5oZ5o40Apw0uXKQNWqDld
 W9xIc+tzq+ADz0VRkXgyF05ya93gtnFgZ+++SXQ1Jau4u7AR0mAJ767SWy6P0j3Lcogv
 bzHfqhudlf2DjhwEbF9W6t5mECVxGKGMMN/oicoV55BlcKTHHVSdSIApQD9pJ1ZKSEbj
 SgXQ==
X-Gm-Message-State: AOJu0Ywq+7+v47PeVg1hGPoYQ3vAzbEQj8oVdfJOwdh7XHG65CfIlsRd
 pLQrFwe11E8D1bR9PQSbHW7wp6jrIlYnl3P3miuyJWus7I+wYOPLokAvHg==
X-Google-Smtp-Source: AGHT+IFlukcsMVRz9RixQae14NHYFh6u4pZTfMmBBjaTV6tvEq7suDpTcfsMIrCUQ+REg9CKFXlQ2jNuBSPG
X-Received: by 2002:a17:907:20f3:b0:9c3:bb0e:d4c7 with SMTP id
 rh19-20020a17090720f300b009c3bb0ed4c7mr6289784ejb.28.1699969309918; 
 Tue, 14 Nov 2023 05:41:49 -0800 (PST)
Received: from postal.iol.unh.edu (postal.iol.unh.edu. [132.177.123.84])
 by smtp-relay.gmail.com with ESMTPS id
 y19-20020a170906519300b009b92b7579b3sm2177511ejk.257.2023.11.14.05.41.49
 (version=TLS1_2 cipher=ECDHE-ECDSA-AES128-GCM-SHA256 bits=128/128);
 Tue, 14 Nov 2023 05:41:49 -0800 (PST)
X-Relaying-Domain: iol.unh.edu
Date: Tue, 14 Nov 2023 05:41:49 -0800 (PST)
Message-ID: <6553791d.170a0220.4f406.d075SMTPIN_ADDED_MISSING@mx.google.com>
Received: from [172.21.0.2] (unknown [172.18.0.240])
 by postal.iol.unh.edu (Postfix) with ESMTP id 1CE71605C318;
 Tue, 14 Nov 2023 08:41:49 -0500 (EST)
Subject: |SUCCESS| pw134257 [PATCH] vfio: add get device info API
From: dpdklab@iol.unh.edu
To: Test Report <test-report@dpdk.org>
Cc: dpdk-test-reports@iol.unh.edu
Content-Type: text/plain
X-BeenThere: test-report@dpdk.org
X-Mailman-Version: 2.1.29
Precedence: list
List-Id: automatic DPDK test reports <test-report.dpdk.org>
List-Unsubscribe: <https://mails.dpdk.org/options/test-report>,
 <mailto:test-report-request@dpdk.org?subject=unsubscribe>
List-Archive: <http://mails.dpdk.org/archives/test-report/>
List-Post: <mailto:test-report@dpdk.org>
List-Help: <mailto:test-report-request@dpdk.org?subject=help>
List-Subscribe: <https://mails.dpdk.org/listinfo/test-report>,
 <mailto:test-report-request@dpdk.org?subject=subscribe>
Errors-To: test-report-bounces@dpdk.org

Test-Label: iol-compile-amd64-testing
Test-Status: SUCCESS
http://dpdk.org/patch/134257

_Testing PASS_

Submitter: Mingjin Ye <mingjinx.ye@intel.com>
Date: Tuesday, November 14 2023 10:48:16 
DPDK git baseline: Repo:dpdk
  Branch: master
  CommitID:737faa1b4331f6395bc3a665159a489f404e6052

134257 --> testing pass

Test environment and result as below:

+---------------------+--------------------+----------------------+
|     Environment     | dpdk_meson_compile | dpdk_mingw64_compile |
+=====================+====================+======================+
| FreeBSD 13          | PASS               | SKIPPED              |
+---------------------+--------------------+----------------------+
| Debian Buster       | PASS               | SKIPPED              |
+---------------------+--------------------+----------------------+
| CentOS Stream 8     | PASS               | SKIPPED              |
+---------------------+--------------------+----------------------+
| CentOS Stream 9     | PASS               | SKIPPED              |
+---------------------+--------------------+----------------------+
| Fedora 37           | PASS               | SKIPPED              |
+---------------------+--------------------+----------------------+
| Fedora 38           | PASS               | SKIPPED              |
+---------------------+--------------------+----------------------+
| Ubuntu 22.04        | PASS               | SKIPPED              |
+---------------------+--------------------+----------------------+
| Ubuntu 20.04        | PASS               | SKIPPED              |
+---------------------+--------------------+----------------------+
| openSUSE Leap 15    | PASS               | SKIPPED              |
+---------------------+--------------------+----------------------+
| RHEL8               | PASS               | SKIPPED              |
+---------------------+--------------------+----------------------+
| Alpine              | PASS               | SKIPPED              |
+---------------------+--------------------+----------------------+
| Windows Server 2019 | PASS               | PASS                 |
+---------------------+--------------------+----------------------+
| Debian Bullseye     | PASS               | SKIPPED              |
+---------------------+--------------------+----------------------+


FreeBSD 13
	Kernel: 13.0
	Compiler: clang 11.0.1

Debian Buster
	Kernel: 5.4.0-122-generic
	Compiler: gcc 8.3.0-6

CentOS Stream 8
	Kernel: 4.18.0-240.10.1.el8_3.x86_64
	Compiler: gcc 8.4.1 20200928

CentOS Stream 9
	Kernel: 4.18.0-240.10.1.el8_3.x86_64
	Compiler: gcc 11.3.1 20220421

Fedora 37
	Kernel: Depends on container host system
	Compiler: gcc 12.3.1

Fedora 38
	Kernel: Depends on container host
	Compiler: gcc 13.1.1

Ubuntu 22.04
	Kernel: 4.18.0-240.10.1.el8_3.x86_64
	Compiler: gcc 11.3.0

Ubuntu 20.04
	Kernel: 5.4.0-153-generic
	Compiler: gcc 9.4.0-1ubuntu1~20.04.1

openSUSE Leap 15
	Kernel: 4.18.0-240.10.1.el8_3.x86_64
	Compiler: gcc 7.5.0

RHEL8
	Kernel: 4.18.0-240.10.1.el8_3.x86_64
	Compiler: gcc 8.3.1 20191121 (Red Hat 8.3.1-5)

Alpine
	Kernel: 5.4.0-73-generic
	Compiler: gcc (Alpine 10.3.1_git20210424) 10.3.1 20210424

Windows Server 2019
	Kernel: 10.0
	Compiler: clang 14.0 and gcc 8.1.0 (MinGW)

Debian Bullseye
	Kernel: 5.4.0-122-generic
	Compiler: gcc 10.2.1-6

To view detailed results, visit:
https://lab.dpdk.org/results/dashboard/patchsets/28374/

UNH-IOL DPDK Community Lab

To manage your email subscriptions, visit: 
https://lab.dpdk.org/results/dashboard/preferences/subscriptions/