From mboxrd@z Thu Jan  1 00:00:00 1970
Return-Path: <test-report-bounces@dpdk.org>
Received: from mails.dpdk.org (mails.dpdk.org [217.70.189.124])
	by inbox.dpdk.org (Postfix) with ESMTP id 9F66D4332B
	for <public@inbox.dpdk.org>; Tue, 14 Nov 2023 14:42:40 +0100 (CET)
Received: from mails.dpdk.org (localhost [127.0.0.1])
	by mails.dpdk.org (Postfix) with ESMTP id 9B92E40279;
	Tue, 14 Nov 2023 14:42:40 +0100 (CET)
Received: from mail-ed1-f98.google.com (mail-ed1-f98.google.com
 [209.85.208.98]) by mails.dpdk.org (Postfix) with ESMTP id A625940279
 for <test-report@dpdk.org>; Tue, 14 Nov 2023 14:42:39 +0100 (CET)
Received: by mail-ed1-f98.google.com with SMTP id
 4fb4d7f45d1cf-53d9f001b35so8514517a12.2
 for <test-report@dpdk.org>; Tue, 14 Nov 2023 05:42:39 -0800 (PST)
DKIM-Signature: v=1; a=rsa-sha256; c=relaxed/relaxed;
 d=iol.unh.edu; s=unh-iol; t=1699969359; x=1700574159; darn=dpdk.org;
 h=cc:to:from:subject:message-id:date:from:to:cc:subject:date
 :message-id:reply-to;
 bh=wDefK1Re72RBKNFEy0IUOhNMnkWEYIdHjFJ5EutHGU0=;
 b=f817y0PpZ/xvWX/gkZDEsmsmi4zHk3295cH/Nom+pqCH3eySeESR5yaaJrT3ORrAmi
 HU3OJav/KXUNoggLcNI6+Vtv9Wb9eRzL9PoYEnVuxjMeMtwpHkEZ9TUlrDoDhRtVXCR2
 Vkok5k2SccdCxfRLhY4HLnodJAG6aTmzlxFBk=
X-Google-DKIM-Signature: v=1; a=rsa-sha256; c=relaxed/relaxed;
 d=1e100.net; s=20230601; t=1699969359; x=1700574159;
 h=cc:to:from:subject:message-id:date:x-gm-message-state:from:to:cc
 :subject:date:message-id:reply-to;
 bh=wDefK1Re72RBKNFEy0IUOhNMnkWEYIdHjFJ5EutHGU0=;
 b=FXht8Fxn1NAfm1sTf66z/kKyAAWLc3qMJTmQGb4HTFE8e1t9npgWGO9DaVo3zF9NN2
 c7bjoRDKemAWyHSpcQl52DjuF7seFFSmf/tbetax3v31hHWreAFANb60JIepiSkf8AHH
 uqykFqAx9UX03fYS1bisMgRgGJJLFo54pW9rVrBqd6wONzlmJwYw9A88vieHJ+pfOq60
 tajQpa4Ypr9ozY/ASxEvf012oIxkM7uMK+JAA6nna8DOMXTBkqhqqXTb8X8vDIdEqNRL
 7a7KiI+16nstPFgIOq6A3+kYGyUABLC3cR1Jx35j2aiWRko/tcWzQ3NjTpAOipw7/fXy
 j7CA==
X-Gm-Message-State: AOJu0Yz4nVBL6AfPYxeqX3+4SgvjgE/ZLObArOdejvgYJDZk9XhZnuZn
 RpmALSjlliD/t+3ZwagKWjETl9o1PYLOJSqqX9TeXwUsXNX5QIc5Q+4fdw==
X-Google-Smtp-Source: AGHT+IFdEho+gWbOrLeGtfU0ZZSP4deWi8DFpqz1W9QOQqSToQkkOgujVMVRmn7PLtLiKT9+/yV7BrPA2q35
X-Received: by 2002:a17:906:dc9:b0:9c7:db3:8b31 with SMTP id
 p9-20020a1709060dc900b009c70db38b31mr7300826eji.59.1699969359348; 
 Tue, 14 Nov 2023 05:42:39 -0800 (PST)
Received: from postal.iol.unh.edu (postal.iol.unh.edu. [132.177.123.84])
 by smtp-relay.gmail.com with ESMTPS id
 ox26-20020a170907101a00b009e6dd50a00dsm2154071ejb.127.2023.11.14.05.42.39
 (version=TLS1_2 cipher=ECDHE-ECDSA-AES128-GCM-SHA256 bits=128/128);
 Tue, 14 Nov 2023 05:42:39 -0800 (PST)
X-Relaying-Domain: iol.unh.edu
Date: Tue, 14 Nov 2023 05:42:39 -0800 (PST)
Message-ID: <6553794f.170a0220.9aa87.ac99SMTPIN_ADDED_MISSING@mx.google.com>
Received: from [172.21.0.2] (unknown [172.18.0.240])
 by postal.iol.unh.edu (Postfix) with ESMTP id 87F5F605C318;
 Tue, 14 Nov 2023 08:42:38 -0500 (EST)
Subject: |SUCCESS| pw134257 [PATCH] vfio: add get device info API
From: dpdklab@iol.unh.edu
To: Test Report <test-report@dpdk.org>
Cc: dpdk-test-reports@iol.unh.edu
Content-Type: text/plain
X-BeenThere: test-report@dpdk.org
X-Mailman-Version: 2.1.29
Precedence: list
List-Id: automatic DPDK test reports <test-report.dpdk.org>
List-Unsubscribe: <https://mails.dpdk.org/options/test-report>,
 <mailto:test-report-request@dpdk.org?subject=unsubscribe>
List-Archive: <http://mails.dpdk.org/archives/test-report/>
List-Post: <mailto:test-report@dpdk.org>
List-Help: <mailto:test-report-request@dpdk.org?subject=help>
List-Subscribe: <https://mails.dpdk.org/listinfo/test-report>,
 <mailto:test-report-request@dpdk.org?subject=subscribe>
Errors-To: test-report-bounces@dpdk.org

Test-Label: iol-compile-amd64-testing
Test-Status: SUCCESS
http://dpdk.org/patch/134257

_Testing PASS_

Submitter: Mingjin Ye <mingjinx.ye@intel.com>
Date: Tuesday, November 14 2023 10:48:16 
DPDK git baseline: Repo:dpdk
  Branch: master
  CommitID:737faa1b4331f6395bc3a665159a489f404e6052

134257 --> testing pass

Test environment and result as below:

+---------------------+--------------------+----------------------+
|     Environment     | dpdk_meson_compile | dpdk_mingw64_compile |
+=====================+====================+======================+
| FreeBSD 13          | PASS               | SKIPPED              |
+---------------------+--------------------+----------------------+
| Debian Buster       | PASS               | SKIPPED              |
+---------------------+--------------------+----------------------+
| CentOS Stream 8     | PASS               | SKIPPED              |
+---------------------+--------------------+----------------------+
| CentOS Stream 9     | PASS               | SKIPPED              |
+---------------------+--------------------+----------------------+
| Fedora 37           | PASS               | SKIPPED              |
+---------------------+--------------------+----------------------+
| Fedora 38           | PASS               | SKIPPED              |
+---------------------+--------------------+----------------------+
| Ubuntu 22.04        | PASS               | SKIPPED              |
+---------------------+--------------------+----------------------+
| Ubuntu 20.04        | PASS               | SKIPPED              |
+---------------------+--------------------+----------------------+
| openSUSE Leap 15    | PASS               | SKIPPED              |
+---------------------+--------------------+----------------------+
| RHEL8               | PASS               | SKIPPED              |
+---------------------+--------------------+----------------------+
| Alpine              | PASS               | SKIPPED              |
+---------------------+--------------------+----------------------+
| Windows Server 2019 | PASS               | PASS                 |
+---------------------+--------------------+----------------------+
| Debian Bullseye     | PASS               | SKIPPED              |
+---------------------+--------------------+----------------------+


FreeBSD 13
	Kernel: 13.0
	Compiler: clang 11.0.1

Debian Buster
	Kernel: 5.4.0-122-generic
	Compiler: gcc 8.3.0-6

CentOS Stream 8
	Kernel: 4.18.0-240.10.1.el8_3.x86_64
	Compiler: gcc 8.4.1 20200928

CentOS Stream 9
	Kernel: 4.18.0-240.10.1.el8_3.x86_64
	Compiler: gcc 11.3.1 20220421

Fedora 37
	Kernel: Depends on container host system
	Compiler: gcc 12.3.1

Fedora 38
	Kernel: Depends on container host
	Compiler: gcc 13.1.1

Ubuntu 22.04
	Kernel: 4.18.0-240.10.1.el8_3.x86_64
	Compiler: gcc 11.3.0

Ubuntu 20.04
	Kernel: 5.4.0-153-generic
	Compiler: gcc 9.4.0-1ubuntu1~20.04.1

openSUSE Leap 15
	Kernel: 4.18.0-240.10.1.el8_3.x86_64
	Compiler: gcc 7.5.0

RHEL8
	Kernel: 4.18.0-240.10.1.el8_3.x86_64
	Compiler: gcc 8.3.1 20191121 (Red Hat 8.3.1-5)

Alpine
	Kernel: 5.4.0-73-generic
	Compiler: gcc (Alpine 10.3.1_git20210424) 10.3.1 20210424

Windows Server 2019
	Kernel: 10.0
	Compiler: clang 14.0 and gcc 8.1.0 (MinGW)

Debian Bullseye
	Kernel: 5.4.0-122-generic
	Compiler: gcc 10.2.1-6

To view detailed results, visit:
https://lab.dpdk.org/results/dashboard/patchsets/28374/

UNH-IOL DPDK Community Lab

To manage your email subscriptions, visit: 
https://lab.dpdk.org/results/dashboard/preferences/subscriptions/