From mboxrd@z Thu Jan  1 00:00:00 1970
Return-Path: <test-report-bounces@dpdk.org>
Received: from mails.dpdk.org (mails.dpdk.org [217.70.189.124])
	by inbox.dpdk.org (Postfix) with ESMTP id 0DE414332B
	for <public@inbox.dpdk.org>; Tue, 14 Nov 2023 14:44:21 +0100 (CET)
Received: from mails.dpdk.org (localhost [127.0.0.1])
	by mails.dpdk.org (Postfix) with ESMTP id 091AF40279;
	Tue, 14 Nov 2023 14:44:21 +0100 (CET)
Received: from mail-wm1-f99.google.com (mail-wm1-f99.google.com
 [209.85.128.99]) by mails.dpdk.org (Postfix) with ESMTP id 5D74E40279
 for <test-report@dpdk.org>; Tue, 14 Nov 2023 14:44:19 +0100 (CET)
Received: by mail-wm1-f99.google.com with SMTP id
 5b1f17b1804b1-40842752c6eso46322275e9.1
 for <test-report@dpdk.org>; Tue, 14 Nov 2023 05:44:19 -0800 (PST)
DKIM-Signature: v=1; a=rsa-sha256; c=relaxed/relaxed;
 d=iol.unh.edu; s=unh-iol; t=1699969459; x=1700574259; darn=dpdk.org;
 h=cc:to:from:subject:message-id:date:from:to:cc:subject:date
 :message-id:reply-to;
 bh=wDefK1Re72RBKNFEy0IUOhNMnkWEYIdHjFJ5EutHGU0=;
 b=h8TSv8vc0g8p3rpX7kwYL1qu8VIIEFO7jWjcgUtMK2mdn+gN81NPkPtuCjAoH3lV1B
 mYYx4eVM6LLnWUVth27thQXGfA1ejR93SQNpcfYAbtWg85hOzhOfLciQRZDLyMRQTjkA
 miedNs5yggC+Zw2jhh5xE4mqgv68HJD0gWUns=
X-Google-DKIM-Signature: v=1; a=rsa-sha256; c=relaxed/relaxed;
 d=1e100.net; s=20230601; t=1699969459; x=1700574259;
 h=cc:to:from:subject:message-id:date:x-gm-message-state:from:to:cc
 :subject:date:message-id:reply-to;
 bh=wDefK1Re72RBKNFEy0IUOhNMnkWEYIdHjFJ5EutHGU0=;
 b=AiE1BsJT8wW2wP9W24Sjd0ox/kb1xsf1FXdZpz3jsxfdLLgqYI1oGcwWrGuzTd7EzG
 p0UiXIrfCqHsnRZ8hXAq0SA6giRBXLqobmeqlAu6WOffEOY7QIf6qFRzO7MMbv5QYqYU
 SpcUdF13HLPG5MeJ1sHnpf87hh57UTbGaz1r9jy3XdhzMMtkCUfip3q1HRFg65tAM5jZ
 C7NtGhRLosQSMnPZ4x7HSlmXmAK1F5MTfufNO3hyDlAufkB6xLr1ErKYR2rBYVlKUfUl
 NdtJaM8z2TACMQCksqsNiyHaN2Rc27eLBCUNwnHUYv+xLA4yvhuezCcaDBWYpjEmN3Zp
 6gVg==
X-Gm-Message-State: AOJu0YwJ3G7Uwv7HGYEwzGTJBTMqYexXfYw6NscqhornC7vvQBsVSPf0
 01ZxnDDK00E4bvLD5B2QGymMJyNbtgxDtE6FDD8nUMC8ltryEQIUoR39Gg==
X-Google-Smtp-Source: AGHT+IF+udc6DdaVwohAN/8pw8AV10LJLuJXUvpZyY7Ad87XKuJrQLSel/rCpZY0VwMw6fcCpyhrKyonj5u5
X-Received: by 2002:a05:600c:1383:b0:3ff:ca80:eda3 with SMTP id
 u3-20020a05600c138300b003ffca80eda3mr8427422wmf.10.1699969459106; 
 Tue, 14 Nov 2023 05:44:19 -0800 (PST)
Received: from postal.iol.unh.edu (postal.iol.unh.edu. [132.177.123.84])
 by smtp-relay.gmail.com with ESMTPS id
 a9-20020a05600c348900b004063e3ab343sm6038064wmq.53.2023.11.14.05.44.18
 (version=TLS1_2 cipher=ECDHE-ECDSA-AES128-GCM-SHA256 bits=128/128);
 Tue, 14 Nov 2023 05:44:19 -0800 (PST)
X-Relaying-Domain: iol.unh.edu
Date: Tue, 14 Nov 2023 05:44:19 -0800 (PST)
Message-ID: <655379b3.050a0220.160be.a31dSMTPIN_ADDED_MISSING@mx.google.com>
Received: from [172.21.0.2] (unknown [172.18.0.240])
 by postal.iol.unh.edu (Postfix) with ESMTP id 3ABB1605C318;
 Tue, 14 Nov 2023 08:44:18 -0500 (EST)
Subject: |SUCCESS| pw134257 [PATCH] vfio: add get device info API
From: dpdklab@iol.unh.edu
To: Test Report <test-report@dpdk.org>
Cc: dpdk-test-reports@iol.unh.edu
Content-Type: text/plain
X-BeenThere: test-report@dpdk.org
X-Mailman-Version: 2.1.29
Precedence: list
List-Id: automatic DPDK test reports <test-report.dpdk.org>
List-Unsubscribe: <https://mails.dpdk.org/options/test-report>,
 <mailto:test-report-request@dpdk.org?subject=unsubscribe>
List-Archive: <http://mails.dpdk.org/archives/test-report/>
List-Post: <mailto:test-report@dpdk.org>
List-Help: <mailto:test-report-request@dpdk.org?subject=help>
List-Subscribe: <https://mails.dpdk.org/listinfo/test-report>,
 <mailto:test-report-request@dpdk.org?subject=subscribe>
Errors-To: test-report-bounces@dpdk.org

Test-Label: iol-compile-amd64-testing
Test-Status: SUCCESS
http://dpdk.org/patch/134257

_Testing PASS_

Submitter: Mingjin Ye <mingjinx.ye@intel.com>
Date: Tuesday, November 14 2023 10:48:16 
DPDK git baseline: Repo:dpdk
  Branch: master
  CommitID:737faa1b4331f6395bc3a665159a489f404e6052

134257 --> testing pass

Test environment and result as below:

+---------------------+--------------------+----------------------+
|     Environment     | dpdk_meson_compile | dpdk_mingw64_compile |
+=====================+====================+======================+
| FreeBSD 13          | PASS               | SKIPPED              |
+---------------------+--------------------+----------------------+
| Debian Buster       | PASS               | SKIPPED              |
+---------------------+--------------------+----------------------+
| CentOS Stream 8     | PASS               | SKIPPED              |
+---------------------+--------------------+----------------------+
| CentOS Stream 9     | PASS               | SKIPPED              |
+---------------------+--------------------+----------------------+
| Fedora 37           | PASS               | SKIPPED              |
+---------------------+--------------------+----------------------+
| Fedora 38           | PASS               | SKIPPED              |
+---------------------+--------------------+----------------------+
| Ubuntu 22.04        | PASS               | SKIPPED              |
+---------------------+--------------------+----------------------+
| Ubuntu 20.04        | PASS               | SKIPPED              |
+---------------------+--------------------+----------------------+
| openSUSE Leap 15    | PASS               | SKIPPED              |
+---------------------+--------------------+----------------------+
| RHEL8               | PASS               | SKIPPED              |
+---------------------+--------------------+----------------------+
| Alpine              | PASS               | SKIPPED              |
+---------------------+--------------------+----------------------+
| Windows Server 2019 | PASS               | PASS                 |
+---------------------+--------------------+----------------------+
| Debian Bullseye     | PASS               | SKIPPED              |
+---------------------+--------------------+----------------------+


FreeBSD 13
	Kernel: 13.0
	Compiler: clang 11.0.1

Debian Buster
	Kernel: 5.4.0-122-generic
	Compiler: gcc 8.3.0-6

CentOS Stream 8
	Kernel: 4.18.0-240.10.1.el8_3.x86_64
	Compiler: gcc 8.4.1 20200928

CentOS Stream 9
	Kernel: 4.18.0-240.10.1.el8_3.x86_64
	Compiler: gcc 11.3.1 20220421

Fedora 37
	Kernel: Depends on container host system
	Compiler: gcc 12.3.1

Fedora 38
	Kernel: Depends on container host
	Compiler: gcc 13.1.1

Ubuntu 22.04
	Kernel: 4.18.0-240.10.1.el8_3.x86_64
	Compiler: gcc 11.3.0

Ubuntu 20.04
	Kernel: 5.4.0-153-generic
	Compiler: gcc 9.4.0-1ubuntu1~20.04.1

openSUSE Leap 15
	Kernel: 4.18.0-240.10.1.el8_3.x86_64
	Compiler: gcc 7.5.0

RHEL8
	Kernel: 4.18.0-240.10.1.el8_3.x86_64
	Compiler: gcc 8.3.1 20191121 (Red Hat 8.3.1-5)

Alpine
	Kernel: 5.4.0-73-generic
	Compiler: gcc (Alpine 10.3.1_git20210424) 10.3.1 20210424

Windows Server 2019
	Kernel: 10.0
	Compiler: clang 14.0 and gcc 8.1.0 (MinGW)

Debian Bullseye
	Kernel: 5.4.0-122-generic
	Compiler: gcc 10.2.1-6

To view detailed results, visit:
https://lab.dpdk.org/results/dashboard/patchsets/28374/

UNH-IOL DPDK Community Lab

To manage your email subscriptions, visit: 
https://lab.dpdk.org/results/dashboard/preferences/subscriptions/