From mboxrd@z Thu Jan  1 00:00:00 1970
Return-Path: <test-report-bounces@dpdk.org>
Received: from mails.dpdk.org (mails.dpdk.org [217.70.189.124])
	by inbox.dpdk.org (Postfix) with ESMTP id 37A724332B
	for <public@inbox.dpdk.org>; Tue, 14 Nov 2023 14:45:00 +0100 (CET)
Received: from mails.dpdk.org (localhost [127.0.0.1])
	by mails.dpdk.org (Postfix) with ESMTP id 3295340279;
	Tue, 14 Nov 2023 14:45:00 +0100 (CET)
Received: from mail-lj1-f228.google.com (mail-lj1-f228.google.com
 [209.85.208.228])
 by mails.dpdk.org (Postfix) with ESMTP id CCE1640279
 for <test-report@dpdk.org>; Tue, 14 Nov 2023 14:44:58 +0100 (CET)
Received: by mail-lj1-f228.google.com with SMTP id
 38308e7fff4ca-2c594196344so72227541fa.3
 for <test-report@dpdk.org>; Tue, 14 Nov 2023 05:44:58 -0800 (PST)
DKIM-Signature: v=1; a=rsa-sha256; c=relaxed/relaxed;
 d=iol.unh.edu; s=unh-iol; t=1699969498; x=1700574298; darn=dpdk.org;
 h=cc:to:from:subject:message-id:date:from:to:cc:subject:date
 :message-id:reply-to;
 bh=nej7Ufey8uHM34Ml224iOQBstleJPKc+WybNFhnuU8E=;
 b=iluIGZAX7IdJflAeI7n4w1++auK7DXN37kUQ3yTUcR/nxyLBUif13RGN5LDX0V8aUP
 u9GSI0c+/yuin7so2/uekW+MBjjOElJvYrVhQeYm6J0bdYUvGm3g4sgwHUxIJ06wMHh4
 jgszFa2o5lFQW8R0FhShVZipA+2R9HuGLYUGk=
X-Google-DKIM-Signature: v=1; a=rsa-sha256; c=relaxed/relaxed;
 d=1e100.net; s=20230601; t=1699969498; x=1700574298;
 h=cc:to:from:subject:message-id:date:x-gm-message-state:from:to:cc
 :subject:date:message-id:reply-to;
 bh=nej7Ufey8uHM34Ml224iOQBstleJPKc+WybNFhnuU8E=;
 b=CRSSs1N0fwjjeyZ97GuXK3mhWgHNJbwbtkmZDVbpuqDb0m6TNU1wsARtIwgl7guAE/
 DIwYrwq/RB4u8+VQscnQLacksj4uDV7Y31JeeGTyrX2e0VwKFrbguBbgVray5GjO1mtv
 sZPVHns00mYor3wGnfFzh3el3BNDL5Lu7+4PJo9JAtzmXnEIJblfkCPWLaO4iBEXkyCd
 vuPTVvfoLT89xWA1pnmykOqKrnRj4OzHVqAgdJUUtkIn0tS+yNdnicrV90FzBi/vt+R+
 AOhkjzttNWKuREKGJZwKwS82VOk/+S5VzPM9/5HTyIWsPSGp7KqJef3IaRPYOB/Ut/90
 N0Ew==
X-Gm-Message-State: AOJu0YwLR6HjsM7BtSkQa/3Plcj3zpex2rEq7a85GbtrMLNdxRMLB2K/
 RST9kSkO5KpU58mGUPK6uvpyvn4NDXHD3odu3qKb0wk3trqNWDAg5AYN896lSqGOQq50mXH3Uw=
 =
X-Google-Smtp-Source: AGHT+IEfEEi/G8pWIYgxEDTQlxMgDKc1zkNghdb4y+HaTFAP2XzUTYIZLPfRfnUVLu1gDcMEb7RFda4S9Y8z
X-Received: by 2002:a05:6512:1086:b0:509:8dee:71e with SMTP id
 j6-20020a056512108600b005098dee071emr9343351lfg.0.1699969498116; 
 Tue, 14 Nov 2023 05:44:58 -0800 (PST)
Received: from postal.iol.unh.edu (postal.iol.unh.edu.
 [2606:4100:3880:1234::84]) by smtp-relay.gmail.com with ESMTPS id
 t8-20020a19ad08000000b005091412525csm1754106lfc.10.2023.11.14.05.44.57
 (version=TLS1_2 cipher=ECDHE-ECDSA-AES128-GCM-SHA256 bits=128/128);
 Tue, 14 Nov 2023 05:44:58 -0800 (PST)
X-Relaying-Domain: iol.unh.edu
Date: Tue, 14 Nov 2023 05:44:58 -0800 (PST)
Message-ID: <655379da.190a0220.65a9f.686fSMTPIN_ADDED_MISSING@mx.google.com>
Received: from [172.21.0.2] (unknown [172.18.0.240])
 by postal.iol.unh.edu (Postfix) with ESMTP id 23193605C318;
 Tue, 14 Nov 2023 08:44:57 -0500 (EST)
Subject: |SUCCESS| pw134257 [PATCH] vfio: add get device info API
From: dpdklab@iol.unh.edu
To: Test Report <test-report@dpdk.org>
Cc: dpdk-test-reports@iol.unh.edu
Content-Type: text/plain
X-BeenThere: test-report@dpdk.org
X-Mailman-Version: 2.1.29
Precedence: list
List-Id: automatic DPDK test reports <test-report.dpdk.org>
List-Unsubscribe: <https://mails.dpdk.org/options/test-report>,
 <mailto:test-report-request@dpdk.org?subject=unsubscribe>
List-Archive: <http://mails.dpdk.org/archives/test-report/>
List-Post: <mailto:test-report@dpdk.org>
List-Help: <mailto:test-report-request@dpdk.org?subject=help>
List-Subscribe: <https://mails.dpdk.org/listinfo/test-report>,
 <mailto:test-report-request@dpdk.org?subject=subscribe>
Errors-To: test-report-bounces@dpdk.org

Test-Label: iol-compile-arm64-testing
Test-Status: SUCCESS
http://dpdk.org/patch/134257

_Testing PASS_

Submitter: Mingjin Ye <mingjinx.ye@intel.com>
Date: Tuesday, November 14 2023 10:48:16 
DPDK git baseline: Repo:dpdk
  Branch: master
  CommitID:737faa1b4331f6395bc3a665159a489f404e6052

134257 --> testing pass

Test environment and result as below:

+----------------------------------------+--------------------+
|              Environment               | dpdk_meson_compile |
+========================================+====================+
| Ubuntu 20.04 ARM SVE                   | PASS               |
+----------------------------------------+--------------------+
| Fedora 37 (ARM)                        | PASS               |
+----------------------------------------+--------------------+
| Ubuntu 20.04 ARM Clang Cross Compile   | PASS               |
+----------------------------------------+--------------------+
| CentOS Stream 9 (ARM)                  | PASS               |
+----------------------------------------+--------------------+
| Ubuntu 20.04 (ARM)                     | PASS               |
+----------------------------------------+--------------------+
| Fedora 38 (ARM)                        | PASS               |
+----------------------------------------+--------------------+
| Debian 11 (Buster) (ARM)               | PASS               |
+----------------------------------------+--------------------+
| Ubuntu 20.04 aarch32 GCC Cross Compile | PASS               |
+----------------------------------------+--------------------+


Ubuntu 20.04 ARM SVE
	Kernel: 5.4.0-80-generic
	Compiler: gcc 10.3.0 (Ubuntu 10.3.0-1ubuntu1~20.04)

Fedora 37 (ARM)
	Kernel: Depends on container host
	Compiler: gcc 12.3.1

Ubuntu 20.04 ARM Clang Cross Compile
	Kernel: 5.4.0-72-generic
	Compiler: clang version 10.0.0-4ubuntu1

CentOS Stream 9 (ARM)
	Kernel: Container Host Kernel
	Compiler: gcc 11.3.1

Ubuntu 20.04 (ARM)
	Kernel: Container Host Kernel
	Compiler: gcc 9.4.0

Fedora 38 (ARM)
	Kernel: Depends on container host
	Compiler: gcc 13.1.1

Debian 11 (Buster) (ARM)
	Kernel: Container Host Kernel
	Compiler: gcc 10.2.1

Ubuntu 20.04 aarch32 GCC Cross Compile
	Kernel: 5.4.0-72-generic
	Compiler: gcc 9.3.0

To view detailed results, visit:
https://lab.dpdk.org/results/dashboard/patchsets/28374/

UNH-IOL DPDK Community Lab

To manage your email subscriptions, visit: 
https://lab.dpdk.org/results/dashboard/preferences/subscriptions/