From mboxrd@z Thu Jan  1 00:00:00 1970
Return-Path: <test-report-bounces@dpdk.org>
Received: from mails.dpdk.org (mails.dpdk.org [217.70.189.124])
	by inbox.dpdk.org (Postfix) with ESMTP id 41B624332B
	for <public@inbox.dpdk.org>; Tue, 14 Nov 2023 14:45:13 +0100 (CET)
Received: from mails.dpdk.org (localhost [127.0.0.1])
	by mails.dpdk.org (Postfix) with ESMTP id 3E19840279;
	Tue, 14 Nov 2023 14:45:13 +0100 (CET)
Received: from mail-lj1-f228.google.com (mail-lj1-f228.google.com
 [209.85.208.228])
 by mails.dpdk.org (Postfix) with ESMTP id DFE8E40279
 for <test-report@dpdk.org>; Tue, 14 Nov 2023 14:45:11 +0100 (CET)
Received: by mail-lj1-f228.google.com with SMTP id
 38308e7fff4ca-2c834c52b5aso53021181fa.1
 for <test-report@dpdk.org>; Tue, 14 Nov 2023 05:45:11 -0800 (PST)
DKIM-Signature: v=1; a=rsa-sha256; c=relaxed/relaxed;
 d=iol.unh.edu; s=unh-iol; t=1699969511; x=1700574311; darn=dpdk.org;
 h=cc:to:from:subject:message-id:date:from:to:cc:subject:date
 :message-id:reply-to;
 bh=wDefK1Re72RBKNFEy0IUOhNMnkWEYIdHjFJ5EutHGU0=;
 b=hKUib8tWT26dVtjZO1ULAEfz61E7No7IkPZKT5Oo/u+gK197B0RIkbT7u5mXcumArC
 EuqZMEDgIuBgD93peh1CdSD6HgFbtD+BIZjCrNe1nRWlXLtFyimL53bjyZOK/u5geaR+
 7KPu2e/9N1YrFhh04vdP9j2wjUORimYn+kgUw=
X-Google-DKIM-Signature: v=1; a=rsa-sha256; c=relaxed/relaxed;
 d=1e100.net; s=20230601; t=1699969511; x=1700574311;
 h=cc:to:from:subject:message-id:date:x-gm-message-state:from:to:cc
 :subject:date:message-id:reply-to;
 bh=wDefK1Re72RBKNFEy0IUOhNMnkWEYIdHjFJ5EutHGU0=;
 b=BYenW/k0k8F3cBum+hAdv8cmYIHAB+K1NAQr7V8GAw8LUnrA7oWF+NDzmdiBwSVuWh
 IkCTWEVslw5sBFeawHGUogvqPn1DpltYFgl/4ukeCfGdb69IJ8hG08kFRxTrav8Vizd+
 +F4MIkZFeuxoqQ6iq5kPnbH93pHt9HYJYzKyiFU0Ju0lKAjB/ruvGv4W4ljRhmEylNpu
 xfQJAMmssAzr7PTfxvninuVn8B51fEovbhV4hBdkzRl6WVhrw+AlHFttmiKErObToytg
 x9IZ41Adw3qafq65XFaUPeYKC+r8Rqf/tcJd8hK5VpYoJ2U1m/u4Rod8g2arvf0i74aa
 ibww==
X-Gm-Message-State: AOJu0YwGkGITK5eVypZsCJABLpDleIgtW5h12uuZO5E96XwPXgyr0aiT
 1mw0GHpKfg5PBtaK/6yMUeaTgifXtNmJdSosxayMRDfcTEgbM12hXFJExA==
X-Google-Smtp-Source: AGHT+IFUaowzRTR25W4mUBId2KuevnvTOc6S1m6YqmyQ+0gkRk8ix8dA5g+5bFBcUD+l2r2lQc+kPVXfGIez
X-Received: by 2002:a2e:9a92:0:b0:2c5:1d11:5691 with SMTP id
 p18-20020a2e9a92000000b002c51d115691mr1922010lji.28.1699969511477; 
 Tue, 14 Nov 2023 05:45:11 -0800 (PST)
Received: from postal.iol.unh.edu (postal.iol.unh.edu. [132.177.123.84])
 by smtp-relay.gmail.com with ESMTPS id
 o1-20020a05600c4fc100b0040773ca6c02sm5993766wmq.37.2023.11.14.05.45.11
 (version=TLS1_2 cipher=ECDHE-ECDSA-AES128-GCM-SHA256 bits=128/128);
 Tue, 14 Nov 2023 05:45:11 -0800 (PST)
X-Relaying-Domain: iol.unh.edu
Date: Tue, 14 Nov 2023 05:45:11 -0800 (PST)
Message-ID: <655379e7.050a0220.ea1b6.7a40SMTPIN_ADDED_MISSING@mx.google.com>
Received: from [172.21.0.2] (unknown [172.18.0.240])
 by postal.iol.unh.edu (Postfix) with ESMTP id 8DF0B605C318;
 Tue, 14 Nov 2023 08:45:10 -0500 (EST)
Subject: |SUCCESS| pw134257 [PATCH] vfio: add get device info API
From: dpdklab@iol.unh.edu
To: Test Report <test-report@dpdk.org>
Cc: dpdk-test-reports@iol.unh.edu
Content-Type: text/plain
X-BeenThere: test-report@dpdk.org
X-Mailman-Version: 2.1.29
Precedence: list
List-Id: automatic DPDK test reports <test-report.dpdk.org>
List-Unsubscribe: <https://mails.dpdk.org/options/test-report>,
 <mailto:test-report-request@dpdk.org?subject=unsubscribe>
List-Archive: <http://mails.dpdk.org/archives/test-report/>
List-Post: <mailto:test-report@dpdk.org>
List-Help: <mailto:test-report-request@dpdk.org?subject=help>
List-Subscribe: <https://mails.dpdk.org/listinfo/test-report>,
 <mailto:test-report-request@dpdk.org?subject=subscribe>
Errors-To: test-report-bounces@dpdk.org

Test-Label: iol-compile-amd64-testing
Test-Status: SUCCESS
http://dpdk.org/patch/134257

_Testing PASS_

Submitter: Mingjin Ye <mingjinx.ye@intel.com>
Date: Tuesday, November 14 2023 10:48:16 
DPDK git baseline: Repo:dpdk
  Branch: master
  CommitID:737faa1b4331f6395bc3a665159a489f404e6052

134257 --> testing pass

Test environment and result as below:

+---------------------+--------------------+----------------------+
|     Environment     | dpdk_meson_compile | dpdk_mingw64_compile |
+=====================+====================+======================+
| FreeBSD 13          | PASS               | SKIPPED              |
+---------------------+--------------------+----------------------+
| Debian Buster       | PASS               | SKIPPED              |
+---------------------+--------------------+----------------------+
| CentOS Stream 8     | PASS               | SKIPPED              |
+---------------------+--------------------+----------------------+
| CentOS Stream 9     | PASS               | SKIPPED              |
+---------------------+--------------------+----------------------+
| Fedora 37           | PASS               | SKIPPED              |
+---------------------+--------------------+----------------------+
| Fedora 38           | PASS               | SKIPPED              |
+---------------------+--------------------+----------------------+
| Ubuntu 22.04        | PASS               | SKIPPED              |
+---------------------+--------------------+----------------------+
| Ubuntu 20.04        | PASS               | SKIPPED              |
+---------------------+--------------------+----------------------+
| openSUSE Leap 15    | PASS               | SKIPPED              |
+---------------------+--------------------+----------------------+
| RHEL8               | PASS               | SKIPPED              |
+---------------------+--------------------+----------------------+
| Alpine              | PASS               | SKIPPED              |
+---------------------+--------------------+----------------------+
| Windows Server 2019 | PASS               | PASS                 |
+---------------------+--------------------+----------------------+
| Debian Bullseye     | PASS               | SKIPPED              |
+---------------------+--------------------+----------------------+


FreeBSD 13
	Kernel: 13.0
	Compiler: clang 11.0.1

Debian Buster
	Kernel: 5.4.0-122-generic
	Compiler: gcc 8.3.0-6

CentOS Stream 8
	Kernel: 4.18.0-240.10.1.el8_3.x86_64
	Compiler: gcc 8.4.1 20200928

CentOS Stream 9
	Kernel: 4.18.0-240.10.1.el8_3.x86_64
	Compiler: gcc 11.3.1 20220421

Fedora 37
	Kernel: Depends on container host system
	Compiler: gcc 12.3.1

Fedora 38
	Kernel: Depends on container host
	Compiler: gcc 13.1.1

Ubuntu 22.04
	Kernel: 4.18.0-240.10.1.el8_3.x86_64
	Compiler: gcc 11.3.0

Ubuntu 20.04
	Kernel: 5.4.0-153-generic
	Compiler: gcc 9.4.0-1ubuntu1~20.04.1

openSUSE Leap 15
	Kernel: 4.18.0-240.10.1.el8_3.x86_64
	Compiler: gcc 7.5.0

RHEL8
	Kernel: 4.18.0-240.10.1.el8_3.x86_64
	Compiler: gcc 8.3.1 20191121 (Red Hat 8.3.1-5)

Alpine
	Kernel: 5.4.0-73-generic
	Compiler: gcc (Alpine 10.3.1_git20210424) 10.3.1 20210424

Windows Server 2019
	Kernel: 10.0
	Compiler: clang 14.0 and gcc 8.1.0 (MinGW)

Debian Bullseye
	Kernel: 5.4.0-122-generic
	Compiler: gcc 10.2.1-6

To view detailed results, visit:
https://lab.dpdk.org/results/dashboard/patchsets/28374/

UNH-IOL DPDK Community Lab

To manage your email subscriptions, visit: 
https://lab.dpdk.org/results/dashboard/preferences/subscriptions/