From mboxrd@z Thu Jan  1 00:00:00 1970
Return-Path: <test-report-bounces@dpdk.org>
Received: from mails.dpdk.org (mails.dpdk.org [217.70.189.124])
	by inbox.dpdk.org (Postfix) with ESMTP id 2DD664332B
	for <public@inbox.dpdk.org>; Tue, 14 Nov 2023 14:47:48 +0100 (CET)
Received: from mails.dpdk.org (localhost [127.0.0.1])
	by mails.dpdk.org (Postfix) with ESMTP id 29BE740279;
	Tue, 14 Nov 2023 14:47:48 +0100 (CET)
Received: from mail-ej1-f98.google.com (mail-ej1-f98.google.com
 [209.85.218.98]) by mails.dpdk.org (Postfix) with ESMTP id E155040279
 for <test-report@dpdk.org>; Tue, 14 Nov 2023 14:47:40 +0100 (CET)
Received: by mail-ej1-f98.google.com with SMTP id
 a640c23a62f3a-9e8b36e36e1so334640566b.0
 for <test-report@dpdk.org>; Tue, 14 Nov 2023 05:47:40 -0800 (PST)
DKIM-Signature: v=1; a=rsa-sha256; c=relaxed/relaxed;
 d=iol.unh.edu; s=unh-iol; t=1699969660; x=1700574460; darn=dpdk.org;
 h=cc:to:from:subject:message-id:date:from:to:cc:subject:date
 :message-id:reply-to;
 bh=3nM7HoHM8y4FQeJQ2v/48rFnScQbnmDGcP6w4XNyzgE=;
 b=HLAVqI8R/joQaCqNxa/XouoLUDyg5nUK/JrcfjQCUS5I2/iojy+WR793AVpF6vDcxU
 hDL5zE9Q0clvlSorhGze0Za02R9yWXsh7TuXyK8J+ZxIBnLOQOlGoG/4XOt3LtgVFjCG
 Qap9Aaj9jqz/lWLnqQp7vqMK9LE7rYbqFM2NI=
X-Google-DKIM-Signature: v=1; a=rsa-sha256; c=relaxed/relaxed;
 d=1e100.net; s=20230601; t=1699969660; x=1700574460;
 h=cc:to:from:subject:message-id:date:x-gm-message-state:from:to:cc
 :subject:date:message-id:reply-to;
 bh=3nM7HoHM8y4FQeJQ2v/48rFnScQbnmDGcP6w4XNyzgE=;
 b=bk2uhkgxbik3xpdxqSe8JGAtuNjQB95VWjepfAV3DohWkd7HdiEjAPqiIhTuGNVhs+
 YGCakfa8UbUgHLE6u4OlQPP+b/44IC7rL/YpAmDVvs8xdGxl1BU9kAIRo0O/2fOk1fUY
 2EwjVQYr/ZoeGww06BkNAcTNwQli6N50UNTbpQlX/z8BEVTzatq77S/2dpOtU3079auj
 a2AaPK5M+tTaJ7IH5UoOojrOXuvXEy+Pn2yf8i9djoClrhV7WxOZeIjwlv4Bgin4/ONs
 KxZR6aHK31mpBrB7yERVWClVQzdyZrn6v8Llxnw+jsKJFZBW8MBCRPLWoCsSAbYI2Rmj
 X+CA==
X-Gm-Message-State: AOJu0YwD2/OhpgK4FdcKbaUizY6vxAE+ho3dn51fnhzwsErzbwNiMMdh
 +KsZ2BfF7Y+eXzh/zJ8iN1G/jM6L2mXz592lxJBZZs1FFD2RvmIuWBhr5oTSznI4jB6hhncimg=
 =
X-Google-Smtp-Source: AGHT+IG1vfHORtFagIRwxjpVrS0OANP8hKDyzVJ1Dqrs1FYa5ANeu9tgBwvhqNDbUwAequffEmidoSUkrCXy
X-Received: by 2002:a17:906:7185:b0:9a5:846d:d81f with SMTP id
 h5-20020a170906718500b009a5846dd81fmr6586087ejk.17.1699969660648; 
 Tue, 14 Nov 2023 05:47:40 -0800 (PST)
Received: from postal.iol.unh.edu (postal.iol.unh.edu.
 [2606:4100:3880:1234::84]) by smtp-relay.gmail.com with ESMTPS id
 z15-20020a1709060acf00b009930672b849sm2167152ejf.266.2023.11.14.05.47.40
 (version=TLS1_2 cipher=ECDHE-ECDSA-AES128-GCM-SHA256 bits=128/128);
 Tue, 14 Nov 2023 05:47:40 -0800 (PST)
X-Relaying-Domain: iol.unh.edu
Date: Tue, 14 Nov 2023 05:47:40 -0800 (PST)
Message-ID: <65537a7c.170a0220.47883.a995SMTPIN_ADDED_MISSING@mx.google.com>
Received: from [172.21.0.2] (unknown [172.18.0.240])
 by postal.iol.unh.edu (Postfix) with ESMTP id D1371605C318;
 Tue, 14 Nov 2023 08:47:39 -0500 (EST)
Subject: |SUCCESS| pw134257 [PATCH] vfio: add get device info API
From: dpdklab@iol.unh.edu
To: Test Report <test-report@dpdk.org>
Cc: dpdk-test-reports@iol.unh.edu
Content-Type: text/plain
X-BeenThere: test-report@dpdk.org
X-Mailman-Version: 2.1.29
Precedence: list
List-Id: automatic DPDK test reports <test-report.dpdk.org>
List-Unsubscribe: <https://mails.dpdk.org/options/test-report>,
 <mailto:test-report-request@dpdk.org?subject=unsubscribe>
List-Archive: <http://mails.dpdk.org/archives/test-report/>
List-Post: <mailto:test-report@dpdk.org>
List-Help: <mailto:test-report-request@dpdk.org?subject=help>
List-Subscribe: <https://mails.dpdk.org/listinfo/test-report>,
 <mailto:test-report-request@dpdk.org?subject=subscribe>
Errors-To: test-report-bounces@dpdk.org

Test-Label: iol-unit-amd64-testing
Test-Status: SUCCESS
http://dpdk.org/patch/134257

_Testing PASS_

Submitter: Mingjin Ye <mingjinx.ye@intel.com>
Date: Tuesday, November 14 2023 10:48:16 
DPDK git baseline: Repo:dpdk
  Branch: master
  CommitID:737faa1b4331f6395bc3a665159a489f404e6052

134257 --> testing pass

Test environment and result as below:

+------------------+----------------+
|   Environment    | dpdk_unit_test |
+==================+================+
| CentOS Stream 8  | PASS           |
+------------------+----------------+
| CentOS Stream 9  | PASS           |
+------------------+----------------+
| Fedora 38        | PASS           |
+------------------+----------------+
| Fedora 37        | PASS           |
+------------------+----------------+
| Debian Bullseye  | PASS           |
+------------------+----------------+
| openSUSE Leap 15 | PASS           |
+------------------+----------------+
| RHEL8            | PASS           |
+------------------+----------------+
| Ubuntu 20.04     | PASS           |
+------------------+----------------+
| Ubuntu 22.04     | PASS           |
+------------------+----------------+


CentOS Stream 8
	Kernel: 4.18.0-240.10.1.el8_3.x86_64
	Compiler: gcc 8.4.1 20200928

CentOS Stream 9
	Kernel: 4.18.0-240.10.1.el8_3.x86_64
	Compiler: gcc 11.3.1 20220421

Fedora 38
	Kernel: Depends on container host
	Compiler: gcc 13.1.1

Fedora 37
	Kernel: Depends on container host system
	Compiler: gcc 12.3.1

Debian Bullseye
	Kernel: 5.4.0-122-generic
	Compiler: gcc 10.2.1-6

openSUSE Leap 15
	Kernel: 4.18.0-240.10.1.el8_3.x86_64
	Compiler: gcc 7.5.0

RHEL8
	Kernel: 4.18.0-240.10.1.el8_3.x86_64
	Compiler: gcc 8.3.1 20191121 (Red Hat 8.3.1-5)

Ubuntu 20.04
	Kernel: 5.4.0-153-generic
	Compiler: gcc 9.4.0-1ubuntu1~20.04.1

Ubuntu 22.04
	Kernel: 4.18.0-240.10.1.el8_3.x86_64
	Compiler: gcc 11.3.0

To view detailed results, visit:
https://lab.dpdk.org/results/dashboard/patchsets/28374/

UNH-IOL DPDK Community Lab

To manage your email subscriptions, visit: 
https://lab.dpdk.org/results/dashboard/preferences/subscriptions/