From mboxrd@z Thu Jan  1 00:00:00 1970
Return-Path: <test-report-bounces@dpdk.org>
Received: from mails.dpdk.org (mails.dpdk.org [217.70.189.124])
	by inbox.dpdk.org (Postfix) with ESMTP id 530554332B
	for <public@inbox.dpdk.org>; Tue, 14 Nov 2023 14:48:09 +0100 (CET)
Received: from mails.dpdk.org (localhost [127.0.0.1])
	by mails.dpdk.org (Postfix) with ESMTP id 4E5C740279;
	Tue, 14 Nov 2023 14:48:09 +0100 (CET)
Received: from mail-lj1-f226.google.com (mail-lj1-f226.google.com
 [209.85.208.226])
 by mails.dpdk.org (Postfix) with ESMTP id 9A72A40279
 for <test-report@dpdk.org>; Tue, 14 Nov 2023 14:47:59 +0100 (CET)
Received: by mail-lj1-f226.google.com with SMTP id
 38308e7fff4ca-2c54c8934abso75955721fa.0
 for <test-report@dpdk.org>; Tue, 14 Nov 2023 05:47:59 -0800 (PST)
DKIM-Signature: v=1; a=rsa-sha256; c=relaxed/relaxed;
 d=iol.unh.edu; s=unh-iol; t=1699969679; x=1700574479; darn=dpdk.org;
 h=cc:to:from:subject:message-id:date:from:to:cc:subject:date
 :message-id:reply-to;
 bh=nej7Ufey8uHM34Ml224iOQBstleJPKc+WybNFhnuU8E=;
 b=I/6JqNc5D6p7D6U+WXcNc0LImv6JccbxqXLFw/WMcpLxn04jQFUcxK3U5meVVslELV
 bpLwa5Mu4lC3wlCs7EWG1xv4eCkRFBcw3JlrXsvfOVw/T5aY7z1OCZzfX8+9EH6mjlmZ
 MiGiA0YFch+2Hemm259qFKKIv6/I6Qq3Go9NA=
X-Google-DKIM-Signature: v=1; a=rsa-sha256; c=relaxed/relaxed;
 d=1e100.net; s=20230601; t=1699969679; x=1700574479;
 h=cc:to:from:subject:message-id:date:x-gm-message-state:from:to:cc
 :subject:date:message-id:reply-to;
 bh=nej7Ufey8uHM34Ml224iOQBstleJPKc+WybNFhnuU8E=;
 b=bYoQykafm9/tpuimnuHYaYyTGrc7heNz42vd2aRO77dK0mvNRk034pE+rnxMq3ogFU
 YRm4mBH1QlSXiNDHxKY6JLH4AvZJD1/ETteJln9/rI0UE/BJ9qzBNkOBGmakB/IHJarT
 BaW6nyaQeJs7n3dub+qr7Y0yjuAMWpfWYsoQx22dPwm2FFocgodHQ7a2HFnTk6SaHfmh
 It3fq952MYkggJ3znc3r1L54ZI1IeZbGYFz8bYMF8MuLLG+1dUPN7ahbnV1d1bxq17jk
 U8SJH/iubtOCooopUM+rpVax608U+BrFGoMHQfd05CcnShcnMZ+4lPKH4tPXwNG9/y1F
 KheA==
X-Gm-Message-State: AOJu0YxXhW9FMZQ7M964zaOx5fpYZgEuozdfV/44GCR93wSC5JRFvB+p
 PMAuY6QtgdoJvDeqnqw/nxO02LoSinsUA3L0dVe3tKKgrgwVAyMddK9XyAzHqFG4gSLRLC1gOQ=
 =
X-Google-Smtp-Source: AGHT+IEar+r+eH8T55Fwlv3i62PhFm3VNGuOG2+lX4KFUdMUkBdp3Klfkf77Fp8aXka+RdfyjMlLShxWyMRG
X-Received: by 2002:a2e:9d03:0:b0:2c5:2df8:d321 with SMTP id
 t3-20020a2e9d03000000b002c52df8d321mr1688431lji.36.1699969679194; 
 Tue, 14 Nov 2023 05:47:59 -0800 (PST)
Received: from postal.iol.unh.edu (postal.iol.unh.edu.
 [2606:4100:3880:1234::84]) by smtp-relay.gmail.com with ESMTPS id
 gw5-20020a05600c850500b0040639ea4cefsm6018374wmb.19.2023.11.14.05.47.59
 (version=TLS1_2 cipher=ECDHE-ECDSA-AES128-GCM-SHA256 bits=128/128);
 Tue, 14 Nov 2023 05:47:59 -0800 (PST)
X-Relaying-Domain: iol.unh.edu
Date: Tue, 14 Nov 2023 05:47:59 -0800 (PST)
Message-ID: <65537a8f.050a0220.fa048.8f23SMTPIN_ADDED_MISSING@mx.google.com>
Received: from [172.21.0.3] (unknown [172.18.0.240])
 by postal.iol.unh.edu (Postfix) with ESMTP id 4E8E6605C318;
 Tue, 14 Nov 2023 08:47:58 -0500 (EST)
Subject: |SUCCESS| pw134257 [PATCH] vfio: add get device info API
From: dpdklab@iol.unh.edu
To: Test Report <test-report@dpdk.org>
Cc: dpdk-test-reports@iol.unh.edu
Content-Type: text/plain
X-BeenThere: test-report@dpdk.org
X-Mailman-Version: 2.1.29
Precedence: list
List-Id: automatic DPDK test reports <test-report.dpdk.org>
List-Unsubscribe: <https://mails.dpdk.org/options/test-report>,
 <mailto:test-report-request@dpdk.org?subject=unsubscribe>
List-Archive: <http://mails.dpdk.org/archives/test-report/>
List-Post: <mailto:test-report@dpdk.org>
List-Help: <mailto:test-report-request@dpdk.org?subject=help>
List-Subscribe: <https://mails.dpdk.org/listinfo/test-report>,
 <mailto:test-report-request@dpdk.org?subject=subscribe>
Errors-To: test-report-bounces@dpdk.org

Test-Label: iol-compile-arm64-testing
Test-Status: SUCCESS
http://dpdk.org/patch/134257

_Testing PASS_

Submitter: Mingjin Ye <mingjinx.ye@intel.com>
Date: Tuesday, November 14 2023 10:48:16 
DPDK git baseline: Repo:dpdk
  Branch: master
  CommitID:737faa1b4331f6395bc3a665159a489f404e6052

134257 --> testing pass

Test environment and result as below:

+----------------------------------------+--------------------+
|              Environment               | dpdk_meson_compile |
+========================================+====================+
| Ubuntu 20.04 ARM SVE                   | PASS               |
+----------------------------------------+--------------------+
| Fedora 37 (ARM)                        | PASS               |
+----------------------------------------+--------------------+
| Ubuntu 20.04 ARM Clang Cross Compile   | PASS               |
+----------------------------------------+--------------------+
| CentOS Stream 9 (ARM)                  | PASS               |
+----------------------------------------+--------------------+
| Ubuntu 20.04 (ARM)                     | PASS               |
+----------------------------------------+--------------------+
| Fedora 38 (ARM)                        | PASS               |
+----------------------------------------+--------------------+
| Debian 11 (Buster) (ARM)               | PASS               |
+----------------------------------------+--------------------+
| Ubuntu 20.04 aarch32 GCC Cross Compile | PASS               |
+----------------------------------------+--------------------+


Ubuntu 20.04 ARM SVE
	Kernel: 5.4.0-80-generic
	Compiler: gcc 10.3.0 (Ubuntu 10.3.0-1ubuntu1~20.04)

Fedora 37 (ARM)
	Kernel: Depends on container host
	Compiler: gcc 12.3.1

Ubuntu 20.04 ARM Clang Cross Compile
	Kernel: 5.4.0-72-generic
	Compiler: clang version 10.0.0-4ubuntu1

CentOS Stream 9 (ARM)
	Kernel: Container Host Kernel
	Compiler: gcc 11.3.1

Ubuntu 20.04 (ARM)
	Kernel: Container Host Kernel
	Compiler: gcc 9.4.0

Fedora 38 (ARM)
	Kernel: Depends on container host
	Compiler: gcc 13.1.1

Debian 11 (Buster) (ARM)
	Kernel: Container Host Kernel
	Compiler: gcc 10.2.1

Ubuntu 20.04 aarch32 GCC Cross Compile
	Kernel: 5.4.0-72-generic
	Compiler: gcc 9.3.0

To view detailed results, visit:
https://lab.dpdk.org/results/dashboard/patchsets/28374/

UNH-IOL DPDK Community Lab

To manage your email subscriptions, visit: 
https://lab.dpdk.org/results/dashboard/preferences/subscriptions/