From mboxrd@z Thu Jan  1 00:00:00 1970
Return-Path: <test-report-bounces@dpdk.org>
Received: from mails.dpdk.org (mails.dpdk.org [217.70.189.124])
	by inbox.dpdk.org (Postfix) with ESMTP id 90C164332B
	for <public@inbox.dpdk.org>; Tue, 14 Nov 2023 14:48:46 +0100 (CET)
Received: from mails.dpdk.org (localhost [127.0.0.1])
	by mails.dpdk.org (Postfix) with ESMTP id 8D35B402CD;
	Tue, 14 Nov 2023 14:48:46 +0100 (CET)
Received: from mail-ej1-f97.google.com (mail-ej1-f97.google.com
 [209.85.218.97]) by mails.dpdk.org (Postfix) with ESMTP id 6B63D40279
 for <test-report@dpdk.org>; Tue, 14 Nov 2023 14:48:41 +0100 (CET)
Received: by mail-ej1-f97.google.com with SMTP id
 a640c23a62f3a-9e4675c7a5fso800086266b.0
 for <test-report@dpdk.org>; Tue, 14 Nov 2023 05:48:41 -0800 (PST)
DKIM-Signature: v=1; a=rsa-sha256; c=relaxed/relaxed;
 d=iol.unh.edu; s=unh-iol; t=1699969721; x=1700574521; darn=dpdk.org;
 h=cc:to:from:subject:message-id:date:from:to:cc:subject:date
 :message-id:reply-to;
 bh=3nM7HoHM8y4FQeJQ2v/48rFnScQbnmDGcP6w4XNyzgE=;
 b=LNmE51+ZaP7dvUtWFrrg4JwSx2Y478DN3PG9IFWFN2taKG8cPFTRW3esTMbBS7VH0u
 xY4jqU9NvGs2Xdo5BuIlUd9PwcC5nwuZdkD4GljGRxXnjATpo95bNlETVRDyw1UGHDuv
 HsXJuYynZJi+IIszi2kPuar2EUPxPNSnzAiEs=
X-Google-DKIM-Signature: v=1; a=rsa-sha256; c=relaxed/relaxed;
 d=1e100.net; s=20230601; t=1699969721; x=1700574521;
 h=cc:to:from:subject:message-id:date:x-gm-message-state:from:to:cc
 :subject:date:message-id:reply-to;
 bh=3nM7HoHM8y4FQeJQ2v/48rFnScQbnmDGcP6w4XNyzgE=;
 b=Em6qrin56fF3Bve7J6DeXsLGhft5QA9IcxFvnr5avg1KvbQSZ5lV+wrD7qYECHxkfk
 pSbUIUbWdb9GwoHTX8BFtoZUG+vBizH2UIW839XjSD9WllIDmpgttAVBLCEUaJY/WvUT
 6b029Duh/im5jxfLQC8ScNBb+Kyv7UNMUxgqNtDMQsK9dGiFiIQb0e2wm20TiBpKz4fv
 QXBx+Dmw+fRnFFRgNrU916Dj8Pn6H1maRhJiqcruiB2QEORvie3aCkrxnZrdM2n6jQNA
 GV91kf4d2T/dTs4WRo35rxe5s9sGAjcdwxCe2ocL5VAnEaYtDB43yZIU9205Un66PN/5
 s/9w==
X-Gm-Message-State: AOJu0YzTNo9WEWrdTBDxVCe/TJR7MpYpqo5jL+8MkGfTcaOd2UwYwxcO
 Xh+yCXkLdgeGFBlICnCg2MalSqELw2rljuESGDk0XfXMhwmP0KCX+fzUug==
X-Google-Smtp-Source: AGHT+IEE9FKlVrgsI9oFP5Mok25hsWihgISNkBHUWHPyCz8yaz6/PzCAjm3JvI6Zl8dRQu2QfO/ICFcRujfY
X-Received: by 2002:a17:906:f751:b0:9d5:d803:31ee with SMTP id
 jp17-20020a170906f75100b009d5d80331eemr7105597ejb.34.1699969721299; 
 Tue, 14 Nov 2023 05:48:41 -0800 (PST)
Received: from postal.iol.unh.edu (postal.iol.unh.edu. [132.177.123.84])
 by smtp-relay.gmail.com with ESMTPS id
 qx25-20020a170906fcd900b009a2154511ecsm2173526ejb.30.2023.11.14.05.48.41
 (version=TLS1_2 cipher=ECDHE-ECDSA-AES128-GCM-SHA256 bits=128/128);
 Tue, 14 Nov 2023 05:48:41 -0800 (PST)
X-Relaying-Domain: iol.unh.edu
Date: Tue, 14 Nov 2023 05:48:41 -0800 (PST)
Message-ID: <65537ab9.170a0220.af8c6.b0aaSMTPIN_ADDED_MISSING@mx.google.com>
Received: from [172.21.0.4] (unknown [172.18.0.240])
 by postal.iol.unh.edu (Postfix) with ESMTP id 7F717605C318;
 Tue, 14 Nov 2023 08:48:40 -0500 (EST)
Subject: |SUCCESS| pw134257 [PATCH] vfio: add get device info API
From: dpdklab@iol.unh.edu
To: Test Report <test-report@dpdk.org>
Cc: dpdk-test-reports@iol.unh.edu
Content-Type: text/plain
X-BeenThere: test-report@dpdk.org
X-Mailman-Version: 2.1.29
Precedence: list
List-Id: automatic DPDK test reports <test-report.dpdk.org>
List-Unsubscribe: <https://mails.dpdk.org/options/test-report>,
 <mailto:test-report-request@dpdk.org?subject=unsubscribe>
List-Archive: <http://mails.dpdk.org/archives/test-report/>
List-Post: <mailto:test-report@dpdk.org>
List-Help: <mailto:test-report-request@dpdk.org?subject=help>
List-Subscribe: <https://mails.dpdk.org/listinfo/test-report>,
 <mailto:test-report-request@dpdk.org?subject=subscribe>
Errors-To: test-report-bounces@dpdk.org

Test-Label: iol-unit-amd64-testing
Test-Status: SUCCESS
http://dpdk.org/patch/134257

_Testing PASS_

Submitter: Mingjin Ye <mingjinx.ye@intel.com>
Date: Tuesday, November 14 2023 10:48:16 
DPDK git baseline: Repo:dpdk
  Branch: master
  CommitID:737faa1b4331f6395bc3a665159a489f404e6052

134257 --> testing pass

Test environment and result as below:

+------------------+----------------+
|   Environment    | dpdk_unit_test |
+==================+================+
| CentOS Stream 8  | PASS           |
+------------------+----------------+
| CentOS Stream 9  | PASS           |
+------------------+----------------+
| Fedora 38        | PASS           |
+------------------+----------------+
| Fedora 37        | PASS           |
+------------------+----------------+
| Debian Bullseye  | PASS           |
+------------------+----------------+
| openSUSE Leap 15 | PASS           |
+------------------+----------------+
| RHEL8            | PASS           |
+------------------+----------------+
| Ubuntu 20.04     | PASS           |
+------------------+----------------+
| Ubuntu 22.04     | PASS           |
+------------------+----------------+


CentOS Stream 8
	Kernel: 4.18.0-240.10.1.el8_3.x86_64
	Compiler: gcc 8.4.1 20200928

CentOS Stream 9
	Kernel: 4.18.0-240.10.1.el8_3.x86_64
	Compiler: gcc 11.3.1 20220421

Fedora 38
	Kernel: Depends on container host
	Compiler: gcc 13.1.1

Fedora 37
	Kernel: Depends on container host system
	Compiler: gcc 12.3.1

Debian Bullseye
	Kernel: 5.4.0-122-generic
	Compiler: gcc 10.2.1-6

openSUSE Leap 15
	Kernel: 4.18.0-240.10.1.el8_3.x86_64
	Compiler: gcc 7.5.0

RHEL8
	Kernel: 4.18.0-240.10.1.el8_3.x86_64
	Compiler: gcc 8.3.1 20191121 (Red Hat 8.3.1-5)

Ubuntu 20.04
	Kernel: 5.4.0-153-generic
	Compiler: gcc 9.4.0-1ubuntu1~20.04.1

Ubuntu 22.04
	Kernel: 4.18.0-240.10.1.el8_3.x86_64
	Compiler: gcc 11.3.0

To view detailed results, visit:
https://lab.dpdk.org/results/dashboard/patchsets/28374/

UNH-IOL DPDK Community Lab

To manage your email subscriptions, visit: 
https://lab.dpdk.org/results/dashboard/preferences/subscriptions/