From mboxrd@z Thu Jan  1 00:00:00 1970
Return-Path: <test-report-bounces@dpdk.org>
Received: from mails.dpdk.org (mails.dpdk.org [217.70.189.124])
	by inbox.dpdk.org (Postfix) with ESMTP id CD6E54332B
	for <public@inbox.dpdk.org>; Tue, 14 Nov 2023 14:49:30 +0100 (CET)
Received: from mails.dpdk.org (localhost [127.0.0.1])
	by mails.dpdk.org (Postfix) with ESMTP id C974D40279;
	Tue, 14 Nov 2023 14:49:30 +0100 (CET)
Received: from mail-ej1-f98.google.com (mail-ej1-f98.google.com
 [209.85.218.98]) by mails.dpdk.org (Postfix) with ESMTP id 4EEB340279
 for <test-report@dpdk.org>; Tue, 14 Nov 2023 14:49:29 +0100 (CET)
Received: by mail-ej1-f98.google.com with SMTP id
 a640c23a62f3a-9df8d0c2505so1137969766b.0
 for <test-report@dpdk.org>; Tue, 14 Nov 2023 05:49:29 -0800 (PST)
DKIM-Signature: v=1; a=rsa-sha256; c=relaxed/relaxed;
 d=iol.unh.edu; s=unh-iol; t=1699969769; x=1700574569; darn=dpdk.org;
 h=cc:to:from:subject:message-id:date:from:to:cc:subject:date
 :message-id:reply-to;
 bh=3nM7HoHM8y4FQeJQ2v/48rFnScQbnmDGcP6w4XNyzgE=;
 b=J3DWUwcOUB/Mece8avmOrEZH1daEeWJgwEy/Udt90cn6bJ45KMgJsIpmZE5XZXtTYQ
 hztZy6MxDt6/83/WvGsA5+Q7I9CBS5cof+D9hoV/tPR+TlZJkc7EDsNnJjE+O2pFiY6g
 LT4dmr3i7JR7Q6rfNo9hYKec1d7GOZpFfvAnQ=
X-Google-DKIM-Signature: v=1; a=rsa-sha256; c=relaxed/relaxed;
 d=1e100.net; s=20230601; t=1699969769; x=1700574569;
 h=cc:to:from:subject:message-id:date:x-gm-message-state:from:to:cc
 :subject:date:message-id:reply-to;
 bh=3nM7HoHM8y4FQeJQ2v/48rFnScQbnmDGcP6w4XNyzgE=;
 b=C994YPDuBkp6D1ha2NN47vhGoDjgGZt1TSHU7Vc2IkyCj13mZQJEuXsX80901EvVVT
 2uULvLFeZ6aR13TIMv1AUtBGJE4EctP18P0PZHfBtyXJ1XTUC/9awEYlCoHPEQORO3Q2
 TqYzhnq5ATUZ9GJLZfwWTAMQIwOzlfzl6cdCIrFyc7LZkjSatE/syHvTAkyuQTCn889y
 tIFqk6sJxWRfVKS4R6mPpvZX7e79OqKSq1r7Krx5uO+LK72SZdpfdp/HGZXuXhETsuYS
 cwtAFVW+aHK5HT3PlXQWn6fUvy3/Yc82kY1IP7x+aG47XOURQs2aO/AAhPoGAtSLsCz/
 +acA==
X-Gm-Message-State: AOJu0YyLlbyMt2Tex1xJNKBImxmbcmC6nZQMREoW6SiSQIIXIeWpHrAQ
 hwQmWWhCd76f+/EiFtZqRPUzli7hfT/CDj0vyarAloGD74SBNX9tLoQ3xsxQninud73K3FhS6g=
 =
X-Google-Smtp-Source: AGHT+IEqxV0wd9hQ3BXH8sbE0PVZaTR1zguTZhwFYpeRBanNJ37XZ+TABv/i/GMfS1inyhdEqweESLjDAMgZ
X-Received: by 2002:a17:906:ba88:b0:9ec:fbbc:ae7f with SMTP id
 cu8-20020a170906ba8800b009ecfbbcae7fmr2941545ejd.8.1699969769083; 
 Tue, 14 Nov 2023 05:49:29 -0800 (PST)
Received: from postal.iol.unh.edu (postal.iol.unh.edu.
 [2606:4100:3880:1234::84]) by smtp-relay.gmail.com with ESMTPS id
 k15-20020a1709065fcf00b0098dea0a1ec7sm2197820ejv.79.2023.11.14.05.49.28
 (version=TLS1_2 cipher=ECDHE-ECDSA-AES128-GCM-SHA256 bits=128/128);
 Tue, 14 Nov 2023 05:49:29 -0800 (PST)
X-Relaying-Domain: iol.unh.edu
Date: Tue, 14 Nov 2023 05:49:29 -0800 (PST)
Message-ID: <65537ae9.170a0220.17709.afccSMTPIN_ADDED_MISSING@mx.google.com>
Received: from [172.21.0.3] (unknown [172.18.0.240])
 by postal.iol.unh.edu (Postfix) with ESMTP id 44E90605C318;
 Tue, 14 Nov 2023 08:49:28 -0500 (EST)
Subject: |SUCCESS| pw134257 [PATCH] vfio: add get device info API
From: dpdklab@iol.unh.edu
To: Test Report <test-report@dpdk.org>
Cc: dpdk-test-reports@iol.unh.edu
Content-Type: text/plain
X-BeenThere: test-report@dpdk.org
X-Mailman-Version: 2.1.29
Precedence: list
List-Id: automatic DPDK test reports <test-report.dpdk.org>
List-Unsubscribe: <https://mails.dpdk.org/options/test-report>,
 <mailto:test-report-request@dpdk.org?subject=unsubscribe>
List-Archive: <http://mails.dpdk.org/archives/test-report/>
List-Post: <mailto:test-report@dpdk.org>
List-Help: <mailto:test-report-request@dpdk.org?subject=help>
List-Subscribe: <https://mails.dpdk.org/listinfo/test-report>,
 <mailto:test-report-request@dpdk.org?subject=subscribe>
Errors-To: test-report-bounces@dpdk.org

Test-Label: iol-unit-amd64-testing
Test-Status: SUCCESS
http://dpdk.org/patch/134257

_Testing PASS_

Submitter: Mingjin Ye <mingjinx.ye@intel.com>
Date: Tuesday, November 14 2023 10:48:16 
DPDK git baseline: Repo:dpdk
  Branch: master
  CommitID:737faa1b4331f6395bc3a665159a489f404e6052

134257 --> testing pass

Test environment and result as below:

+------------------+----------------+
|   Environment    | dpdk_unit_test |
+==================+================+
| CentOS Stream 8  | PASS           |
+------------------+----------------+
| CentOS Stream 9  | PASS           |
+------------------+----------------+
| Fedora 38        | PASS           |
+------------------+----------------+
| Fedora 37        | PASS           |
+------------------+----------------+
| Debian Bullseye  | PASS           |
+------------------+----------------+
| openSUSE Leap 15 | PASS           |
+------------------+----------------+
| RHEL8            | PASS           |
+------------------+----------------+
| Ubuntu 20.04     | PASS           |
+------------------+----------------+
| Ubuntu 22.04     | PASS           |
+------------------+----------------+


CentOS Stream 8
	Kernel: 4.18.0-240.10.1.el8_3.x86_64
	Compiler: gcc 8.4.1 20200928

CentOS Stream 9
	Kernel: 4.18.0-240.10.1.el8_3.x86_64
	Compiler: gcc 11.3.1 20220421

Fedora 38
	Kernel: Depends on container host
	Compiler: gcc 13.1.1

Fedora 37
	Kernel: Depends on container host system
	Compiler: gcc 12.3.1

Debian Bullseye
	Kernel: 5.4.0-122-generic
	Compiler: gcc 10.2.1-6

openSUSE Leap 15
	Kernel: 4.18.0-240.10.1.el8_3.x86_64
	Compiler: gcc 7.5.0

RHEL8
	Kernel: 4.18.0-240.10.1.el8_3.x86_64
	Compiler: gcc 8.3.1 20191121 (Red Hat 8.3.1-5)

Ubuntu 20.04
	Kernel: 5.4.0-153-generic
	Compiler: gcc 9.4.0-1ubuntu1~20.04.1

Ubuntu 22.04
	Kernel: 4.18.0-240.10.1.el8_3.x86_64
	Compiler: gcc 11.3.0

To view detailed results, visit:
https://lab.dpdk.org/results/dashboard/patchsets/28374/

UNH-IOL DPDK Community Lab

To manage your email subscriptions, visit: 
https://lab.dpdk.org/results/dashboard/preferences/subscriptions/