From mboxrd@z Thu Jan  1 00:00:00 1970
Return-Path: <test-report-bounces@dpdk.org>
Received: from mails.dpdk.org (mails.dpdk.org [217.70.189.124])
	by inbox.dpdk.org (Postfix) with ESMTP id 6B2F44333B
	for <public@inbox.dpdk.org>; Wed, 15 Nov 2023 23:17:04 +0100 (CET)
Received: from mails.dpdk.org (localhost [127.0.0.1])
	by mails.dpdk.org (Postfix) with ESMTP id 4809D400EF;
	Wed, 15 Nov 2023 23:17:04 +0100 (CET)
Received: from mail-lf1-f100.google.com (mail-lf1-f100.google.com
 [209.85.167.100])
 by mails.dpdk.org (Postfix) with ESMTP id E6577400EF
 for <test-report@dpdk.org>; Wed, 15 Nov 2023 23:17:03 +0100 (CET)
Received: by mail-lf1-f100.google.com with SMTP id
 2adb3069b0e04-507c5249d55so187230e87.3
 for <test-report@dpdk.org>; Wed, 15 Nov 2023 14:17:03 -0800 (PST)
DKIM-Signature: v=1; a=rsa-sha256; c=relaxed/relaxed;
 d=iol.unh.edu; s=unh-iol; t=1700086623; x=1700691423; darn=dpdk.org;
 h=cc:to:from:subject:message-id:date:from:to:cc:subject:date
 :message-id:reply-to;
 bh=aY0R4d1CXmXQPYZ4b+dc+JAx8BDNBrQwsbOkS3lt6pU=;
 b=aZOCAzWkOzneUG63NzJoRziqhY3I4pr6eoC05VNt/0MPGtmL0e6Ihf34d71ykXqrr6
 EdFUDid2yRSyM4SDrPMZLCrXmDY4uGWYh7nHBbyrSDD8MVLVQ2HfrEwGNm4xlSOaums1
 GvbLOGu4b+zYcbWEkl0DaSOKe8JE0EmhtvFsM=
X-Google-DKIM-Signature: v=1; a=rsa-sha256; c=relaxed/relaxed;
 d=1e100.net; s=20230601; t=1700086623; x=1700691423;
 h=cc:to:from:subject:message-id:date:x-gm-message-state:from:to:cc
 :subject:date:message-id:reply-to;
 bh=aY0R4d1CXmXQPYZ4b+dc+JAx8BDNBrQwsbOkS3lt6pU=;
 b=QRdZ0bXSn1uS9ug5Wt4JDknDkgrlFULs0KussK2eBpix5gA9fN9Yd25473OKwWgxfs
 t34mYYrskfEobyi1nXAgNwvEFWktcZ498uCB5kTiCC6Ki4Jlw16Gy5QtepKDFdFGCrnr
 RIqHcSZ0mrmj8OIXfR62XGZx3UO0f3/YEobluxwAIKedseBqYqu/yBqJ/21OZTOHqQQt
 A20tHZ9b4sVk83+Wzi4ZYxtIY57udPjVdyscSU7deLHseMGpJQvVpIcv6BXi78pgUXr3
 sdY+mduyfiihBaMgmBXnq5MFLKIXEiKD0B8bnFsrtLyw0onUaJmzj7l4B3Rh2jU3A8Sn
 k0Gg==
X-Gm-Message-State: AOJu0YwCED5eUjiqTyJI/dFlT4aQnL9sn7N+cErlljgk0oGH4FdaIhl2
 XOI55sNpDX6AQ7zUCmSM9ruhUcQMArjeNvfDVTWF2OMX26u7tdJRZcsoP0gQIz6BcQEuVSz0IQ=
 =
X-Google-Smtp-Source: AGHT+IE7+P0RJ4JFUw12uO38o573LwiDMo2uS1+qfBE6Cr9rO+LgMAgCsu9mqjeysnXpvfRHeU7GM57WE8NP
X-Received: by 2002:a05:6512:1083:b0:503:19d9:4b6f with SMTP id
 j3-20020a056512108300b0050319d94b6fmr12152324lfg.0.1700086623241; 
 Wed, 15 Nov 2023 14:17:03 -0800 (PST)
Received: from postal.iol.unh.edu (postal.iol.unh.edu.
 [2606:4100:3880:1234::84]) by smtp-relay.gmail.com with ESMTPS id
 c18-20020a056512239200b005093a6f7f07sm2405992lfv.26.2023.11.15.14.17.03
 (version=TLS1_2 cipher=ECDHE-ECDSA-AES128-GCM-SHA256 bits=128/128);
 Wed, 15 Nov 2023 14:17:03 -0800 (PST)
X-Relaying-Domain: iol.unh.edu
Date: Wed, 15 Nov 2023 14:17:03 -0800 (PST)
Message-ID: <6555435f.050a0220.af8f4.88abSMTPIN_ADDED_MISSING@mx.google.com>
Received: from [172.21.0.2] (unknown [172.18.0.240])
 by postal.iol.unh.edu (Postfix) with ESMTP id 1BF2D605C318;
 Wed, 15 Nov 2023 17:17:02 -0500 (EST)
Subject: |SUCCESS| pw134373 [PATCH] [v2] net/iavf: fix error devargs parsing
From: dpdklab@iol.unh.edu
To: Test Report <test-report@dpdk.org>
Cc: dpdk-test-reports@iol.unh.edu
Content-Type: text/plain
X-BeenThere: test-report@dpdk.org
X-Mailman-Version: 2.1.29
Precedence: list
List-Id: automatic DPDK test reports <test-report.dpdk.org>
List-Unsubscribe: <https://mails.dpdk.org/options/test-report>,
 <mailto:test-report-request@dpdk.org?subject=unsubscribe>
List-Archive: <http://mails.dpdk.org/archives/test-report/>
List-Post: <mailto:test-report@dpdk.org>
List-Help: <mailto:test-report-request@dpdk.org?subject=help>
List-Subscribe: <https://mails.dpdk.org/listinfo/test-report>,
 <mailto:test-report-request@dpdk.org?subject=subscribe>
Errors-To: test-report-bounces@dpdk.org

Test-Label: iol-compile-arm64-testing
Test-Status: SUCCESS
http://dpdk.org/patch/134373

_Testing PASS_

Submitter: Mingjin Ye <mingjinx.ye@intel.com>
Date: Wednesday, November 15 2023 10:13:23 
DPDK git baseline: Repo:dpdk
  Branch: master
  CommitID:92d7ce4afc4a558f27bbc8368823c625f4e0f9dc

134373 --> testing pass

Test environment and result as below:

+----------------------------------------+--------------------+
|              Environment               | dpdk_meson_compile |
+========================================+====================+
| Ubuntu 20.04 ARM SVE                   | PASS               |
+----------------------------------------+--------------------+
| Ubuntu 20.04 ARM GCC Cross Compile     | PASS               |
+----------------------------------------+--------------------+
| Ubuntu 20.04 aarch32 GCC Cross Compile | PASS               |
+----------------------------------------+--------------------+
| Ubuntu 20.04 (ARM)                     | PASS               |
+----------------------------------------+--------------------+
| Ubuntu 20.04 ARM Clang Cross Compile   | PASS               |
+----------------------------------------+--------------------+
| Fedora 38 (ARM)                        | PASS               |
+----------------------------------------+--------------------+
| Debian 11 (Buster) (ARM)               | PASS               |
+----------------------------------------+--------------------+
| CentOS Stream 9 (ARM)                  | PASS               |
+----------------------------------------+--------------------+
| Fedora 38 (ARM Clang)                  | PASS               |
+----------------------------------------+--------------------+
| Fedora 37 (ARM)                        | PASS               |
+----------------------------------------+--------------------+


Ubuntu 20.04 ARM SVE
	Kernel: 5.4.0-80-generic
	Compiler: gcc 10.3.0 (Ubuntu 10.3.0-1ubuntu1~20.04)

Ubuntu 20.04 ARM GCC Cross Compile
	Kernel: 5.4.0-72-generic
	Compiler: aarch64-linux-gnu-gcc (Ubuntu 9.3.0-17ubuntu1~20.04) 9.3.0

Ubuntu 20.04 aarch32 GCC Cross Compile
	Kernel: 5.4.0-72-generic
	Compiler: gcc 9.3.0

Ubuntu 20.04 (ARM)
	Kernel: Container Host Kernel
	Compiler: gcc 9.4.0

Ubuntu 20.04 ARM Clang Cross Compile
	Kernel: 5.4.0-72-generic
	Compiler: clang version 10.0.0-4ubuntu1

Fedora 38 (ARM)
	Kernel: Depends on container host
	Compiler: gcc 13.1.1

Debian 11 (Buster) (ARM)
	Kernel: Container Host Kernel
	Compiler: gcc 10.2.1

CentOS Stream 9 (ARM)
	Kernel: Container Host Kernel
	Compiler: gcc 11.3.1

Fedora 38 (ARM Clang)
	Kernel: Depends on container host
	Compiler: clang 16.0.3

Fedora 37 (ARM)
	Kernel: Depends on container host
	Compiler: gcc 12.3.1

To view detailed results, visit:
https://lab.dpdk.org/results/dashboard/patchsets/28382/

UNH-IOL DPDK Community Lab

To manage your email subscriptions, visit: 
https://lab.dpdk.org/results/dashboard/preferences/subscriptions/